From mboxrd@z Thu Jan 1 00:00:00 1970 Return-Path: Received: from mails.dpdk.org (mails.dpdk.org [217.70.189.124]) by inbox.dpdk.org (Postfix) with ESMTP id 4DC3B466E8 for ; Wed, 7 May 2025 12:13:40 +0200 (CEST) Received: from mails.dpdk.org (localhost [127.0.0.1]) by mails.dpdk.org (Postfix) with ESMTP id 28D774025D; Wed, 7 May 2025 12:13:40 +0200 (CEST) Received: from mail-il1-f225.google.com (mail-il1-f225.google.com [209.85.166.225]) by mails.dpdk.org (Postfix) with ESMTP id 87C8C4025A for ; Wed, 7 May 2025 12:13:39 +0200 (CEST) Received: by mail-il1-f225.google.com with SMTP id e9e14a558f8ab-3d96836c1bcso23492705ab.3 for ; Wed, 07 May 2025 03:13:39 -0700 (PDT) DKIM-Signature: v=1; a=rsa-sha256; c=relaxed/relaxed; d=iol.unh.edu; s=unh-iol; t=1746612819; x=1747217619; darn=dpdk.org; h=references:in-reply-to:cc:to:from:subject:message-id:date:from:to :cc:subject:date:message-id:reply-to; bh=ew7IaCNLk82pruc+g6NK0ekpQOfa82iF8uL1+CSlF3Y=; b=TyDyO1POJLUV4T16pbUl5snASotCUo+Ug040OmTnL2JjU0yVWCKSAyLjzacXkI2Oir 6VQ3lLOpU1Nl2K8uMnNZ0V12/3Kvus/sPB8SAC4Nf0wEXFvFg81gsLmzZLorRgSNZiQY dEAonf0oVPu7X+W/pNQfMWWTcJgNHkmCOZu58= X-Google-DKIM-Signature: v=1; a=rsa-sha256; c=relaxed/relaxed; d=1e100.net; s=20230601; t=1746612819; x=1747217619; h=references:in-reply-to:cc:to:from:subject:message-id:date :x-gm-message-state:from:to:cc:subject:date:message-id:reply-to; bh=ew7IaCNLk82pruc+g6NK0ekpQOfa82iF8uL1+CSlF3Y=; b=dczKzsdpKozysS+BSxcImrlh9NkZaHkEfsRqyk4pVMVJS4B9z+6AtgBRZ9HLR3Tx/Z Jp1es1xysPpdgv3xOGIX/QDm9y1RBCEIQwg4dE2YAfHdYaM+16eJjwHZqH1q3K6EoxEM Ekr3EkSAgfmJc8l0NuXPQSjCG1WCd2xSMUCK8wFYRMkXlEG4D5WUHtubo1UL70RlXVvL 7vWCRUVWfA4C9xPmsmGEF0OWdhJV3EldA41ZeXq8jYX0dJ/RRiFjjPWR87A42WNRIKg3 GwnnxqF3L+CNQt8R5KrybPTY3KiYBzPSBB6MNGpnLMv6X+LY/Wr1PFk6DiJ4sEHsM+Et uicA== X-Gm-Message-State: AOJu0Ywwyas01QPXUWXbDqwHBUkskudu/r7jhBGWk9tqw2d7CaQXYAnq Qqk1vwqDyY+iMBInzyJ+lxEGdyzzuTsQHUqTBNPDRZ7ieo8vzimBnphFXHMHPgMEA/rTGy9aN2Q fdnUp6pGBaw35afq03huTk2X5RckOgfqzEAKrfarF X-Gm-Gg: ASbGncuOaK3xgubjsZiEFaltnOvg+dw9HcfTaVeQ17fpEseGvnQKGNz2oOcgYfWdMGv 5tWz/PA+rBNE6ZbNwl4xLKRJ/D0LiKSBpguAe8JpQRrqs6fKLwCHtqmRn4kYYeE27zcQJ54sL5e DXpXxzmYWWrOa8BKqAiFGraAcI7UsZ2WJfIKtZGFj+Dkv42FGN3bSbvRlBziZnhPvxY26D/5WJr ajPlq2VMeu3J8ecRHKvQwGmES/JBg1ClcsdYSsthWlvz2ZqP1yKIiAfEtEP4+mOUIXr5l2yalRj dsQqpVV0rjS9Q8iWAd9c6rkS/HPOtvT4+E/qhsOeCkkur7+m/tRxsEXSRqQ= X-Google-Smtp-Source: AGHT+IGyfb/pelPVrfhUxo4vqFRGNCHmJWgp5S/mzHKzYE43jlZsWqLIxy+PbiYXFPddUibOct5+El7qQI1c X-Received: by 2002:a05:6e02:1c2b:b0:3da:734c:42e0 with SMTP id e9e14a558f8ab-3da73936b32mr26129695ab.22.1746612818699; Wed, 07 May 2025 03:13:38 -0700 (PDT) Received: from postal.iol.unh.edu (postal.iol.unh.edu. [132.177.123.84]) by smtp-relay.gmail.com with ESMTPS id e9e14a558f8ab-3d976072630sm23716085ab.68.2025.05.07.03.13.38 (version=TLS1_2 cipher=ECDHE-ECDSA-AES128-GCM-SHA256 bits=128/128); Wed, 07 May 2025 03:13:38 -0700 (PDT) X-Relaying-Domain: iol.unh.edu Date: Wed, 07 May 2025 03:13:38 -0700 (PDT) Message-ID: <681b3252.050a0220.38b8b4.19acSMTPIN_ADDED_MISSING@mx.google.com> Received: from [172.21.0.5] (unknown [172.18.0.240]) by postal.iol.unh.edu (Postfix) with ESMTP id 355C86052471; Wed, 7 May 2025 06:13:38 -0400 (EDT) Subject: |SUCCESS| pw153310-153322 [PATCH] [v1,13/13] net/intel: add common T From: dpdklab@iol.unh.edu To: Test Report Cc: dpdk-test-reports@iol.unh.edu In-Reply-To: <3925dc733f7a3c4dfcc1a36a5df5d2b14a3c5372.1746538072.git.anatoly.burakov@intel.com> References: <3925dc733f7a3c4dfcc1a36a5df5d2b14a3c5372.1746538072.git.anatoly.burakov@intel.com> Content-Type: text/plain X-BeenThere: test-report@dpdk.org X-Mailman-Version: 2.1.29 Precedence: list List-Id: automatic DPDK test reports List-Unsubscribe: , List-Archive: List-Post: List-Help: List-Subscribe: , Errors-To: test-report-bounces@dpdk.org Test-Label: iol-unit-amd64-testing Test-Status: SUCCESS http://dpdk.org/patch/153322 _Testing PASS_ Submitter: Anatoly Burakov Date: Tuesday, May 06 2025 13:28:02 DPDK git baseline: Repo:dpdk Branch: master CommitID:7cf0355db9fdab5648b05fd787356c391c510534 153310-153322 --> testing pass Upstream job id: Generic-Unit-Test-DPDK#336094 Test environment and result as below: +-------------------+----------------+ | Environment | dpdk_unit_test | +===================+================+ | CentOS Stream 10 | PASS | +-------------------+----------------+ | CentOS Stream 9 | PASS | +-------------------+----------------+ | Fedora 40 (Clang) | PASS | +-------------------+----------------+ | Debian 12 | PASS | +-------------------+----------------+ | Fedora 40 | PASS | +-------------------+----------------+ | RHEL8 | PASS | +-------------------+----------------+ | Fedora 41 (Clang) | PASS | +-------------------+----------------+ | Fedora 41 | PASS | +-------------------+----------------+ | Ubuntu 22.04 | PASS | +-------------------+----------------+ | RHEL9 | PASS | +-------------------+----------------+ | Ubuntu 20.04 | PASS | +-------------------+----------------+ | Ubuntu 24.04 | PASS | +-------------------+----------------+ CentOS Stream 10 Kernel: Depends on container host Compiler: gcc 14.2.1 20241104 (Red Hat 14.2.1-6) CentOS Stream 9 Kernel: Depends on container host Compiler: gcc 11.5.0 20240719 (Red Hat 11.5.0-2) Fedora 40 (Clang) Kernel: Depends on container host Compiler: clang 18.1.8 (Fedora 18.1.8-1.fc40) Debian 12 Kernel: Depends on container host Compiler: gcc (Debian 12.2.0-14) 12.2.0 Fedora 40 Kernel: Depends on container host Compiler: gcc 14.2.1 20240912 (Red Hat 14.2.1-3) RHEL8 Kernel: Depends on container host Compiler: gcc 8.5.0 20210514 (Red Hat 8.5.0-22) Fedora 41 (Clang) Kernel: Depends on container host Compiler: clang 19.1.5 (Fedora 19.1.5-1.fc41) Fedora 41 Kernel: Depends on container host Compiler: gcc 14.2.1 20240912 (Red Hat 14.2.1-3) Ubuntu 22.04 Kernel: Depends on container host Compiler: gcc (Ubuntu 11.4.0-1ubuntu1~22.04) 11.4.0 RHEL9 Kernel: Depends on container host Compiler: gcc 11.5.0 20240719 (Red Hat 11.5.0-2) Ubuntu 20.04 Kernel: Depends on container host Compiler: gcc (Ubuntu 9.4.0-1ubuntu1~20.04.2) 9.4.0 Ubuntu 24.04 Kernel: Depends on container host Compiler: gcc (Ubuntu 13.3.0-6ubuntu2~24.04) 13.3.0 To view detailed results, visit: https://lab.dpdk.org/results/dashboard/patchsets/33122/ UNH-IOL DPDK Community Lab To manage your email subscriptions, visit: https://lab.dpdk.org/results/dashboard/preferences/subscriptions/