From mboxrd@z Thu Jan 1 00:00:00 1970 Return-Path: Received: from mails.dpdk.org (mails.dpdk.org [217.70.189.124]) by inbox.dpdk.org (Postfix) with ESMTP id 53A07466E8 for ; Wed, 7 May 2025 12:17:56 +0200 (CEST) Received: from mails.dpdk.org (localhost [127.0.0.1]) by mails.dpdk.org (Postfix) with ESMTP id 4E9A24025D; Wed, 7 May 2025 12:17:56 +0200 (CEST) Received: from mail-pf1-f227.google.com (mail-pf1-f227.google.com [209.85.210.227]) by mails.dpdk.org (Postfix) with ESMTP id A6B934025A for ; Wed, 7 May 2025 12:17:54 +0200 (CEST) Received: by mail-pf1-f227.google.com with SMTP id d2e1a72fcca58-736ad42dfd6so5431506b3a.3 for ; Wed, 07 May 2025 03:17:54 -0700 (PDT) DKIM-Signature: v=1; a=rsa-sha256; c=relaxed/relaxed; d=iol.unh.edu; s=unh-iol; t=1746613073; x=1747217873; darn=dpdk.org; h=cc:to:from:subject:message-id:date:from:to:cc:subject:date :message-id:reply-to; bh=OtlufSHovAtUZ6umRkOi33X5suiN+wcYNH+HoBZFzAI=; b=YOBh/0PvO4kV8rS2Y1UgvnOJO+y2gkmtjWoFYTf1IjVJ1SUTAPhePHk28tkv21hdZd ZVRPZNek7BR9omhg2Eqt1FL1YZBGF8RGk/XwAlH7dJe7cFgut/zI5A6Ta6nbRBnlbNRj grPdb/FYICapLb/p9lLu4DUKAKuyVS0T04UgM= X-Google-DKIM-Signature: v=1; a=rsa-sha256; c=relaxed/relaxed; d=1e100.net; s=20230601; t=1746613073; x=1747217873; h=cc:to:from:subject:message-id:date:x-gm-message-state:from:to:cc :subject:date:message-id:reply-to; bh=OtlufSHovAtUZ6umRkOi33X5suiN+wcYNH+HoBZFzAI=; b=Cz6mmdOJC87Yg9afMV06+CMoXh3oO+Qj6yJi1MRszbbgOamfg4EqQNFXMENjRzfVhn brRYJ9d82+ohPc81Y8LIADwQMSlNWTIygluAdwiuaJn7DXRJRnzLnlMwEHsoX2tgeCIu 93YeDyktbKwESf1JRJXXuu+hvrStNKsipKu/OTLTOKgjGf0G3Ry8FRp4TL7R6kUFT1si VRJDErj86uL7Nw1XAYa00QBK126HqEM1pJhR7iTkHu/2MhNR6M7SfMxIRJVEKqIHzAOc iaaXQKXWKi2GbkF+8CaZYfUiM1Q2MtKrPSqYgsFWmehz1FtKoN1Kdau7VHgvGgFzTpwt XU2w== X-Gm-Message-State: AOJu0YyXyiII+y5l7bnT+iqpknoVac0I368tzEFNPfRaVK5GPEU8YsRZ l1BDlsQf0b2xrp2BtWh43RZeJ4hYvVaMX1Gec0djgd+iOJg+flpqaG36NX1hmCQPCLJYdfr1aid qUBaACNrkIK8+f6M94xm8vnosyqiAXreUeRIGx+g/YvntRgzm X-Gm-Gg: ASbGncuM7KEdL503Mcf3+ndZ621biGOmIN2/ml3HEV/ymfzZ5On0T3prK8GCacBl2hE RDl62Ja7pF3mK5iQVNw2oubb9FS0RtqU7+8MMSomtxdyswH8oAqnM/QIM9quI5Gr2E32Y0+nSxl gP8KAngDnlwu0LmLr+F6Z3WWFm0vFs3n+BMknbq7Ed3FBx/CjEGYjpR+1kWiHaNgpQVQ+GT6FRR 2zghsXA1il0veFM+BLErxK4cO4eHNrXXeOtqp/8FfoP5rmKtaOA3eU0JZFUjt6rG3rfnCkqOWCz p5C4agVCck6MOQ/2psVR7V9dC0Bjba1BNWe9 X-Google-Smtp-Source: AGHT+IF+TxgwQSpozBYFmJpWqRATBsFbUALFvOFf4I8BOCGJiV+TkKL3qNGvcXrj8jhIesQZS3NB5uHBX+JN X-Received: by 2002:a05:6a21:900a:b0:1f5:8754:324d with SMTP id adf61e73a8af0-2148b42d794mr4126352637.9.1746613073531; Wed, 07 May 2025 03:17:53 -0700 (PDT) Received: from postal.iol.unh.edu (postal.iol.unh.edu. [2606:4100:3880:1234::84]) by smtp-relay.gmail.com with ESMTPS id 41be03b00d2f7-b1fb3b9850fsm1525327a12.13.2025.05.07.03.17.53 (version=TLS1_2 cipher=ECDHE-ECDSA-AES128-GCM-SHA256 bits=128/128); Wed, 07 May 2025 03:17:53 -0700 (PDT) X-Relaying-Domain: iol.unh.edu Date: Wed, 07 May 2025 03:17:53 -0700 (PDT) Message-ID: <681b3351.630a0220.2811f6.fc00SMTPIN_ADDED_MISSING@mx.google.com> Received: from [172.17.0.4] (unknown [172.18.0.74]) by postal.iol.unh.edu (Postfix) with ESMTP id C055E6052471; Wed, 7 May 2025 06:17:52 -0400 (EDT) Subject: |SUCCESS| [GIT MASTER] 83a7a648344674c0269fcaeb71d8d16468421a0e From: dpdklab@iol.unh.edu To: Test Report Cc: dpdk-test-reports@iol.unh.edu, Xueming Li , Christian Ehrhardt , Kevin Traynor , Luca Boccassi Content-Type: text/plain X-BeenThere: test-report@dpdk.org X-Mailman-Version: 2.1.29 Precedence: list List-Id: automatic DPDK test reports List-Unsubscribe: , List-Archive: List-Post: List-Help: List-Subscribe: , Errors-To: test-report-bounces@dpdk.org _Testing PASS_ Branch: tags/v23.11 83a7a648344674c0269fcaeb71d8d16468421a0e --> testing pass Upstream job id: Generic-DPDK-Compile-ABI#125615 Test environment and result as below: +-------------------+----------+ | Environment | abi_test | +===================+==========+ | CentOS Stream 10 | PASS | +-------------------+----------+ | CentOS Stream 9 | PASS | +-------------------+----------+ | Fedora 40 | PASS | +-------------------+----------+ | Debian 12 | PASS | +-------------------+----------+ | Fedora 40 (Clang) | PASS | +-------------------+----------+ | openSUSE Leap 15 | PASS | +-------------------+----------+ | Fedora 41 (Clang) | PASS | +-------------------+----------+ | Fedora 41 | PASS | +-------------------+----------+ | RHEL8 | PASS | +-------------------+----------+ | RHEL9 | PASS | +-------------------+----------+ | Ubuntu 22.04 | PASS | +-------------------+----------+ | Ubuntu 24.04 | PASS | +-------------------+----------+ CentOS Stream 10 Kernel: Depends on container host Compiler: gcc 14.2.1 20241104 (Red Hat 14.2.1-6) CentOS Stream 9 Kernel: Depends on container host Compiler: gcc 11.5.0 20240719 (Red Hat 11.5.0-2) Fedora 40 Kernel: Depends on container host Compiler: gcc 14.2.1 20240912 (Red Hat 14.2.1-3) Debian 12 Kernel: Depends on container host Compiler: gcc (Debian 12.2.0-14) 12.2.0 Fedora 40 (Clang) Kernel: Depends on container host Compiler: clang 18.1.8 (Fedora 18.1.8-1.fc40) openSUSE Leap 15 Kernel: Depends on container host Compiler: gcc (SUSE Linux) 7.5.0 Fedora 41 (Clang) Kernel: Depends on container host Compiler: clang 19.1.5 (Fedora 19.1.5-1.fc41) Fedora 41 Kernel: Depends on container host Compiler: gcc 14.2.1 20240912 (Red Hat 14.2.1-3) RHEL8 Kernel: Depends on container host Compiler: gcc 8.5.0 20210514 (Red Hat 8.5.0-22) RHEL9 Kernel: Depends on container host Compiler: gcc 11.5.0 20240719 (Red Hat 11.5.0-2) Ubuntu 22.04 Kernel: Depends on container host Compiler: gcc (Ubuntu 11.4.0-1ubuntu1~22.04) 11.4.0 Ubuntu 24.04 Kernel: Depends on container host Compiler: gcc (Ubuntu 13.3.0-6ubuntu2~24.04) 13.3.0 To view detailed results, visit: https://lab.dpdk.org/results/dashboard/tarballs/33463/ UNH-IOL DPDK Community Lab To manage your email subscriptions, visit: https://lab.dpdk.org/results/dashboard/preferences/subscriptions/