From mboxrd@z Thu Jan 1 00:00:00 1970 Return-Path: Received: from mails.dpdk.org (mails.dpdk.org [217.70.189.124]) by inbox.dpdk.org (Postfix) with ESMTP id E4FC146310 for ; Wed, 7 May 2025 12:41:50 +0200 (CEST) Received: from mails.dpdk.org (localhost [127.0.0.1]) by mails.dpdk.org (Postfix) with ESMTP id DFE504025D; Wed, 7 May 2025 12:41:50 +0200 (CEST) Received: from mail-il1-f225.google.com (mail-il1-f225.google.com [209.85.166.225]) by mails.dpdk.org (Postfix) with ESMTP id 9D8864025A for ; Wed, 7 May 2025 12:41:49 +0200 (CEST) Received: by mail-il1-f225.google.com with SMTP id e9e14a558f8ab-3d817bc6eb0so21639245ab.1 for ; Wed, 07 May 2025 03:41:49 -0700 (PDT) DKIM-Signature: v=1; a=rsa-sha256; c=relaxed/relaxed; d=iol.unh.edu; s=unh-iol; t=1746614509; x=1747219309; darn=dpdk.org; h=cc:to:from:subject:message-id:date:from:to:cc:subject:date :message-id:reply-to; bh=3LgLkUXJCEp5OWELMWTuEIB4IMsOf/0RwovueGBxd+c=; b=IH20jB2rN6OZPVRaWWIHwKrP6/YalAYmEc/NP+oLLpRN3d86rQT3H8aq3xuxQC+Hvd TF6++ejPzhKEvmzbLfyz9nw/VQHUK744RMWJvhtd3LJMw+Hs8+OY6TmjbWye6t6hNj/7 7qfzkV9n14dCQCbzj0v6iJcsyjkM2lS66Wumw= X-Google-DKIM-Signature: v=1; a=rsa-sha256; c=relaxed/relaxed; d=1e100.net; s=20230601; t=1746614509; x=1747219309; h=cc:to:from:subject:message-id:date:x-gm-message-state:from:to:cc :subject:date:message-id:reply-to; bh=3LgLkUXJCEp5OWELMWTuEIB4IMsOf/0RwovueGBxd+c=; b=V5FOQ37OCQyuxtTmEogztAOr/oVaoYS7cpS3pDcLwx2UXH5LWBOHCuTASG6L2Ezlxl qievsMBpofijMHayCYI15usa6klsc+njpW2FG8xc1IEkaiq+iomJ2iSU53GaGIKU/Pk7 yGDAdClc/b4oE8y5Wo4GzecWTwBbHyXEJBUBHIUm/PWXxWc+webOtCKxAaer6GiNI8+l YKiMMf68jJGfeENEyAzyQUNqtsMFdN1BxvAUk0GbnI8PQeLfrM9hZPXSuNxMvPHsiO9Y fk8GpCWGzOMMxyeVZRQv5VklntXMX+6Y3QcASWLSDmPL2OMmHymRrNPwxbmjq7/P6V0C pcsg== X-Gm-Message-State: AOJu0Yw9G2/bguGnvWklX/3OCcr7hmacGD234mwyEfWoeVgt7nIKekRJ RWolTT7dSmF1W/cnDDOJ5bM/7ECcNT6aefXhulVEhQvHOJuvkEwy0ilIsqMtmGn64Kt05SbReqW SWBvgV6p4vsg6JOsjWnsVxnIf/CSUk8P1Gr+tttHxNaLJAw2Q X-Gm-Gg: ASbGncsXCj55ackWWchzaagINu3enpeTdf2RKrcfuMjE1x83SkbXFRpOpT2e9f3V7/m FYBIlleFC5nWNWtexZ0AIOvquLVozdoV9N0UBK9JZkoJOMm5PXXBmZpwUa4+jNNmlThD/c0vW1Y OD09ul2q3Qnr4VjqTeofMzQQ/2sAf0VEEXNHw8e3zXtYnF9EYDli4JM6tOqfv7W1tpDsAfcnNYB 5zwlIQISXSbk3nbh6ATzuCNWtM9Py1mtLJfArA65flUmbOdDSHD5KOqDE32ylEOwlDheDlU00Gq snc7i1y+QKpD4BErt+z2bOQb+9+gXOeg3v2j X-Google-Smtp-Source: AGHT+IFlePQu4X/3p36zuIOSiJFo+o7DDyV4mZwV+NgTZkHVXo/spj1/aUHJ2SZelHZG1fWLnfcjvAW4ILu/ X-Received: by 2002:a05:6e02:194b:b0:3d8:20fb:f060 with SMTP id e9e14a558f8ab-3da738ed7c6mr26836935ab.4.1746614508857; Wed, 07 May 2025 03:41:48 -0700 (PDT) Received: from postal.iol.unh.edu (postal.iol.unh.edu. [2606:4100:3880:1234::84]) by smtp-relay.gmail.com with ESMTPS id e9e14a558f8ab-3d975e34e13sm23389115ab.4.2025.05.07.03.41.48 (version=TLS1_2 cipher=ECDHE-ECDSA-AES128-GCM-SHA256 bits=128/128); Wed, 07 May 2025 03:41:48 -0700 (PDT) X-Relaying-Domain: iol.unh.edu Date: Wed, 07 May 2025 03:41:48 -0700 (PDT) Message-ID: <681b38ec.050a0220.29cf56.0278SMTPIN_ADDED_MISSING@mx.google.com> Received: from [172.21.0.6] (unknown [172.18.0.240]) by postal.iol.unh.edu (Postfix) with ESMTP id 5C78A6052471; Wed, 7 May 2025 06:41:48 -0400 (EDT) Subject: |SUCCESS| [GIT MASTER] 4c5634de9f933555bab9c64a533d3dca999071cd From: dpdklab@iol.unh.edu To: Test Report Cc: dpdk-test-reports@iol.unh.edu, Xueming Li , Christian Ehrhardt , Kevin Traynor , Luca Boccassi Content-Type: text/plain X-BeenThere: test-report@dpdk.org X-Mailman-Version: 2.1.29 Precedence: list List-Id: automatic DPDK test reports List-Unsubscribe: , List-Archive: List-Post: List-Help: List-Subscribe: , Errors-To: test-report-bounces@dpdk.org _Testing PASS_ Branch: tags/v24.11 4c5634de9f933555bab9c64a533d3dca999071cd --> testing pass Upstream job id: Generic-Unit-Test-DPDK#336157 Test environment and result as below: +------------------------+----------------+ | Environment | dpdk_unit_test | +========================+================+ | CentOS Stream 9 (ARM) | PASS | +------------------------+----------------+ | Fedora 40 (ARM) | PASS | +------------------------+----------------+ | Debian 12 (arm) | PASS | +------------------------+----------------+ | Fedora 40 (ARM Clang) | PASS | +------------------------+----------------+ | CentOS Stream 10 (ARM) | PASS | +------------------------+----------------+ | Fedora 41 (ARM) | PASS | +------------------------+----------------+ | Fedora 41 (ARM Clang) | PASS | +------------------------+----------------+ | Ubuntu 20.04 (ARM) | PASS | +------------------------+----------------+ | RHEL9 (ARM) | PASS | +------------------------+----------------+ | Ubuntu 22.04 (ARM) | PASS | +------------------------+----------------+ | Ubuntu 24.04 (ARM) | PASS | +------------------------+----------------+ CentOS Stream 9 (ARM) Kernel: Depends on container host Compiler: gcc 11.5.0 20240719 (Red Hat 11.5.0-2) Fedora 40 (ARM) Kernel: Depends on container host Compiler: gcc 14.2.1 20240912 (Red Hat 14.2.1-3) Debian 12 (arm) Kernel: Depends on container host Compiler: gcc (Debian 12.2.0-14) 12.2.0 Fedora 40 (ARM Clang) Kernel: Depends on container host Compiler: clang 18.1.8 (Fedora 18.1.8-1.fc40) CentOS Stream 10 (ARM) Kernel: Depends on container host Compiler: gcc 14.2.1 20241104 (Red Hat 14.2.1-6) Fedora 41 (ARM) Kernel: Depends on container host Compiler: gcc 14.2.1 20240912 (Red Hat 14.2.1-3) Fedora 41 (ARM Clang) Kernel: Depends on container host Compiler: clang 19.1.5 (Fedora 19.1.5-1.fc41) Ubuntu 20.04 (ARM) Kernel: Depends on container host Compiler: gcc (Ubuntu 9.4.0-1ubuntu1~20.04.2) 9.4.0 RHEL9 (ARM) Kernel: Depends on container host Compiler: gcc 11.5.0 20240719 (Red Hat 11.5.0-2) Ubuntu 22.04 (ARM) Kernel: Depends on container host Compiler: gcc (Ubuntu 11.4.0-1ubuntu1~22.04) 11.4.0 Ubuntu 24.04 (ARM) Kernel: Depends on container host Compiler: gcc (Ubuntu 13.3.0-6ubuntu2~24.04) 13.3.0 To view detailed results, visit: https://lab.dpdk.org/results/dashboard/tarballs/33461/ UNH-IOL DPDK Community Lab To manage your email subscriptions, visit: https://lab.dpdk.org/results/dashboard/preferences/subscriptions/