From mboxrd@z Thu Jan 1 00:00:00 1970 Return-Path: Received: from mails.dpdk.org (mails.dpdk.org [217.70.189.124]) by inbox.dpdk.org (Postfix) with ESMTP id 0B5D746310 for ; Wed, 7 May 2025 12:42:18 +0200 (CEST) Received: from mails.dpdk.org (localhost [127.0.0.1]) by mails.dpdk.org (Postfix) with ESMTP id 07AAB4025D; Wed, 7 May 2025 12:42:18 +0200 (CEST) Received: from mail-qk1-f226.google.com (mail-qk1-f226.google.com [209.85.222.226]) by mails.dpdk.org (Postfix) with ESMTP id 5F3D24025A for ; Wed, 7 May 2025 12:42:17 +0200 (CEST) Received: by mail-qk1-f226.google.com with SMTP id af79cd13be357-7c96759d9dfso803897485a.3 for ; Wed, 07 May 2025 03:42:17 -0700 (PDT) DKIM-Signature: v=1; a=rsa-sha256; c=relaxed/relaxed; d=iol.unh.edu; s=unh-iol; t=1746614537; x=1747219337; darn=dpdk.org; h=cc:to:from:subject:message-id:date:from:to:cc:subject:date :message-id:reply-to; bh=Bb3Mz9TEKSRiWYi3q6xabg6BOVLU1+Wbak4BLgKm/EQ=; b=JAhBx9Nayqu6iNjmvz86f+bUPg8KMmiEIrzpG0TtvsbBSxiLoRIOynyJOrX7QF585H wCNsqF3c4TMiCRtLMueJMGpLnKjTC4mls/T1OCaWH2+XKtkZy4j13JENcIOc9ekkZZGW HjPV96jS1OL3xRVhXMtFg4Uaqg1Pafux8BwNk= X-Google-DKIM-Signature: v=1; a=rsa-sha256; c=relaxed/relaxed; d=1e100.net; s=20230601; t=1746614537; x=1747219337; h=cc:to:from:subject:message-id:date:x-gm-message-state:from:to:cc :subject:date:message-id:reply-to; bh=Bb3Mz9TEKSRiWYi3q6xabg6BOVLU1+Wbak4BLgKm/EQ=; b=Zbmtn7KAl+DRqSU7olwHAv4JhCs2HFEkQw7t7boyL8Xh5pBKltnCt5cFNYihQEUDNU bjS4AOv0G9h1gCZabUqBUXK1/2iLZHs1X9+FswIOIt0y2/3or5+1F4Fx3eMAGfVW9KSx HXcfE7vySFJXyibs7TjjjiAtNg255YHCVboM+DffYvtptPW8DZCv7AA+dm8pmg8kaefs 0zeUsoVyLBdKCXIZsYITkjGipKdXHM+ePntkls/O10LG6M8eGJHnKaTsUC1/tvZnjKEu 3ZQskp5WMv1flnd47IvVrRhDZpxZXLBst9V1tToUrLfKk+gbQban9pE9/c1K8DQ6/w+6 gxaA== X-Gm-Message-State: AOJu0YxHXV11aE0LTtURDT581g+2WS07hvIkyf2NLEcsnEqh29MmefmH YSwJgh+TFYp0WugSICYf9tE0mc9RLQCM6xneq52QSpM3b1zjpiarC2s6oKIZVodQ6BVP63yo5lS tQA82fC0AQYg8ndTbXuf8GmrNjQJTPMZU X-Gm-Gg: ASbGncs1qlYt8jYIXYWcV08lrDMrYqpafBblX1d3hueccLNioGfKc9z9FdhsrI9QTty KTEsr0HEzwBdXttK+hrQRhKvCneYYFGjzBqk4xzuxPX6tq+XDShcBTORUVHzgSmgdyYw2ewOVer lWuhHFMa9iC+nLa/8kfCD+x+AdwYGiQGryvD5Bokb0Ax19/n/ijgqiI+m36t/ZePTZD+1+GhcJ9 xIu9i2YmWXVYfJjHGTCrlueJCuvw0+XonFf98Hds3nxEqH2nEO2QCoPpINbs9xnSFzYBlSPX7fR sX1L6fL7sg2vbzFSlUHGPllOY/Wmz4Fm/YU/eCJNipOKCEBA/FLvwLScl98= X-Google-Smtp-Source: AGHT+IEJSBWVHMzfTdMoWMJTYTTu5P1sA2S6FdY4Se6AT2QL2tu1RX7Mln92UGWSSAVY9BIGMY4alacjfbAm X-Received: by 2002:a05:620a:1985:b0:7c7:a5ce:aaf1 with SMTP id af79cd13be357-7caf7406132mr437547985a.35.1746614536804; Wed, 07 May 2025 03:42:16 -0700 (PDT) Received: from postal.iol.unh.edu (postal.iol.unh.edu. [132.177.123.84]) by smtp-relay.gmail.com with ESMTPS id af79cd13be357-7caf759f534sm8807785a.7.2025.05.07.03.42.16 (version=TLS1_2 cipher=ECDHE-ECDSA-AES128-GCM-SHA256 bits=128/128); Wed, 07 May 2025 03:42:16 -0700 (PDT) X-Relaying-Domain: iol.unh.edu Date: Wed, 07 May 2025 03:42:16 -0700 (PDT) Message-ID: <681b3908.050a0220.89c8.4c52SMTPIN_ADDED_MISSING@mx.google.com> Received: from [172.21.0.5] (unknown [172.18.0.240]) by postal.iol.unh.edu (Postfix) with ESMTP id 67C816052471; Wed, 7 May 2025 06:42:16 -0400 (EDT) Subject: |SUCCESS| [GIT MASTER] 4c5634de9f933555bab9c64a533d3dca999071cd From: dpdklab@iol.unh.edu To: Test Report Cc: dpdk-test-reports@iol.unh.edu, Xueming Li , Christian Ehrhardt , Kevin Traynor , Luca Boccassi Content-Type: text/plain X-BeenThere: test-report@dpdk.org X-Mailman-Version: 2.1.29 Precedence: list List-Id: automatic DPDK test reports List-Unsubscribe: , List-Archive: List-Post: List-Help: List-Subscribe: , Errors-To: test-report-bounces@dpdk.org _Testing PASS_ Branch: tags/v24.11 4c5634de9f933555bab9c64a533d3dca999071cd --> testing pass Upstream job id: Generic-Unit-Test-DPDK#336150 Test environment and result as below: +------------------------+----------------+ | Environment | dpdk_unit_test | +========================+================+ | CentOS Stream 9 (ARM) | PASS | +------------------------+----------------+ | Fedora 40 (ARM) | PASS | +------------------------+----------------+ | Debian 12 (arm) | PASS | +------------------------+----------------+ | Fedora 40 (ARM Clang) | PASS | +------------------------+----------------+ | CentOS Stream 10 (ARM) | PASS | +------------------------+----------------+ | Fedora 41 (ARM) | PASS | +------------------------+----------------+ | Fedora 41 (ARM Clang) | PASS | +------------------------+----------------+ | Ubuntu 20.04 (ARM) | PASS | +------------------------+----------------+ | RHEL9 (ARM) | PASS | +------------------------+----------------+ | Ubuntu 22.04 (ARM) | PASS | +------------------------+----------------+ | Ubuntu 24.04 (ARM) | PASS | +------------------------+----------------+ CentOS Stream 9 (ARM) Kernel: Depends on container host Compiler: gcc 11.5.0 20240719 (Red Hat 11.5.0-2) Fedora 40 (ARM) Kernel: Depends on container host Compiler: gcc 14.2.1 20240912 (Red Hat 14.2.1-3) Debian 12 (arm) Kernel: Depends on container host Compiler: gcc (Debian 12.2.0-14) 12.2.0 Fedora 40 (ARM Clang) Kernel: Depends on container host Compiler: clang 18.1.8 (Fedora 18.1.8-1.fc40) CentOS Stream 10 (ARM) Kernel: Depends on container host Compiler: gcc 14.2.1 20241104 (Red Hat 14.2.1-6) Fedora 41 (ARM) Kernel: Depends on container host Compiler: gcc 14.2.1 20240912 (Red Hat 14.2.1-3) Fedora 41 (ARM Clang) Kernel: Depends on container host Compiler: clang 19.1.5 (Fedora 19.1.5-1.fc41) Ubuntu 20.04 (ARM) Kernel: Depends on container host Compiler: gcc (Ubuntu 9.4.0-1ubuntu1~20.04.2) 9.4.0 RHEL9 (ARM) Kernel: Depends on container host Compiler: gcc 11.5.0 20240719 (Red Hat 11.5.0-2) Ubuntu 22.04 (ARM) Kernel: Depends on container host Compiler: gcc (Ubuntu 11.4.0-1ubuntu1~22.04) 11.4.0 Ubuntu 24.04 (ARM) Kernel: Depends on container host Compiler: gcc (Ubuntu 13.3.0-6ubuntu2~24.04) 13.3.0 To view detailed results, visit: https://lab.dpdk.org/results/dashboard/tarballs/33461/ UNH-IOL DPDK Community Lab To manage your email subscriptions, visit: https://lab.dpdk.org/results/dashboard/preferences/subscriptions/