From mboxrd@z Thu Jan 1 00:00:00 1970 Return-Path: Received: from mails.dpdk.org (mails.dpdk.org [217.70.189.124]) by inbox.dpdk.org (Postfix) with ESMTP id 1F81A46310 for ; Wed, 7 May 2025 12:42:34 +0200 (CEST) Received: from mails.dpdk.org (localhost [127.0.0.1]) by mails.dpdk.org (Postfix) with ESMTP id 1B3E54025D; Wed, 7 May 2025 12:42:34 +0200 (CEST) Received: from mail-oa1-f100.google.com (mail-oa1-f100.google.com [209.85.160.100]) by mails.dpdk.org (Postfix) with ESMTP id 3DC1A4025A for ; Wed, 7 May 2025 12:42:33 +0200 (CEST) Received: by mail-oa1-f100.google.com with SMTP id 586e51a60fabf-2d4e91512b4so3911303fac.1 for ; Wed, 07 May 2025 03:42:33 -0700 (PDT) DKIM-Signature: v=1; a=rsa-sha256; c=relaxed/relaxed; d=iol.unh.edu; s=unh-iol; t=1746614552; x=1747219352; darn=dpdk.org; h=cc:to:from:subject:message-id:date:from:to:cc:subject:date :message-id:reply-to; bh=EclzknqQgX05ZSn3bQL1OYK3kmysyl3hESXybeH/E5w=; b=SF6x/yEmsvVF9DWRbwrJVUxmzL3NZgzw9iCBGdCPqcsnu2dRLwtsKaTdT0TQeSE20o orXd0Ct+OY7a+FQpDMD17GA7AserHyiQEyR8nBeup2Ws0fxyNr1p6OsZa0beGpMH6DtD 5YqQEuiG8K7UG8CGoxIqG/tGGqhNmGZ4FIzmI= X-Google-DKIM-Signature: v=1; a=rsa-sha256; c=relaxed/relaxed; d=1e100.net; s=20230601; t=1746614552; x=1747219352; h=cc:to:from:subject:message-id:date:x-gm-message-state:from:to:cc :subject:date:message-id:reply-to; bh=EclzknqQgX05ZSn3bQL1OYK3kmysyl3hESXybeH/E5w=; b=jYMJZgAxImotW3IEMsmhAPup1jN6kZNZeBtxSao6dMv1/FAWenrrnBSj4T5x0LMZwU shEbqE8a9GbzyRJpSlV7/W/82wRp/erBsfeCOoLCTd9J3LiZafhjfGvdrreBIiTFWMX7 R5PyCbomylcGXzGrd7sL7gZyVgWZxzjN+GYbup7XDWKwZYRp1Uy2UfqPrUrBMcLi8vIi rii5gflLz/ICmzDkvv72ai/oWqv/MBYgCq1f4HTQJAxhg5WmQikKABVkEzleDSrj6+QL dmvGrnwynCAl+UuaU60ZBPoP67l/HyWsr95/U/svLNKlWV7rOQ15E/K4sHVrqouIpu1H PrMA== X-Gm-Message-State: AOJu0YyAwgCcPsU68LzwV//yZKbvJMoBwEw9C07bMWZsXK5l/trbLuZ/ SxKMnD1h2QCsK4LO4569YJOwBzWzq3uIrQkrOuUHw/ip5Vw68byuDZG4EAnja8+qrhgjJhbEUpu Y67XJk6a+HHhxAosJKHCeMuziaiHTAZeC X-Gm-Gg: ASbGncvpqVKdrsjdGzHCNEYg22CmLpdbT6fsM0ogDiceEjpBOLlQ/1cbf3IEAlocJqR 1sn7aHhf982pKPGmZdmQmYqSedytsiK7TZ7XZL/T+lDLCdX/kWpjMJhrw/QuDyjNhwe4yR9peyj AotjKDBr3oXUUnpUlNiPVp36H5vXF1gKuQ7AJl9Rnhpp4OJjAOB/4daKOTby1H3IoZpM8Uyi5n4 RBOaUHP2wYjWWj0DSPwshybna+znLSQk85frtsIAHI/T2bR4jskqXpFBn4as3mPnJ9CVaDLpCSJ DW67vjpZnoeA7Jf/XdtrVqUpxTQ5jK28PgzLYewWpJlV0M8ygYgs8pOkWuk= X-Google-Smtp-Source: AGHT+IGuhI4Jr1A/hQLIJTUxRr7HcMzYJ87FD4gCeam6vDVMV9Nj3GRsCApm+Dt/elIfvrS7Tv9QbDOesEWJ X-Received: by 2002:a05:6870:830f:b0:29d:c764:f873 with SMTP id 586e51a60fabf-2db5c089da1mr1442060fac.31.1746614552478; Wed, 07 May 2025 03:42:32 -0700 (PDT) Received: from postal.iol.unh.edu (postal.iol.unh.edu. [132.177.123.84]) by smtp-relay.gmail.com with ESMTPS id 586e51a60fabf-2db5cd88850sm80540fac.18.2025.05.07.03.42.32 (version=TLS1_2 cipher=ECDHE-ECDSA-AES128-GCM-SHA256 bits=128/128); Wed, 07 May 2025 03:42:32 -0700 (PDT) X-Relaying-Domain: iol.unh.edu Date: Wed, 07 May 2025 03:42:32 -0700 (PDT) Message-ID: <681b3918.050a0220.33d58d.4890SMTPIN_ADDED_MISSING@mx.google.com> Received: from [172.21.0.6] (unknown [172.18.0.240]) by postal.iol.unh.edu (Postfix) with ESMTP id F2CDA6052471; Wed, 7 May 2025 06:42:31 -0400 (EDT) Subject: |SUCCESS| [GIT MASTER] 4c5634de9f933555bab9c64a533d3dca999071cd From: dpdklab@iol.unh.edu To: Test Report Cc: dpdk-test-reports@iol.unh.edu, Xueming Li , Christian Ehrhardt , Kevin Traynor , Luca Boccassi Content-Type: text/plain X-BeenThere: test-report@dpdk.org X-Mailman-Version: 2.1.29 Precedence: list List-Id: automatic DPDK test reports List-Unsubscribe: , List-Archive: List-Post: List-Help: List-Subscribe: , Errors-To: test-report-bounces@dpdk.org _Testing PASS_ Branch: tags/v24.11 4c5634de9f933555bab9c64a533d3dca999071cd --> testing pass Upstream job id: Generic-Unit-Test-DPDK#336159 Test environment and result as below: +------------------------+----------------+ | Environment | dpdk_unit_test | +========================+================+ | CentOS Stream 9 (ARM) | PASS | +------------------------+----------------+ | Fedora 40 (ARM) | PASS | +------------------------+----------------+ | Debian 12 (arm) | PASS | +------------------------+----------------+ | Fedora 40 (ARM Clang) | PASS | +------------------------+----------------+ | CentOS Stream 10 (ARM) | PASS | +------------------------+----------------+ | Fedora 41 (ARM) | PASS | +------------------------+----------------+ | Fedora 41 (ARM Clang) | PASS | +------------------------+----------------+ | Ubuntu 20.04 (ARM) | PASS | +------------------------+----------------+ | RHEL9 (ARM) | PASS | +------------------------+----------------+ | Ubuntu 22.04 (ARM) | PASS | +------------------------+----------------+ | Ubuntu 24.04 (ARM) | PASS | +------------------------+----------------+ CentOS Stream 9 (ARM) Kernel: Depends on container host Compiler: gcc 11.5.0 20240719 (Red Hat 11.5.0-2) Fedora 40 (ARM) Kernel: Depends on container host Compiler: gcc 14.2.1 20240912 (Red Hat 14.2.1-3) Debian 12 (arm) Kernel: Depends on container host Compiler: gcc (Debian 12.2.0-14) 12.2.0 Fedora 40 (ARM Clang) Kernel: Depends on container host Compiler: clang 18.1.8 (Fedora 18.1.8-1.fc40) CentOS Stream 10 (ARM) Kernel: Depends on container host Compiler: gcc 14.2.1 20241104 (Red Hat 14.2.1-6) Fedora 41 (ARM) Kernel: Depends on container host Compiler: gcc 14.2.1 20240912 (Red Hat 14.2.1-3) Fedora 41 (ARM Clang) Kernel: Depends on container host Compiler: clang 19.1.5 (Fedora 19.1.5-1.fc41) Ubuntu 20.04 (ARM) Kernel: Depends on container host Compiler: gcc (Ubuntu 9.4.0-1ubuntu1~20.04.2) 9.4.0 RHEL9 (ARM) Kernel: Depends on container host Compiler: gcc 11.5.0 20240719 (Red Hat 11.5.0-2) Ubuntu 22.04 (ARM) Kernel: Depends on container host Compiler: gcc (Ubuntu 11.4.0-1ubuntu1~22.04) 11.4.0 Ubuntu 24.04 (ARM) Kernel: Depends on container host Compiler: gcc (Ubuntu 13.3.0-6ubuntu2~24.04) 13.3.0 To view detailed results, visit: https://lab.dpdk.org/results/dashboard/tarballs/33461/ UNH-IOL DPDK Community Lab To manage your email subscriptions, visit: https://lab.dpdk.org/results/dashboard/preferences/subscriptions/