From mboxrd@z Thu Jan 1 00:00:00 1970 Return-Path: Received: from mails.dpdk.org (mails.dpdk.org [217.70.189.124]) by inbox.dpdk.org (Postfix) with ESMTP id 31F2E46310 for ; Wed, 7 May 2025 12:43:02 +0200 (CEST) Received: from mails.dpdk.org (localhost [127.0.0.1]) by mails.dpdk.org (Postfix) with ESMTP id 2D67D4025D; Wed, 7 May 2025 12:43:02 +0200 (CEST) Received: from mail-il1-f226.google.com (mail-il1-f226.google.com [209.85.166.226]) by mails.dpdk.org (Postfix) with ESMTP id 3E07A4025A for ; Wed, 7 May 2025 12:43:01 +0200 (CEST) Received: by mail-il1-f226.google.com with SMTP id e9e14a558f8ab-3d7f111e9e1so73537475ab.1 for ; Wed, 07 May 2025 03:43:01 -0700 (PDT) DKIM-Signature: v=1; a=rsa-sha256; c=relaxed/relaxed; d=iol.unh.edu; s=unh-iol; t=1746614580; x=1747219380; darn=dpdk.org; h=references:in-reply-to:cc:to:from:subject:message-id:date:from:to :cc:subject:date:message-id:reply-to; bh=QdKMmD8I1TgU7KFIn42fN2nU5hGwIWCZsuPNGpVS0HU=; b=LEq9/DaQoUR7HSaci9HDF+STMHHh07CZZbQEdbGNgXJDuCdlyy0/HUqSXH1BjttJQc mokv+mM0Q0e9yllLZgJLpHz6SXcJjK3qP6r+txQlU2aoQin31J02fSGEQ5+nndTdvX50 TmckXvVtlWBkj0i2aEo3SKn22+YBgwvdAoQP4= X-Google-DKIM-Signature: v=1; a=rsa-sha256; c=relaxed/relaxed; d=1e100.net; s=20230601; t=1746614580; x=1747219380; h=references:in-reply-to:cc:to:from:subject:message-id:date :x-gm-message-state:from:to:cc:subject:date:message-id:reply-to; bh=QdKMmD8I1TgU7KFIn42fN2nU5hGwIWCZsuPNGpVS0HU=; b=U7EFu1zq84890zmzn0W3TLYjdiQeNR/x9duialFuHzDPOEiHTqfuDz4k0uRz29qiXO 2ibApgMv4D48s+saeyqRbr5LxuCAS+7rVQtKN3W3JfAyAw6HymTBz7T5TTkgs9/+dTJ7 T0fy023FPVEUue/p+5UADq7LHufjvDsQ6YMbAnfJV3N3AmKE3WvgGUoU8FHHTrzo7Bob YuzRLDLSxe8k4JTBhjNiTOLegRlQ6PfZlFdbhnnGjNOaaadn3E4hcJxsKrfiOLXvI4ty 2h0RPKRhHq6zcJb/yjJeeOAMYjzRrEBTNYWqlBdgbHVz/95H+5VR0ODjuiES9LGMBvTK 152g== X-Gm-Message-State: AOJu0YzN9DnLpx7yOKQanGKo5mrOH5aAMk61QqcjNHQYWojyBxafvnC2 Z7t91TFBciKVtgz94EBZHPeQ1sDyLfi0QGIlsT3Qk/sr4tnc87yYz5TDEoJLBz7rg49o/TG9MSj TkNnF5WjFzATxGfBK5HbkgIwvoFXEQxnRzzB2j0e2X8GLguavgXizw+XG X-Gm-Gg: ASbGncvZWzHahTZWh7xapnGcnWbPO9JkcIgneg3NkdPAlOQhWzkYim+xJhTkGug/VAP 1UY4xYGWvieDqMcV6yl8xkIuO9XsaUVic56xPpYFNy6blWtS937OfB0NvfUh8/biX0btnYDj6pL EUl14v08bMrZT1piIF4P6w/mhO3GUoM8C0JBV/ZPvzxMinmq5S00FTUibYqYzj4/HjSzX9yrHTC IcM9GVtH9hQnh+EwillngARMMyYf9Zn0xUn605lkNsJKIBXtBnt7tDt7CGD4MmzAR/Mddb1UFYN Y09APNarPs5OH8D8faX6qhj53OQ8sCujDkDO X-Google-Smtp-Source: AGHT+IGU0xg4I6DwinFq5fulMY2ULDFNXUTnU5Y+ZDwHr7XOsD+vGZrBlLXk1d4fEg+1j48uFxHhlNRO87Ar X-Received: by 2002:a05:6e02:3d83:b0:3d4:244b:db1d with SMTP id e9e14a558f8ab-3da738f845dmr30208015ab.6.1746614580545; Wed, 07 May 2025 03:43:00 -0700 (PDT) Received: from postal.iol.unh.edu (postal.iol.unh.edu. [2606:4100:3880:1234::84]) by smtp-relay.gmail.com with ESMTPS id e9e14a558f8ab-3da749ed24esm591965ab.33.2025.05.07.03.43.00 (version=TLS1_2 cipher=ECDHE-ECDSA-AES128-GCM-SHA256 bits=128/128); Wed, 07 May 2025 03:43:00 -0700 (PDT) X-Relaying-Domain: iol.unh.edu Date: Wed, 07 May 2025 03:43:00 -0700 (PDT) Message-ID: <681b3934.050a0220.38fdd.33a3SMTPIN_ADDED_MISSING@mx.google.com> Received: from [172.21.0.5] (unknown [172.18.0.240]) by postal.iol.unh.edu (Postfix) with ESMTP id 3258E6052471; Wed, 7 May 2025 06:43:00 -0400 (EDT) Subject: |SUCCESS| pw153309 [PATCH] dts: improve port handling From: dpdklab@iol.unh.edu To: Test Report Cc: dpdk-test-reports@iol.unh.edu In-Reply-To: <20250506131657.1576152-1-luca.vizzarro@arm.com> References: <20250506131657.1576152-1-luca.vizzarro@arm.com> Content-Type: text/plain X-BeenThere: test-report@dpdk.org X-Mailman-Version: 2.1.29 Precedence: list List-Id: automatic DPDK test reports List-Unsubscribe: , List-Archive: List-Post: List-Help: List-Subscribe: , Errors-To: test-report-bounces@dpdk.org Test-Label: iol-abi-testing Test-Status: SUCCESS http://dpdk.org/patch/153309 _Testing PASS_ Submitter: Luca Vizzarro Date: Tuesday, May 06 2025 13:16:05 DPDK git baseline: Repo:dpdk Branch: master CommitID:1aef42bc97a31906486c9d66b792208948af06f3 153309 --> testing pass Upstream job id: Generic-DPDK-Compile-ABI#125625 Test environment and result as below: +-------------------+----------+ | Environment | abi_test | +===================+==========+ | CentOS Stream 9 | PASS | +-------------------+----------+ | Fedora 40 (Clang) | PASS | +-------------------+----------+ | Debian 12 | PASS | +-------------------+----------+ | Fedora 41 (Clang) | PASS | +-------------------+----------+ | Fedora 40 | PASS | +-------------------+----------+ | RHEL8 | PASS | +-------------------+----------+ | openSUSE Leap 15 | PASS | +-------------------+----------+ | RHEL9 | PASS | +-------------------+----------+ | Fedora 41 | PASS | +-------------------+----------+ | Ubuntu 24.04 | PASS | +-------------------+----------+ | Ubuntu 22.04 | PASS | +-------------------+----------+ CentOS Stream 9 Kernel: Depends on container host Compiler: gcc 11.5.0 20240719 (Red Hat 11.5.0-2) Fedora 40 (Clang) Kernel: Depends on container host Compiler: clang 18.1.8 (Fedora 18.1.8-1.fc40) Debian 12 Kernel: Depends on container host Compiler: gcc (Debian 12.2.0-14) 12.2.0 Fedora 41 (Clang) Kernel: Depends on container host Compiler: clang 19.1.5 (Fedora 19.1.5-1.fc41) Fedora 40 Kernel: Depends on container host Compiler: gcc 14.2.1 20240912 (Red Hat 14.2.1-3) RHEL8 Kernel: Depends on container host Compiler: gcc 8.5.0 20210514 (Red Hat 8.5.0-22) openSUSE Leap 15 Kernel: Depends on container host Compiler: gcc (SUSE Linux) 7.5.0 RHEL9 Kernel: Depends on container host Compiler: gcc 11.5.0 20240719 (Red Hat 11.5.0-2) Fedora 41 Kernel: Depends on container host Compiler: gcc 14.2.1 20240912 (Red Hat 14.2.1-3) Ubuntu 24.04 Kernel: Depends on container host Compiler: gcc (Ubuntu 13.3.0-6ubuntu2~24.04) 13.3.0 Ubuntu 22.04 Kernel: Depends on container host Compiler: gcc (Ubuntu 11.4.0-1ubuntu1~22.04) 11.4.0 To view detailed results, visit: https://lab.dpdk.org/results/dashboard/patchsets/33121/ UNH-IOL DPDK Community Lab To manage your email subscriptions, visit: https://lab.dpdk.org/results/dashboard/preferences/subscriptions/