From mboxrd@z Thu Jan 1 00:00:00 1970 Return-Path: Received: from mails.dpdk.org (mails.dpdk.org [217.70.189.124]) by inbox.dpdk.org (Postfix) with ESMTP id 4820946310 for ; Wed, 7 May 2025 12:43:42 +0200 (CEST) Received: from mails.dpdk.org (localhost [127.0.0.1]) by mails.dpdk.org (Postfix) with ESMTP id 449F64025D; Wed, 7 May 2025 12:43:42 +0200 (CEST) Received: from mail-io1-f98.google.com (mail-io1-f98.google.com [209.85.166.98]) by mails.dpdk.org (Postfix) with ESMTP id 7C3634025A for ; Wed, 7 May 2025 12:43:41 +0200 (CEST) Received: by mail-io1-f98.google.com with SMTP id ca18e2360f4ac-864687c830aso548566739f.0 for ; Wed, 07 May 2025 03:43:41 -0700 (PDT) DKIM-Signature: v=1; a=rsa-sha256; c=relaxed/relaxed; d=iol.unh.edu; s=unh-iol; t=1746614621; x=1747219421; darn=dpdk.org; h=references:in-reply-to:cc:to:from:subject:message-id:date:from:to :cc:subject:date:message-id:reply-to; bh=0F8pSajToHooKh/xZN9mJ9SC+LeIC7x/UxJGg3ziG34=; b=dk6hBnEyEbEHYLLYxwP4D5xF4nSYt1b+db1w/satFdt5g6dABNJxaMn2jXek2+o0J2 bGY0CrYg5/FBEItDmCtCG++LwUtIGluKxR64VA1PnHhBZl0ZLckWKrr3w/YP/Qsx3/oB kzDNYZzh+En0dVLcLb5yVWDVWTJaML2xIPhDo= X-Google-DKIM-Signature: v=1; a=rsa-sha256; c=relaxed/relaxed; d=1e100.net; s=20230601; t=1746614621; x=1747219421; h=references:in-reply-to:cc:to:from:subject:message-id:date :x-gm-message-state:from:to:cc:subject:date:message-id:reply-to; bh=0F8pSajToHooKh/xZN9mJ9SC+LeIC7x/UxJGg3ziG34=; b=OWwOLVI+gxZNerpQIOoz7qebuEqJ9wtGSe80xR9J8r20rCnVbmGTGPDLghF2eoAv3M O2D4zHJbySW66h4WUqPm9nJCCpRHKH+2aeZsHaOMbIsgoKwrSi5TGEVfWxsRrXNY7I68 vU41zzmQ3kwmjeeg7GI4q7hAk2fDcJiB3l1ndWv5x9MHiNvsKf777QVXYc6rvPYQlWB8 8uAsrjLRYMbCxDU2sRJoAoq6ckxdGSZRkAIRa2od1jZ6PazeSzYNW0oXFEZC/TCyngI1 EXjB2OvEzNQOKnBCRfj+JEXphLlwnBpMOKHJeE3yIvONTsMqv1M+nKYZwdcIjVPt+/xn YLZg== X-Gm-Message-State: AOJu0YyQJSZoiGkcs7kSPPZ3U+NWUIPRX6emDtGZ+/NgDJf2j3017GmY GY5A9DXf+lBSwvyOiImlcMQn5bFlTfj/0glybLOsCkH0H7rCXhETzVUqDvSncB7xMp1hg32GKE2 W3NJz/YukAXkl7kdeNeU2DhLM38k81AU00F+5b7NL X-Gm-Gg: ASbGncu0IwBsy9IcuTVFdPsAIsNDMpCcc5+wynryRcjo8j5WbPy/SxL+E7mr3crQhxM VdfV/W/irX9k5sAndZ+enEBnvra6RKXIic/4f8RmJpnDk726i6o87ivOCglatAavszZZWcqfwvN XlDp4rdWSAukTqQzXmaSet1/rkXTHJUFBlI7Mvrco83ExDJCNAzBSHLxPxQRynq9UwiIOB/50OV mDVV5GqopDDE40U+ab6fW3SuKjIIi9w9qvErdUX9UWvEKk3JkJiZ+idQNHMy0H+qtDLiWC+orcq +sdzGQZOsaThTPak570R7trpSuuPCIsmtff2GkBXicSEyCa9LS4H78Wc3uU= X-Google-Smtp-Source: AGHT+IH3CedlUvQpnIM368wr0tIrnpA+XxMPc9WdcLz6BnZ+KgAmlu5oarGDgtPdZQdT6Ye095OXJ/JrSzJE X-Received: by 2002:a05:6e02:1b01:b0:3d5:eb14:9c85 with SMTP id e9e14a558f8ab-3da738faa12mr28155825ab.6.1746614620881; Wed, 07 May 2025 03:43:40 -0700 (PDT) Received: from postal.iol.unh.edu (postal.iol.unh.edu. [132.177.123.84]) by smtp-relay.gmail.com with ESMTPS id 8926c6da1cb9f-4f88aa624c0sm2175298173.50.2025.05.07.03.43.40 (version=TLS1_2 cipher=ECDHE-ECDSA-AES128-GCM-SHA256 bits=128/128); Wed, 07 May 2025 03:43:40 -0700 (PDT) X-Relaying-Domain: iol.unh.edu Date: Wed, 07 May 2025 03:43:40 -0700 (PDT) Message-ID: <681b395c.050a0220.126ece.d473SMTPIN_ADDED_MISSING@mx.google.com> Received: from [172.21.0.6] (unknown [172.18.0.240]) by postal.iol.unh.edu (Postfix) with ESMTP id 5F9076052471; Wed, 7 May 2025 06:43:40 -0400 (EDT) Subject: |SUCCESS| pw153309 [PATCH] dts: improve port handling From: dpdklab@iol.unh.edu To: Test Report Cc: dpdk-test-reports@iol.unh.edu In-Reply-To: <20250506131657.1576152-1-luca.vizzarro@arm.com> References: <20250506131657.1576152-1-luca.vizzarro@arm.com> Content-Type: text/plain X-BeenThere: test-report@dpdk.org X-Mailman-Version: 2.1.29 Precedence: list List-Id: automatic DPDK test reports List-Unsubscribe: , List-Archive: List-Post: List-Help: List-Subscribe: , Errors-To: test-report-bounces@dpdk.org Test-Label: iol-abi-testing Test-Status: SUCCESS http://dpdk.org/patch/153309 _Testing PASS_ Submitter: Luca Vizzarro Date: Tuesday, May 06 2025 13:16:05 DPDK git baseline: Repo:dpdk Branch: master CommitID:1aef42bc97a31906486c9d66b792208948af06f3 153309 --> testing pass Upstream job id: Generic-DPDK-Compile-ABI#125626 Test environment and result as below: +-------------------+----------+ | Environment | abi_test | +===================+==========+ | CentOS Stream 9 | PASS | +-------------------+----------+ | Fedora 40 (Clang) | PASS | +-------------------+----------+ | Debian 12 | PASS | +-------------------+----------+ | Fedora 41 (Clang) | PASS | +-------------------+----------+ | Fedora 40 | PASS | +-------------------+----------+ | RHEL8 | PASS | +-------------------+----------+ | openSUSE Leap 15 | PASS | +-------------------+----------+ | RHEL9 | PASS | +-------------------+----------+ | Fedora 41 | PASS | +-------------------+----------+ | Ubuntu 24.04 | PASS | +-------------------+----------+ | Ubuntu 22.04 | PASS | +-------------------+----------+ CentOS Stream 9 Kernel: Depends on container host Compiler: gcc 11.5.0 20240719 (Red Hat 11.5.0-2) Fedora 40 (Clang) Kernel: Depends on container host Compiler: clang 18.1.8 (Fedora 18.1.8-1.fc40) Debian 12 Kernel: Depends on container host Compiler: gcc (Debian 12.2.0-14) 12.2.0 Fedora 41 (Clang) Kernel: Depends on container host Compiler: clang 19.1.5 (Fedora 19.1.5-1.fc41) Fedora 40 Kernel: Depends on container host Compiler: gcc 14.2.1 20240912 (Red Hat 14.2.1-3) RHEL8 Kernel: Depends on container host Compiler: gcc 8.5.0 20210514 (Red Hat 8.5.0-22) openSUSE Leap 15 Kernel: Depends on container host Compiler: gcc (SUSE Linux) 7.5.0 RHEL9 Kernel: Depends on container host Compiler: gcc 11.5.0 20240719 (Red Hat 11.5.0-2) Fedora 41 Kernel: Depends on container host Compiler: gcc 14.2.1 20240912 (Red Hat 14.2.1-3) Ubuntu 24.04 Kernel: Depends on container host Compiler: gcc (Ubuntu 13.3.0-6ubuntu2~24.04) 13.3.0 Ubuntu 22.04 Kernel: Depends on container host Compiler: gcc (Ubuntu 11.4.0-1ubuntu1~22.04) 11.4.0 To view detailed results, visit: https://lab.dpdk.org/results/dashboard/patchsets/33121/ UNH-IOL DPDK Community Lab To manage your email subscriptions, visit: https://lab.dpdk.org/results/dashboard/preferences/subscriptions/