From mboxrd@z Thu Jan 1 00:00:00 1970 Return-Path: Received: from mails.dpdk.org (mails.dpdk.org [217.70.189.124]) by inbox.dpdk.org (Postfix) with ESMTP id 6BD4646310 for ; Wed, 7 May 2025 12:44:59 +0200 (CEST) Received: from mails.dpdk.org (localhost [127.0.0.1]) by mails.dpdk.org (Postfix) with ESMTP id 675B34025D; Wed, 7 May 2025 12:44:59 +0200 (CEST) Received: from mail-io1-f100.google.com (mail-io1-f100.google.com [209.85.166.100]) by mails.dpdk.org (Postfix) with ESMTP id 591AB4025A for ; Wed, 7 May 2025 12:44:58 +0200 (CEST) Received: by mail-io1-f100.google.com with SMTP id ca18e2360f4ac-86142446f3fso181390739f.2 for ; Wed, 07 May 2025 03:44:58 -0700 (PDT) DKIM-Signature: v=1; a=rsa-sha256; c=relaxed/relaxed; d=iol.unh.edu; s=unh-iol; t=1746614697; x=1747219497; darn=dpdk.org; h=references:in-reply-to:cc:to:from:subject:message-id:date:from:to :cc:subject:date:message-id:reply-to; bh=BVGrRFkv8xB6eE7nSiUOxlkITMLxIeO3YMcomz4OQf4=; b=P3suHFEN1YkpK/vOInLBvIo58nFW3caSKr0U6zJJHCoJzGrciJLC8tltredYaKNiNx cLlVSj8Gu99z5HxT6kfmAbegdbnD91suW6B/sDs4+xf2UDFjE7Sq+mVz618FFmGrMDb1 Cyvh3CAN8Eo7hMbbXL0OkhZwQXLhSrBrFcq4I= X-Google-DKIM-Signature: v=1; a=rsa-sha256; c=relaxed/relaxed; d=1e100.net; s=20230601; t=1746614697; x=1747219497; h=references:in-reply-to:cc:to:from:subject:message-id:date :x-gm-message-state:from:to:cc:subject:date:message-id:reply-to; bh=BVGrRFkv8xB6eE7nSiUOxlkITMLxIeO3YMcomz4OQf4=; b=KbrP6q9LJybEcsGbQRQX+7GaXEWRDpR9eidvJ1FHXVc/Z/oufHy4LsGTolHhZCyC2N eOKwkogUAngrS/wWThNVMbDbltAEm60Et7s6O96/XSSps1DC/R2y4VZIUi+BjttpA5Om L5+LRa56wyb6TZt8AXLVBQdsou4kyxuAii5Y5aKre6mStmyW0HpXNTJ/Efsz2aCxTXTT 8O+bmcn1UBBUKAjyeHSF9K6NRcpKK+7on5k3B+0pL3QL0BHvYPFF9jfrsnSmJgL3BoIU dWhzCJuFRwlw8MFaKZfpRvfbdGz4PxbFuzBJ6PTK9TareP3YOdXFekpgQsGu8MH++G4e 6DfA== X-Gm-Message-State: AOJu0YxYbvHsQ6lxUUrO8KmCj3bkHmsqm5ot8VVMOUYfioy8AiBcPeZj DXkLTC2ALTcvj/p+dHK/GSC6Ophm7MyPWpdxqAOO1VwZnO8FKHsbtL1qvz0wFRLiwW/R2qqNd5/ 5SmhqSZSovDT36C/goUCMz6HYTvhdJRKB5Vi3r7Lh X-Gm-Gg: ASbGncuuC2wQEZzIieHEgOZrOJbOAilJfcgP9Vfux1/+WDbb3weSkNKNhyxJWbFUqjy Cm1zPx0nYefKxtu4mFu1gbnRHqOe1tvLXQclkj15zD1RXuvvZZ3PTOKe/KU+LrVrUlJIUoPpzpO x5wuup88U4m8LBFwPeXmCF9PTEphWLDRDrYe09fCu3vItZgVCm01U3ceHEq4q7/a6oia9kXCnXx 10BRlNR+7BX+mTsL1Vo1r0s9poE0kxHrJDLI775b29v2YVwoXPmZfcjKN7LVNUmdNzOs/IGZsYL DRL/fGZO8CODqtgA9x+bXwDJJum6iWKX/a+J3qFUtD9MXiuIxF9Lli9AzZw= X-Google-Smtp-Source: AGHT+IF97h68jVfauk3JfqN4OnttERi5ariexjuEyW4cLctxqteMnZivI8b5CMpR1T/WOL+D/9/6y3luaOAn X-Received: by 2002:a05:6602:2dc7:b0:861:7237:9021 with SMTP id ca18e2360f4ac-86747228d20mr328978039f.3.1746614697664; Wed, 07 May 2025 03:44:57 -0700 (PDT) Received: from postal.iol.unh.edu (postal.iol.unh.edu. [132.177.123.84]) by smtp-relay.gmail.com with ESMTPS id ca18e2360f4ac-864aa585c8asm221276739f.26.2025.05.07.03.44.57 (version=TLS1_2 cipher=ECDHE-ECDSA-AES128-GCM-SHA256 bits=128/128); Wed, 07 May 2025 03:44:57 -0700 (PDT) X-Relaying-Domain: iol.unh.edu Date: Wed, 07 May 2025 03:44:57 -0700 (PDT) Message-ID: <681b39a9.050a0220.4f902.c647SMTPIN_ADDED_MISSING@mx.google.com> Received: from [172.21.0.6] (unknown [172.18.0.240]) by postal.iol.unh.edu (Postfix) with ESMTP id 255686052471; Wed, 7 May 2025 06:44:57 -0400 (EDT) Subject: |SUCCESS| pw153326 [PATCH] net/mlx5: fix transceiver warning when no From: dpdklab@iol.unh.edu To: Test Report Cc: dpdk-test-reports@iol.unh.edu In-Reply-To: <20250506133107.4432-1-yogev@cgstowernetworks.com> References: <20250506133107.4432-1-yogev@cgstowernetworks.com> Content-Type: text/plain X-BeenThere: test-report@dpdk.org X-Mailman-Version: 2.1.29 Precedence: list List-Id: automatic DPDK test reports List-Unsubscribe: , List-Archive: List-Post: List-Help: List-Subscribe: , Errors-To: test-report-bounces@dpdk.org Test-Label: iol-compile-amd64-testing Test-Status: SUCCESS http://dpdk.org/patch/153326 _Testing PASS_ Submitter: yogev Date: Tuesday, May 06 2025 13:31:07 DPDK git baseline: Repo:dpdk Branch: master CommitID:edd3f4b1265e6da707c46ca9b6c39d332647baea 153326 --> testing pass Upstream job id: Windows-Compile-DPDK-Native#28252 Test environment and result as below: +-----------------------------------+--------------------+-------------------+------------------+-------------------+-------------------------+ | Environment | dpdk_meson_compile | dpdk_compile_spdk | dpdk_compile_ovs | dpdk_msvc_compile | dpdk_llvm_clang_compile | +===================================+====================+===================+==================+===================+=========================+ | CentOS Stream 10 | PASS | SKIPPED | SKIPPED | SKIPPED | SKIPPED | +-----------------------------------+--------------------+-------------------+------------------+-------------------+-------------------------+ | CentOS Stream 9 | PASS | PASS | SKIPPED | SKIPPED | SKIPPED | +-----------------------------------+--------------------+-------------------+------------------+-------------------+-------------------------+ | Fedora 40 (Clang) | PASS | PASS | SKIPPED | SKIPPED | SKIPPED | +-----------------------------------+--------------------+-------------------+------------------+-------------------+-------------------------+ | Debian 12 | PASS | PASS | SKIPPED | SKIPPED | SKIPPED | +-----------------------------------+--------------------+-------------------+------------------+-------------------+-------------------------+ | Fedora 41 (Clang) | PASS | PASS | PASS | SKIPPED | SKIPPED | +-----------------------------------+--------------------+-------------------+------------------+-------------------+-------------------------+ | Fedora 40 | PASS | PASS | SKIPPED | SKIPPED | SKIPPED | +-----------------------------------+--------------------+-------------------+------------------+-------------------+-------------------------+ | openSUSE Leap 15 | PASS | SKIPPED | SKIPPED | SKIPPED | SKIPPED | +-----------------------------------+--------------------+-------------------+------------------+-------------------+-------------------------+ | RHEL8 | PASS | SKIPPED | SKIPPED | SKIPPED | SKIPPED | +-----------------------------------+--------------------+-------------------+------------------+-------------------+-------------------------+ | Fedora 41 | PASS | PASS | PASS | SKIPPED | SKIPPED | +-----------------------------------+--------------------+-------------------+------------------+-------------------+-------------------------+ | RHEL9 | PASS | SKIPPED | SKIPPED | SKIPPED | SKIPPED | +-----------------------------------+--------------------+-------------------+------------------+-------------------+-------------------------+ | Ubuntu 20.04 | PASS | SKIPPED | SKIPPED | SKIPPED | SKIPPED | +-----------------------------------+--------------------+-------------------+------------------+-------------------+-------------------------+ | Ubuntu 22.04 | PASS | PASS | SKIPPED | SKIPPED | SKIPPED | +-----------------------------------+--------------------+-------------------+------------------+-------------------+-------------------------+ | Ubuntu 24.04 | PASS | PASS | PASS | SKIPPED | SKIPPED | +-----------------------------------+--------------------+-------------------+------------------+-------------------+-------------------------+ | Alpine | PASS | SKIPPED | SKIPPED | SKIPPED | SKIPPED | +-----------------------------------+--------------------+-------------------+------------------+-------------------+-------------------------+ | Ubuntu 24.04 32 Bit Cross Compile | PASS | SKIPPED | SKIPPED | SKIPPED | SKIPPED | +-----------------------------------+--------------------+-------------------+------------------+-------------------+-------------------------+ | FreeBSD 13.5 | PASS | SKIPPED | SKIPPED | SKIPPED | SKIPPED | +-----------------------------------+--------------------+-------------------+------------------+-------------------+-------------------------+ | FreeBSD 14.2 | PASS | SKIPPED | SKIPPED | SKIPPED | SKIPPED | +-----------------------------------+--------------------+-------------------+------------------+-------------------+-------------------------+ | Windows Server 2022 | SKIPPED | SKIPPED | SKIPPED | PASS | PASS | +-----------------------------------+--------------------+-------------------+------------------+-------------------+-------------------------+ CentOS Stream 10 Kernel: Depends on container host Compiler: gcc 14.2.1 20241104 (Red Hat 14.2.1-6) CentOS Stream 9 Kernel: Depends on container host Compiler: gcc 11.5.0 20240719 (Red Hat 11.5.0-2) Fedora 40 (Clang) Kernel: Depends on container host Compiler: clang 18.1.8 (Fedora 18.1.8-1.fc40) Debian 12 Kernel: Depends on container host Compiler: gcc (Debian 12.2.0-14) 12.2.0 Fedora 41 (Clang) Kernel: Depends on container host Compiler: clang 19.1.5 (Fedora 19.1.5-1.fc41) Fedora 40 Kernel: Depends on container host Compiler: gcc 14.2.1 20240912 (Red Hat 14.2.1-3) openSUSE Leap 15 Kernel: Depends on container host Compiler: gcc (SUSE Linux) 7.5.0 RHEL8 Kernel: Depends on container host Compiler: gcc 8.5.0 20210514 (Red Hat 8.5.0-22) Fedora 41 Kernel: Depends on container host Compiler: gcc 14.2.1 20240912 (Red Hat 14.2.1-3) RHEL9 Kernel: Depends on container host Compiler: gcc 11.5.0 20240719 (Red Hat 11.5.0-2) Ubuntu 20.04 Kernel: Depends on container host Compiler: gcc (Ubuntu 9.4.0-1ubuntu1~20.04.2) 9.4.0 Ubuntu 22.04 Kernel: Depends on container host Compiler: gcc (Ubuntu 11.4.0-1ubuntu1~22.04) 11.4.0 Ubuntu 24.04 Kernel: Depends on container host Compiler: gcc (Ubuntu 13.3.0-6ubuntu2~24.04) 13.3.0 Alpine Kernel: Depends on container host Compiler: gcc (Alpine 14.2.0) 14.2.0 Ubuntu 24.04 32 Bit Cross Compile Kernel: Depends on container host Compiler: gcc (Ubuntu 13.3.0-6ubuntu2~24.04) 13.3.0 FreeBSD 13.5 Kernel: 13.5-RELEASE Compiler: clang 19.1.7 FreeBSD 14.2 Kernel: 14.2-RELEASE Compiler: clang 18.1.6 Windows Server 2022 Kernel: 10.0.20348.2031 Compiler: clang 15.0.7, gcc 14.1.0 (MinGW), and MSVC VS 19.39.33521 To view detailed results, visit: https://lab.dpdk.org/results/dashboard/patchsets/33124/ UNH-IOL DPDK Community Lab To manage your email subscriptions, visit: https://lab.dpdk.org/results/dashboard/preferences/subscriptions/