From mboxrd@z Thu Jan 1 00:00:00 1970 Return-Path: Received: from mails.dpdk.org (mails.dpdk.org [217.70.189.124]) by inbox.dpdk.org (Postfix) with ESMTP id ED3EB46676 for ; Wed, 7 May 2025 13:20:09 +0200 (CEST) Received: from mails.dpdk.org (localhost [127.0.0.1]) by mails.dpdk.org (Postfix) with ESMTP id E8A29402AB; Wed, 7 May 2025 13:20:09 +0200 (CEST) Received: from mail-pg1-f225.google.com (mail-pg1-f225.google.com [209.85.215.225]) by mails.dpdk.org (Postfix) with ESMTP id 6829F4025A for ; Wed, 7 May 2025 13:20:08 +0200 (CEST) Received: by mail-pg1-f225.google.com with SMTP id 41be03b00d2f7-b07d607dc83so5706851a12.1 for ; Wed, 07 May 2025 04:20:08 -0700 (PDT) DKIM-Signature: v=1; a=rsa-sha256; c=relaxed/relaxed; d=iol.unh.edu; s=unh-iol; t=1746616807; x=1747221607; darn=dpdk.org; h=references:in-reply-to:cc:to:from:subject:message-id:date:from:to :cc:subject:date:message-id:reply-to; bh=TJRRlVI7pOCygTw/NM5SIB2evsWA7VXHHGf/Sug3P4o=; b=X1N59nLJEeerGFafnG3TK99MicjbhABak4fIvp7+/l+N3cwMm1VrCltdAK7iE6T08X Wb2RpplZeF+AJdjtVMvXwvgRGC1+MhLDZ8lm8TxGuxfavL/z9nTFbQlcBwDk9ozszh0L e72VComUB+EA3SvUZsgUlzXFMe/BVfVTDOJQY= X-Google-DKIM-Signature: v=1; a=rsa-sha256; c=relaxed/relaxed; d=1e100.net; s=20230601; t=1746616807; x=1747221607; h=references:in-reply-to:cc:to:from:subject:message-id:date :x-gm-message-state:from:to:cc:subject:date:message-id:reply-to; bh=TJRRlVI7pOCygTw/NM5SIB2evsWA7VXHHGf/Sug3P4o=; b=BhpY1owN5OTAKWbxtutv4FSnXvs9SvWZYat6fWAK8fN1yss64s473JfEKh9X8s/HQa 4pC/NmxdH9DP4Pz9FiW8o4AcNJx64NhtqGaSqqnApiOsZsHSmUgHBK5hAG7yY0w/BUv9 B1RDlfYPJWxRQqZMkc9bEaZZtBQ/VZh+YaR/ZrQdq2OeAv+yyoeqDNUPgCluOXQWtotM DAUBn7CXKqP0k6TVVvZw3L0UCKDDZH4bc6UTvDiCxHNkotcXXuiRnMHq9J0kT+jf2ZKn LdayxYLDq91bc67G8CiOtgQEJeidUqUeWXUet9hxdqxbQJX/SJVgjQLZ4LbBbZod80gp jMMQ== X-Gm-Message-State: AOJu0YzMKiwg5zqejUHsBYn8Lp7jJ0gUm/VaFyHfAD3Nt7jw9ToDBtzr pqE7u9WQg+n7OALYiqdQ5x8APYxDeh2sjUhY2tDjYz5Hj8We+wJ6ZRy5PgY//cMwX2dA8RZp+/G YvdCiJ16F1CLHIch3fjZERxKsFutXa1GRQdJXyaAo X-Gm-Gg: ASbGnct61x3KjmgHODL1NVeUFPrKmPm6QzbhggUPKRr8JxjyD7XIXdvnLcpOyzNSJLd GwEWVru86Ujm559601Yj9dq52uTjWmsq3HSEQMYRuUBw+uaH1IinFMkhNPOm+qHAHynQ2uGTyEy kukmghRWZ34QopJa0Jl8qYJBYUvju/i25Y502aXv9SXUBUox7HbOt+1F9e/TQZViLmxvPLjtmlx COdff3ADFFGOvZIp1jEcf63SRX9B5uJs4c97whMR8j1Dd4k7n2o1rwsd/HI7Sniki2eljRvrV+U sVL1RD/w8oDny9WjO/WWFynmq6XgLjU/o0UYuFeON+2Jc/mivKykZigkHaY= X-Google-Smtp-Source: AGHT+IHPuEnSlKPxUgz0O77ZMYB2NRvFrgYEYyn+/+HY9K4c/CBNteWlqPwaJr/6HErIYZPPtGwgVJ7jgPYG X-Received: by 2002:a17:90b:4d04:b0:2ff:6488:e01c with SMTP id 98e67ed59e1d1-30aac2a3241mr4255540a91.29.1746616807191; Wed, 07 May 2025 04:20:07 -0700 (PDT) Received: from postal.iol.unh.edu (postal.iol.unh.edu. [132.177.123.84]) by smtp-relay.gmail.com with ESMTPS id d9443c01a7336-22e151f273asm18109825ad.57.2025.05.07.04.20.07 (version=TLS1_2 cipher=ECDHE-ECDSA-AES128-GCM-SHA256 bits=128/128); Wed, 07 May 2025 04:20:07 -0700 (PDT) X-Relaying-Domain: iol.unh.edu Date: Wed, 07 May 2025 04:20:07 -0700 (PDT) Message-ID: <681b41e7.170a0220.2375e0.9fc4SMTPIN_ADDED_MISSING@mx.google.com> Received: from [172.21.0.5] (unknown [172.18.0.240]) by postal.iol.unh.edu (Postfix) with ESMTP id 1D61F6052471; Wed, 7 May 2025 07:20:06 -0400 (EDT) Subject: |SUCCESS| pw153310-153322 [PATCH] [v1,13/13] net/intel: add common T From: dpdklab@iol.unh.edu To: Test Report Cc: dpdk-test-reports@iol.unh.edu In-Reply-To: <3925dc733f7a3c4dfcc1a36a5df5d2b14a3c5372.1746538072.git.anatoly.burakov@intel.com> References: <3925dc733f7a3c4dfcc1a36a5df5d2b14a3c5372.1746538072.git.anatoly.burakov@intel.com> Content-Type: text/plain X-BeenThere: test-report@dpdk.org X-Mailman-Version: 2.1.29 Precedence: list List-Id: automatic DPDK test reports List-Unsubscribe: , List-Archive: List-Post: List-Help: List-Subscribe: , Errors-To: test-report-bounces@dpdk.org Test-Label: iol-compile-amd64-testing Test-Status: SUCCESS http://dpdk.org/patch/153322 _Testing PASS_ Submitter: Burakov, Anatoly Date: Tuesday, May 06 2025 13:28:02 DPDK git baseline: Repo:dpdk Branch: master CommitID:7cf0355db9fdab5648b05fd787356c391c510534 153310-153322 --> testing pass Upstream job id: Generic-DPDK-Compile-Meson#385933 Test environment and result as below: +-------------------+--------------------+-------------------+------------------+ | Environment | dpdk_meson_compile | dpdk_compile_spdk | dpdk_compile_ovs | +===================+====================+===================+==================+ | Ubuntu 20.04 | PASS | SKIPPED | SKIPPED | +-------------------+--------------------+-------------------+------------------+ | CentOS Stream 9 | PASS | PASS | SKIPPED | +-------------------+--------------------+-------------------+------------------+ | Fedora 41 (Clang) | PASS | PASS | PASS | +-------------------+--------------------+-------------------+------------------+ | openSUSE Leap 15 | PASS | SKIPPED | SKIPPED | +-------------------+--------------------+-------------------+------------------+ | Fedora 40 | PASS | PASS | SKIPPED | +-------------------+--------------------+-------------------+------------------+ | Debian 12 | PASS | PASS | SKIPPED | +-------------------+--------------------+-------------------+------------------+ | Fedora 40 (Clang) | PASS | PASS | SKIPPED | +-------------------+--------------------+-------------------+------------------+ | CentOS Stream 10 | PASS | SKIPPED | SKIPPED | +-------------------+--------------------+-------------------+------------------+ | RHEL9 | PASS | SKIPPED | SKIPPED | +-------------------+--------------------+-------------------+------------------+ | Ubuntu 24.04 | PASS | PASS | PASS | +-------------------+--------------------+-------------------+------------------+ | Fedora 41 | PASS | PASS | PASS | +-------------------+--------------------+-------------------+------------------+ | Ubuntu 22.04 | PASS | PASS | SKIPPED | +-------------------+--------------------+-------------------+------------------+ | RHEL8 | PASS | SKIPPED | SKIPPED | +-------------------+--------------------+-------------------+------------------+ | Alpine | PASS | SKIPPED | SKIPPED | +-------------------+--------------------+-------------------+------------------+ | FreeBSD 13.5 | PASS | SKIPPED | SKIPPED | +-------------------+--------------------+-------------------+------------------+ | FreeBSD 14.2 | PASS | SKIPPED | SKIPPED | +-------------------+--------------------+-------------------+------------------+ Ubuntu 20.04 Kernel: Depends on container host Compiler: gcc (Ubuntu 9.4.0-1ubuntu1~20.04.2) 9.4.0 CentOS Stream 9 Kernel: Depends on container host Compiler: gcc 11.5.0 20240719 (Red Hat 11.5.0-2) Fedora 41 (Clang) Kernel: Depends on container host Compiler: clang 19.1.5 (Fedora 19.1.5-1.fc41) openSUSE Leap 15 Kernel: Depends on container host Compiler: gcc (SUSE Linux) 7.5.0 Fedora 40 Kernel: Depends on container host Compiler: gcc 14.2.1 20240912 (Red Hat 14.2.1-3) Debian 12 Kernel: Depends on container host Compiler: gcc (Debian 12.2.0-14) 12.2.0 Fedora 40 (Clang) Kernel: Depends on container host Compiler: clang 18.1.8 (Fedora 18.1.8-1.fc40) CentOS Stream 10 Kernel: Depends on container host Compiler: gcc 14.2.1 20241104 (Red Hat 14.2.1-6) RHEL9 Kernel: Depends on container host Compiler: gcc 11.5.0 20240719 (Red Hat 11.5.0-2) Ubuntu 24.04 Kernel: Depends on container host Compiler: gcc (Ubuntu 13.3.0-6ubuntu2~24.04) 13.3.0 Fedora 41 Kernel: Depends on container host Compiler: gcc 14.2.1 20240912 (Red Hat 14.2.1-3) Ubuntu 22.04 Kernel: Depends on container host Compiler: gcc (Ubuntu 11.4.0-1ubuntu1~22.04) 11.4.0 RHEL8 Kernel: Depends on container host Compiler: gcc 8.5.0 20210514 (Red Hat 8.5.0-22) Alpine Kernel: Depends on container host Compiler: gcc (Alpine 14.2.0) 14.2.0 FreeBSD 13.5 Kernel: 13.5-RELEASE Compiler: clang 19.1.7 FreeBSD 14.2 Kernel: 14.2-RELEASE Compiler: clang 18.1.6 To view detailed results, visit: https://lab.dpdk.org/results/dashboard/patchsets/33122/ UNH-IOL DPDK Community Lab To manage your email subscriptions, visit: https://lab.dpdk.org/results/dashboard/preferences/subscriptions/