From mboxrd@z Thu Jan 1 00:00:00 1970 Return-Path: Received: from mails.dpdk.org (mails.dpdk.org [217.70.189.124]) by inbox.dpdk.org (Postfix) with ESMTP id 16D704669D for ; Wed, 7 May 2025 13:31:53 +0200 (CEST) Received: from mails.dpdk.org (localhost [127.0.0.1]) by mails.dpdk.org (Postfix) with ESMTP id EBA0C4025D; Wed, 7 May 2025 13:31:52 +0200 (CEST) Received: from mail-pl1-f228.google.com (mail-pl1-f228.google.com [209.85.214.228]) by mails.dpdk.org (Postfix) with ESMTP id 9573E4025A for ; Wed, 7 May 2025 13:31:51 +0200 (CEST) Received: by mail-pl1-f228.google.com with SMTP id d9443c01a7336-22e70a9c6bdso4601545ad.3 for ; Wed, 07 May 2025 04:31:51 -0700 (PDT) DKIM-Signature: v=1; a=rsa-sha256; c=relaxed/relaxed; d=iol.unh.edu; s=unh-iol; t=1746617510; x=1747222310; darn=dpdk.org; h=cc:to:from:subject:message-id:date:from:to:cc:subject:date :message-id:reply-to; bh=/8Onr7FXRMWBVLKY6lGlh04MyRzOO/+sCkMvEhhrBcU=; b=T4mQVP7etEy9tpabIK5+Ya+W8W8fDwtQ6hA/pfoE2hxAjjsfcuTGUoMnhj60XxNNqr /fv4B2/Z3E+uxdn+nF2BZCkvVFFbGtrhc51Vhr8hCys1ViGNYBY7UG3KH8OCFjQj3NhL EszlxxVwMtAy6agirgloDG0iFSp/SW5H6FRhM= X-Google-DKIM-Signature: v=1; a=rsa-sha256; c=relaxed/relaxed; d=1e100.net; s=20230601; t=1746617510; x=1747222310; h=cc:to:from:subject:message-id:date:x-gm-message-state:from:to:cc :subject:date:message-id:reply-to; bh=/8Onr7FXRMWBVLKY6lGlh04MyRzOO/+sCkMvEhhrBcU=; b=l9hSybSsizve/JiA2I69wXV9InE+AgBb/NVEJiuHrI0nYTBP9UwldpPeA4HLM30Ucd RskLV1y6fsfmShxUYPegwtf2B6vzOeI9Hs4PsHt6L3cEoi8ZKTtaAIyCnWu1/NgzOm9W cewnXj3otB3Uyh5v3E/9TyZpbNXZuJBZE3MG14tNWUvvlc9Be27twRJPjQBodff8jvM4 6q/pVHVsuVMLb9DVVb20KkDU5icKgDOYSnuHKePtlJTVXqQRwOpf+Q6/nOrLs/X/JUq9 eTuvKC29BWOC74s2bMBlrx/IIzPw5nTOL9at1ShO90vac2UZEJg/baJHTaB+C++3P2h0 Xv1Q== X-Gm-Message-State: AOJu0YzdQiHq6ZS/jaB8YNkL1FNzCJq+R2TDeFwOCBkjWcPiRhzgoq9I 2q22K4g1e3Ys4XIyMSOAFYNhPhqo8UrY++/lSKGSw/J08eXLqPTbcG70gUJKRAOAj7yWjG7ZNKc iu1ck2kzT/GC+EidogGnzJ831VuID4ilqp2XqNhHmgQK911IC X-Gm-Gg: ASbGncuc6TmpK4jpmdUyWgXbRN+AiuCMfuvGxzT4dq1f5aiDM5Ys0YKPO6PWJ+9iLt7 zx0j+LgHPnPR7Snc3noi6FpVVGStkixaVnnlzzbKyZMDvEcuxbTQirUl1ohkybEe0SC9GFsscpq C7Lerek1emG6GeiMeLE0BsZ1pHnVfT98bVVllpGRJaeQ/W9noE3tfOX+22axnJHfckGbmf3vrGr Rt+KJBLyLFWj2YDLJ8ddmw3Zz7p7ZRqmSIiCGqYtDS25UVgC6+5TEOq7LOfDkUojppoYL7h3cpN YWRy1TcPZgd5mVWYybrkdULig07uIKbczkPs X-Google-Smtp-Source: AGHT+IFI/iUttdTc67kxwvXzx4bfPOb72gn230zdOK+SwMSrWiaVwNgw+CGxeq9aURShRNeYUpcbYIUb/813 X-Received: by 2002:a17:902:d4ce:b0:21f:35fd:1b6c with SMTP id d9443c01a7336-22e5ede6912mr40781155ad.45.1746617510506; Wed, 07 May 2025 04:31:50 -0700 (PDT) Received: from postal.iol.unh.edu (postal.iol.unh.edu. [2606:4100:3880:1234::84]) by smtp-relay.gmail.com with ESMTPS id d9443c01a7336-22e151e9f21sm18378195ad.51.2025.05.07.04.31.50 (version=TLS1_2 cipher=ECDHE-ECDSA-AES128-GCM-SHA256 bits=128/128); Wed, 07 May 2025 04:31:50 -0700 (PDT) X-Relaying-Domain: iol.unh.edu Date: Wed, 07 May 2025 04:31:50 -0700 (PDT) Message-ID: <681b44a6.170a0220.84dd5.a267SMTPIN_ADDED_MISSING@mx.google.com> Received: from [172.21.0.5] (unknown [172.18.0.240]) by postal.iol.unh.edu (Postfix) with ESMTP id 00CDB6052471; Wed, 7 May 2025 07:31:50 -0400 (EDT) Subject: |SUCCESS| [GIT MASTER] 4401486b5e30d43a134f80f9802f60b5f43e74a8 From: dpdklab@iol.unh.edu To: Test Report Cc: dpdk-test-reports@iol.unh.edu, Xueming Li , Christian Ehrhardt , Kevin Traynor , Luca Boccassi Content-Type: text/plain X-BeenThere: test-report@dpdk.org X-Mailman-Version: 2.1.29 Precedence: list List-Id: automatic DPDK test reports List-Unsubscribe: , List-Archive: List-Post: List-Help: List-Subscribe: , Errors-To: test-report-bounces@dpdk.org _Testing PASS_ Branch: tags/v22.11 4401486b5e30d43a134f80f9802f60b5f43e74a8 --> testing pass Upstream job id: Aarch32-Unit-Test#6162 Test environment and result as below: +-----------------------------+------------------------------+---------------------------+--------------+----------------+ | Environment | cryptodev_sw_snow3g_autotest | cryptodev_sw_zuc_autotest | lpm_autotest | dpdk_unit_test | +=============================+==============================+===========================+==============+================+ | Debian 12 (arm) | PASS | PASS | SKIPPED | SKIPPED | +-----------------------------+------------------------------+---------------------------+--------------+----------------+ | Ubuntu 20.04 ARM SVE | SKIPPED | SKIPPED | PASS | SKIPPED | +-----------------------------+------------------------------+---------------------------+--------------+----------------+ | 32-bit Ubuntu 22.04.4 (ARM) | SKIPPED | SKIPPED | SKIPPED | PASS | +-----------------------------+------------------------------+---------------------------+--------------+----------------+ Debian 12 (arm) Kernel: Depends on container host Compiler: gcc (Debian 12.2.0-14) 12.2.0 Ubuntu 20.04 ARM SVE Kernel: Depends on container host Compiler: gcc (Ubuntu 10.5.0-1ubuntu1~20.04) 10.5.0 32-bit Ubuntu 22.04.4 (ARM) Kernel: 5.15.83+ aarch64 Compiler: gcc (Ubuntu 11.4.0-1ubuntu1~22.04) 11.4.0 To view detailed results, visit: https://lab.dpdk.org/results/dashboard/tarballs/33462/ UNH-IOL DPDK Community Lab To manage your email subscriptions, visit: https://lab.dpdk.org/results/dashboard/preferences/subscriptions/