From mboxrd@z Thu Jan 1 00:00:00 1970 Return-Path: Received: from mails.dpdk.org (mails.dpdk.org [217.70.189.124]) by inbox.dpdk.org (Postfix) with ESMTP id 30884466B3 for ; Wed, 7 May 2025 13:58:02 +0200 (CEST) Received: from mails.dpdk.org (localhost [127.0.0.1]) by mails.dpdk.org (Postfix) with ESMTP id 29E684025D; Wed, 7 May 2025 13:58:02 +0200 (CEST) Received: from mail-il1-f228.google.com (mail-il1-f228.google.com [209.85.166.228]) by mails.dpdk.org (Postfix) with ESMTP id 49D2E4025A for ; Wed, 7 May 2025 13:58:01 +0200 (CEST) Received: by mail-il1-f228.google.com with SMTP id e9e14a558f8ab-3da741bcedcso937745ab.1 for ; Wed, 07 May 2025 04:58:01 -0700 (PDT) DKIM-Signature: v=1; a=rsa-sha256; c=relaxed/relaxed; d=iol.unh.edu; s=unh-iol; t=1746619080; x=1747223880; darn=dpdk.org; h=cc:to:from:subject:message-id:date:from:to:cc:subject:date :message-id:reply-to; bh=rSOy/nFLOERbcFeGYr83WLZww88NF3FggsPGVb/o1UU=; b=Om4J69oXdD3bOGDfhdJMnZHSj/C1mJczep2ER3m6l5ha9mlxRvnrVPFUaPMsWb/SaT h7jMF3GmxZtJkDOs1EXSNcZHccJuCkIwrSYCng7qJQjHe52k1Cu8oEnISVoQPTEv+aLP 2DsmeStqNSt9puRbeeYPn28xQOzSsyvVLjxvY= X-Google-DKIM-Signature: v=1; a=rsa-sha256; c=relaxed/relaxed; d=1e100.net; s=20230601; t=1746619080; x=1747223880; h=cc:to:from:subject:message-id:date:x-gm-message-state:from:to:cc :subject:date:message-id:reply-to; bh=rSOy/nFLOERbcFeGYr83WLZww88NF3FggsPGVb/o1UU=; b=uizTvsyD9uXMAkyorUcTE7UhuwcEisXhr3Qkoo2LKIzbYoFjI3OiQeAF1D4rZMO7+o als+b12PYhf4YsppiNCjhioJc+6rhW+E5d7QAllxttjNFUfhMUSE6dWO42ujjX7Ny9LC chUrmnGhkSF62GtJTA5EnPayb6OQgAuDk9bwApoe+lygV1M8Q21wGKAv6KC/13wdmJsR reaqmBnDwDBzH/tWdikXMRkG+9zSMlHfIplp/jIl4V0GHsIl8HbHJ3LgqkwvZNFK4waK 0WiUCWHeRw/iRZjylSSvotE+mG592kytP5hZwEA9880qMzsuPMDS3jp80EZr8lAqCzSi p7mw== X-Gm-Message-State: AOJu0Yx4YmgKwlHwgOYXWK4viiJZLkCk7Ma8f9T0JdHa4Oy/c0l+q3UI Fsjk5X6uxxoyYhixShi6jUJXswCdEifmR3Z32uCsHZF6COHy34y0Lr4Om2dJNdFY26ElMtMu9p9 CNuap1ra8RsenlAZgjaoT4skrsU+oixJsD9FfT+okQsyZCiVp X-Gm-Gg: ASbGnctPRyCWt6zF7V4V2DSwFpLPBKlm12WiN8leNcdnY5tjMDdOWc/ZsinYe4XDK1z Tx7BccBMxTdP/1rPmMOAcbTY1m5b46eqrbq+4IJSDZyj/xfzCFi/MlX1ThLRM3hjpiwXwrXpcGD DiwQ8a4tAj+vgSVj/AmMUMyUdlHE2C4QqQM1+13BDI+5eJiMGdCarm3bxct8WRWqBCdJSN+Fb/u +HbtpppwZUy6U7i1NY81kt+vQy51KZLmJikC1cPgBGbNxTRS9koMVQ7V5Z+QrmnsUevGNXAJZtK h5ZSOxJQLXDY+etqZMCMxAzoUupXkxbWK01J X-Google-Smtp-Source: AGHT+IF9V2Qr1eyavsHZXx9WIQsFmNsUarJbS/yQfgG9vt96o8mp/JC9y6O/rUT4N4MFoQyytkunnc7F4wby X-Received: by 2002:a05:6e02:b2f:b0:3d6:d179:a311 with SMTP id e9e14a558f8ab-3da738e5b09mr25720975ab.6.1746619080620; Wed, 07 May 2025 04:58:00 -0700 (PDT) Received: from postal.iol.unh.edu (postal.iol.unh.edu. [2606:4100:3880:1234::84]) by smtp-relay.gmail.com with ESMTPS id e9e14a558f8ab-3d975f6ce18sm22836705ab.54.2025.05.07.04.58.00 (version=TLS1_2 cipher=ECDHE-ECDSA-AES128-GCM-SHA256 bits=128/128); Wed, 07 May 2025 04:58:00 -0700 (PDT) X-Relaying-Domain: iol.unh.edu Date: Wed, 07 May 2025 04:58:00 -0700 (PDT) Message-ID: <681b4ac8.050a0220.134b70.f884SMTPIN_ADDED_MISSING@mx.google.com> Received: from [172.21.0.11] (unknown [172.18.0.240]) by postal.iol.unh.edu (Postfix) with ESMTP id 27F706052471; Wed, 7 May 2025 07:58:00 -0400 (EDT) Subject: |SUCCESS| [GIT MASTER] 83a7a648344674c0269fcaeb71d8d16468421a0e From: dpdklab@iol.unh.edu To: Test Report Cc: dpdk-test-reports@iol.unh.edu, Xueming Li , Christian Ehrhardt , Kevin Traynor , Luca Boccassi Content-Type: text/plain X-BeenThere: test-report@dpdk.org X-Mailman-Version: 2.1.29 Precedence: list List-Id: automatic DPDK test reports List-Unsubscribe: , List-Archive: List-Post: List-Help: List-Subscribe: , Errors-To: test-report-bounces@dpdk.org _Testing PASS_ Branch: tags/v23.11 83a7a648344674c0269fcaeb71d8d16468421a0e --> testing pass Upstream job id: Generic-Unit-Test-DPDK#336132 Test environment and result as below: +-------------------+----------------+ | Environment | dpdk_unit_test | +===================+================+ | CentOS Stream 10 | PASS | +-------------------+----------------+ | CentOS Stream 9 | PASS | +-------------------+----------------+ | Debian 12 | PASS | +-------------------+----------------+ | Fedora 40 (Clang) | PASS | +-------------------+----------------+ | Fedora 40 | PASS | +-------------------+----------------+ | Fedora 41 | PASS | +-------------------+----------------+ | RHEL8 | PASS | +-------------------+----------------+ | Fedora 41 (Clang) | PASS | +-------------------+----------------+ | Ubuntu 20.04 | PASS | +-------------------+----------------+ | RHEL9 | PASS | +-------------------+----------------+ | Ubuntu 22.04 | PASS | +-------------------+----------------+ | Ubuntu 24.04 | PASS | +-------------------+----------------+ CentOS Stream 10 Kernel: Depends on container host Compiler: gcc 14.2.1 20241104 (Red Hat 14.2.1-6) CentOS Stream 9 Kernel: Depends on container host Compiler: gcc 11.5.0 20240719 (Red Hat 11.5.0-2) Debian 12 Kernel: Depends on container host Compiler: gcc (Debian 12.2.0-14) 12.2.0 Fedora 40 (Clang) Kernel: Depends on container host Compiler: clang 18.1.8 (Fedora 18.1.8-1.fc40) Fedora 40 Kernel: Depends on container host Compiler: gcc 14.2.1 20240912 (Red Hat 14.2.1-3) Fedora 41 Kernel: Depends on container host Compiler: gcc 14.2.1 20240912 (Red Hat 14.2.1-3) RHEL8 Kernel: Depends on container host Compiler: gcc 8.5.0 20210514 (Red Hat 8.5.0-22) Fedora 41 (Clang) Kernel: Depends on container host Compiler: clang 19.1.5 (Fedora 19.1.5-1.fc41) Ubuntu 20.04 Kernel: Depends on container host Compiler: gcc (Ubuntu 9.4.0-1ubuntu1~20.04.2) 9.4.0 RHEL9 Kernel: Depends on container host Compiler: gcc 11.5.0 20240719 (Red Hat 11.5.0-2) Ubuntu 22.04 Kernel: Depends on container host Compiler: gcc (Ubuntu 11.4.0-1ubuntu1~22.04) 11.4.0 Ubuntu 24.04 Kernel: Depends on container host Compiler: gcc (Ubuntu 13.3.0-6ubuntu2~24.04) 13.3.0 To view detailed results, visit: https://lab.dpdk.org/results/dashboard/tarballs/33463/ UNH-IOL DPDK Community Lab To manage your email subscriptions, visit: https://lab.dpdk.org/results/dashboard/preferences/subscriptions/