From mboxrd@z Thu Jan 1 00:00:00 1970 Return-Path: Received: from mails.dpdk.org (mails.dpdk.org [217.70.189.124]) by inbox.dpdk.org (Postfix) with ESMTP id 1AF9A466DD for ; Wed, 7 May 2025 14:30:13 +0200 (CEST) Received: from mails.dpdk.org (localhost [127.0.0.1]) by mails.dpdk.org (Postfix) with ESMTP id ED3A84025D; Wed, 7 May 2025 14:30:12 +0200 (CEST) Received: from mail-qv1-f99.google.com (mail-qv1-f99.google.com [209.85.219.99]) by mails.dpdk.org (Postfix) with ESMTP id E50714025A for ; Wed, 7 May 2025 14:30:11 +0200 (CEST) Received: by mail-qv1-f99.google.com with SMTP id 6a1803df08f44-6ecf0e07947so9089776d6.0 for ; Wed, 07 May 2025 05:30:11 -0700 (PDT) DKIM-Signature: v=1; a=rsa-sha256; c=relaxed/relaxed; d=iol.unh.edu; s=unh-iol; t=1746621011; x=1747225811; darn=dpdk.org; h=references:in-reply-to:cc:to:from:subject:message-id:date:from:to :cc:subject:date:message-id:reply-to; bh=XowKkvCrw/7Hzr4pHMCKopxGiDy6Dsh4jNkU5/ocd50=; b=TEHjnm/WSgBckOJBUAYvO23ugl/jGC9Mg1Tujxu6c+MgVZ4lbacWrrn7kAAvw3sXIv +3j4dOUCc82gvVs8pwEqDCdknd/C+S38e+rbmhEullVWxGzyP7bT5T5J76yrUfSsPV/u GNfE3wkOMCL8tCBUkXC5tlhIAI59DV4lpwniA= X-Google-DKIM-Signature: v=1; a=rsa-sha256; c=relaxed/relaxed; d=1e100.net; s=20230601; t=1746621011; x=1747225811; h=references:in-reply-to:cc:to:from:subject:message-id:date :x-gm-message-state:from:to:cc:subject:date:message-id:reply-to; bh=XowKkvCrw/7Hzr4pHMCKopxGiDy6Dsh4jNkU5/ocd50=; b=lSmA9SheCJLOirLLG0wZxJiVk0d1SYA92ik11a9OxpHZGMP6L37GXP7UPy9+lqZtpX bbVx4lVnerqitekZtilZKuUCzxhY710n8te4LgCMGuAw7UydPQJD1hGyrnac4deML6YC OjqykH0YEDmQD/+zfJGzD96E7t/xiHA4oWHcX8U3WEGCfrlrmUQDFF1uBNLxR0M7x0Az /uIz4WZJFRlzSuiAhmqDpRVu7Qov76DKMqibO/JPHEK/sI8EDAaImLFKq9f3QVq/g/IR Gac/eKBekaWPU1tncIIat2opZjTqXQhvYtRJp0rCzaav5Ll+ECeZszV+Lp8rtGXuiytk T2uQ== X-Gm-Message-State: AOJu0Ywbjt+Z1pQkhFBRRQsjC5wrXiVCJYBnsYcqi+ZM0DNUxe4A9/Fg tco7F9LLSYCty3K3c0e265+lyCxKjqWgg3ayokZMfrLjwzLpdiWj+A9gap1BX/ZTJ1oukwCLsW6 zqn3m1iri+rrBqJpFy0nTzY9Gm1CmYjv3NsniIWKOFtsEqhHn5lRj9n0m X-Gm-Gg: ASbGncuKIC+VRSwVnLZYXG/Arzbb70SaHx+bW/Q9tG2VwnbkV29Dw7BEt5F2M9XCNm6 LwdPZYXVu23+CLTT1PWRq1buigK9p0okWZct30DjkKSpfYpWmiWoLKR7gt8hq7Fxv6PRjAT6SDN 81pHeInqlw3trHf2Ri+GWNgOtjgCi5m9s1Aea0cp1cbaI5k5X99DTkH7uuZE1FaN+V37zCCLu2c MPqdoU1be5OyecSv/5752NKYmwrt1MrbZMw4F/LEHRuBNdT/ozseYLfWot66rOrKvPR7v9DY0s2 qYA7pvnoKbelWmpTZjtZJG6G4lXgNAOqvqHj X-Google-Smtp-Source: AGHT+IEl1tMLeG51mIuRquzF8abz8XGE0q/BqtHxfSAp6y9MDy5UpsR4/+6zEEzgQVvcqW1qgKTejgvpAplF X-Received: by 2002:a05:6214:2625:b0:6e8:903c:6e5b with SMTP id 6a1803df08f44-6f541883334mr56907456d6.9.1746621010994; Wed, 07 May 2025 05:30:10 -0700 (PDT) Received: from postal.iol.unh.edu (postal.iol.unh.edu. [2606:4100:3880:1234::84]) by smtp-relay.gmail.com with ESMTPS id 6a1803df08f44-6f54268cfedsm992186d6.41.2025.05.07.05.30.10 (version=TLS1_2 cipher=ECDHE-ECDSA-AES128-GCM-SHA256 bits=128/128); Wed, 07 May 2025 05:30:10 -0700 (PDT) X-Relaying-Domain: iol.unh.edu Date: Wed, 07 May 2025 05:30:10 -0700 (PDT) Message-ID: <681b5252.050a0220.36b8ed.58eaSMTPIN_ADDED_MISSING@mx.google.com> Received: from [172.21.0.6] (unknown [172.18.0.240]) by postal.iol.unh.edu (Postfix) with ESMTP id ADBC26052471; Wed, 7 May 2025 08:30:10 -0400 (EDT) Subject: |SUCCESS| pw153327 [PATCH] net/mlx5: fix error notification for larg From: dpdklab@iol.unh.edu To: Test Report Cc: dpdk-test-reports@iol.unh.edu In-Reply-To: <20250506133206.379993-1-getelson@nvidia.com> References: <20250506133206.379993-1-getelson@nvidia.com> Content-Type: text/plain X-BeenThere: test-report@dpdk.org X-Mailman-Version: 2.1.29 Precedence: list List-Id: automatic DPDK test reports List-Unsubscribe: , List-Archive: List-Post: List-Help: List-Subscribe: , Errors-To: test-report-bounces@dpdk.org Test-Label: iol-unit-amd64-testing Test-Status: SUCCESS http://dpdk.org/patch/153327 _Testing PASS_ Submitter: Gregory Etelson Date: Tuesday, May 06 2025 13:31:51 DPDK git baseline: Repo:dpdk Branch: master CommitID:edd3f4b1265e6da707c46ca9b6c39d332647baea 153327 --> testing pass Upstream job id: Generic-VM-Unit-Test-DPDK#28370 Test environment and result as below: +---------------------+----------------+ | Environment | dpdk_unit_test | +=====================+================+ | CentOS Stream 9 | PASS | +---------------------+----------------+ | CentOS Stream 10 | PASS | +---------------------+----------------+ | Fedora 41 | PASS | +---------------------+----------------+ | RHEL8 | PASS | +---------------------+----------------+ | Debian 12 | PASS | +---------------------+----------------+ | Fedora 40 | PASS | +---------------------+----------------+ | RHEL9 | PASS | +---------------------+----------------+ | Fedora 40 (Clang) | PASS | +---------------------+----------------+ | Fedora 41 (Clang) | PASS | +---------------------+----------------+ | Ubuntu 22.04 | PASS | +---------------------+----------------+ | Ubuntu 20.04 | PASS | +---------------------+----------------+ | Ubuntu 24.04 | PASS | +---------------------+----------------+ | Windows Server 2022 | PASS | +---------------------+----------------+ CentOS Stream 9 Kernel: Depends on container host Compiler: gcc 11.5.0 20240719 (Red Hat 11.5.0-2) CentOS Stream 10 Kernel: Depends on container host Compiler: gcc 14.2.1 20241104 (Red Hat 14.2.1-6) Fedora 41 Kernel: Depends on container host Compiler: gcc 14.2.1 20240912 (Red Hat 14.2.1-3) RHEL8 Kernel: Depends on container host Compiler: gcc 8.5.0 20210514 (Red Hat 8.5.0-22) Debian 12 Kernel: Depends on container host Compiler: gcc (Debian 12.2.0-14) 12.2.0 Fedora 40 Kernel: Depends on container host Compiler: gcc 14.2.1 20240912 (Red Hat 14.2.1-3) RHEL9 Kernel: Depends on container host Compiler: gcc 11.5.0 20240719 (Red Hat 11.5.0-2) Fedora 40 (Clang) Kernel: Depends on container host Compiler: clang 18.1.8 (Fedora 18.1.8-1.fc40) Fedora 41 (Clang) Kernel: Depends on container host Compiler: clang 19.1.5 (Fedora 19.1.5-1.fc41) Ubuntu 22.04 Kernel: Depends on container host Compiler: gcc (Ubuntu 11.4.0-1ubuntu1~22.04) 11.4.0 Ubuntu 20.04 Kernel: Depends on container host Compiler: gcc (Ubuntu 9.4.0-1ubuntu1~20.04.2) 9.4.0 Ubuntu 24.04 Kernel: Depends on container host Compiler: gcc (Ubuntu 13.3.0-6ubuntu2~24.04) 13.3.0 Windows Server 2022 Kernel: 10.0.20348.2031 Compiler: clang 15.0.7, gcc 14.1.0 (MinGW), and MSVC VS 19.39.33521 To view detailed results, visit: https://lab.dpdk.org/results/dashboard/patchsets/33125/ UNH-IOL DPDK Community Lab To manage your email subscriptions, visit: https://lab.dpdk.org/results/dashboard/preferences/subscriptions/