From mboxrd@z Thu Jan 1 00:00:00 1970 Return-Path: Received: from mails.dpdk.org (mails.dpdk.org [217.70.189.124]) by inbox.dpdk.org (Postfix) with ESMTP id C9A4B466DD for ; Wed, 7 May 2025 14:56:57 +0200 (CEST) Received: from mails.dpdk.org (localhost [127.0.0.1]) by mails.dpdk.org (Postfix) with ESMTP id C55E34025D; Wed, 7 May 2025 14:56:57 +0200 (CEST) Received: from mail-pl1-f227.google.com (mail-pl1-f227.google.com [209.85.214.227]) by mails.dpdk.org (Postfix) with ESMTP id 20A754025A for ; Wed, 7 May 2025 14:56:57 +0200 (CEST) Received: by mail-pl1-f227.google.com with SMTP id d9443c01a7336-225477548e1so71506475ad.0 for ; Wed, 07 May 2025 05:56:57 -0700 (PDT) DKIM-Signature: v=1; a=rsa-sha256; c=relaxed/relaxed; d=iol.unh.edu; s=unh-iol; t=1746622616; x=1747227416; darn=dpdk.org; h=references:in-reply-to:cc:to:from:subject:message-id:date:from:to :cc:subject:date:message-id:reply-to; bh=+poCfctA16w72vGIaho8R7zB/1RFbfzWT0E6gLo1U/s=; b=duqWb4l4TyuBvDSPvfAE/jKakG1mqiH9cCFjJgbDl/R7M0VVXarjxB6V1b5dnndlPc dXwkI55pFZjvDXLoKaTzsg2FR+4WTfj/gtSXpBU9Yj/dc8HAQ1JTVn5byuNmfG+Zcmco vVKlYycqOrkfLJB3B1Wl6I16NcjoN7+Mso104= X-Google-DKIM-Signature: v=1; a=rsa-sha256; c=relaxed/relaxed; d=1e100.net; s=20230601; t=1746622616; x=1747227416; h=references:in-reply-to:cc:to:from:subject:message-id:date :x-gm-message-state:from:to:cc:subject:date:message-id:reply-to; bh=+poCfctA16w72vGIaho8R7zB/1RFbfzWT0E6gLo1U/s=; b=xATMs3OZ7llxIjf1u+UQNMoLB9HjZ6tAJxON3r8xhcC9PeCY7KNRr/ybH4n1VitW5s 5J1js8Nm7nuS81fZxLUO+r0E2XARr71N0F26NAHSdeCSWMVJpkYPD1CNbG0D/J7skN3A CRBzBtOzBlEvP2NyxDmsx0uZ6clsKAXg085T4Dmrs11jUFc3ktZaQH/390QNrXbsb6rl dILL7jJHW+kCUaiuVZjGSaMjy+zfzBS8Wy+YOZe0iIpJaXXOjdRHTEGRTYgjLM09RMu2 7COm1cJC1gPZtnIJ0zM+6CtsB427eMFlbG6b2DFxuMVc9kWk2QuF9ZuskgPHeXj3rKy4 QecQ== X-Gm-Message-State: AOJu0YwznPXh5/L+Uj3L/3iIo9O6zMh0mF97OALO96ZBga2khvzI2HwB uv0x4tAx0tKdcxc0gy0YlUDOX2CLW7mxT+vUacZEOwaOsJ7BkpKWbsfcELwZD41dmeb70cnzBev hxRMjLe1fKeHRHXEIeYOgQRwckrOtc2Q1l8GtA/b5VQ6p8eYCGwYzJMRc X-Gm-Gg: ASbGncvFa0CN73GFRYzIT1+1voFmbAJ7QSVwfji/JsdxykEEBBEmhve9Na/omKpzx3x plBYS5jgP5j8zNqO4h5qmWt2X0hEKLlJw2UsUlKEgZAEVR/UcUdnAVElgENLN72HkJ647spNTgN 3woknK/IA64i84UVmCyrwf61F7phs/c2OzH0OB1nlQdxPJyzrhmnkV+pMnLLHIIyraSeHLY99Nq qJ3IOAkGSHc+RcKr9iDWjMe1uuTl95GywSSSJ+4M6NsnF5nvug/zjei++pvSebv9fXSu/FT8cOL HbrEL7Y8hoQ9+/UkZ7JkGdZvzjp5I0c1RjAD X-Google-Smtp-Source: AGHT+IGbNLPqCPqOkM5tL3O2/ppdIEqYy3KK1111qorNqjhRa5i/bUwIJHd/FDLYVrQNjpPb0TYqb0dwgNZJ X-Received: by 2002:a17:902:db0e:b0:220:bcc5:2845 with SMTP id d9443c01a7336-22e5ea2f242mr42748225ad.7.1746622616334; Wed, 07 May 2025 05:56:56 -0700 (PDT) Received: from postal.iol.unh.edu (postal.iol.unh.edu. [2606:4100:3880:1234::84]) by smtp-relay.gmail.com with ESMTPS id d9443c01a7336-22e1522b4c7sm18347255ad.93.2025.05.07.05.56.56 (version=TLS1_2 cipher=ECDHE-ECDSA-AES128-GCM-SHA256 bits=128/128); Wed, 07 May 2025 05:56:56 -0700 (PDT) X-Relaying-Domain: iol.unh.edu Date: Wed, 07 May 2025 05:56:56 -0700 (PDT) Message-ID: <681b5898.170a0220.3341f5.b1eaSMTPIN_ADDED_MISSING@mx.google.com> Received: from [172.21.0.6] (unknown [172.18.0.240]) by postal.iol.unh.edu (Postfix) with ESMTP id C9DAB6052471; Wed, 7 May 2025 08:56:55 -0400 (EDT) Subject: |SUCCESS| pw153309 [PATCH] dts: improve port handling From: dpdklab@iol.unh.edu To: Test Report Cc: dpdk-test-reports@iol.unh.edu In-Reply-To: <20250506131657.1576152-1-luca.vizzarro@arm.com> References: <20250506131657.1576152-1-luca.vizzarro@arm.com> Content-Type: text/plain X-BeenThere: test-report@dpdk.org X-Mailman-Version: 2.1.29 Precedence: list List-Id: automatic DPDK test reports List-Unsubscribe: , List-Archive: List-Post: List-Help: List-Subscribe: , Errors-To: test-report-bounces@dpdk.org Test-Label: iol-compile-amd64-testing Test-Status: SUCCESS http://dpdk.org/patch/153309 _Testing PASS_ Submitter: Luca Vizzarro Date: Tuesday, May 06 2025 13:16:05 DPDK git baseline: Repo:dpdk Branch: master CommitID:1aef42bc97a31906486c9d66b792208948af06f3 153309 --> testing pass Upstream job id: Generic-VM-DPDK-Compile-Meson#35225 Test environment and result as below: +--------------+--------------------+ | Environment | dpdk_meson_compile | +==============+====================+ | Ubuntu 20.04 | PASS | +--------------+--------------------+ | FreeBSD 13.5 | PASS | +--------------+--------------------+ | FreeBSD 14.2 | PASS | +--------------+--------------------+ Ubuntu 20.04 Kernel: 4.19.325-0419325-generic Compiler: gcc (Ubuntu 9.4.0-1ubuntu1~20.04.2) 9.4.0 FreeBSD 13.5 Kernel: 13.5-RELEASE Compiler: clang 19.1.7 FreeBSD 14.2 Kernel: 14.2-RELEASE Compiler: clang 18.1.6 To view detailed results, visit: https://lab.dpdk.org/results/dashboard/patchsets/33121/ UNH-IOL DPDK Community Lab To manage your email subscriptions, visit: https://lab.dpdk.org/results/dashboard/preferences/subscriptions/