From mboxrd@z Thu Jan 1 00:00:00 1970 Return-Path: Received: from mails.dpdk.org (mails.dpdk.org [217.70.189.124]) by inbox.dpdk.org (Postfix) with ESMTP id B0870466DD for ; Wed, 7 May 2025 15:56:34 +0200 (CEST) Received: from mails.dpdk.org (localhost [127.0.0.1]) by mails.dpdk.org (Postfix) with ESMTP id 870924025D; Wed, 7 May 2025 15:56:34 +0200 (CEST) Received: from mail-il1-f225.google.com (mail-il1-f225.google.com [209.85.166.225]) by mails.dpdk.org (Postfix) with ESMTP id F33A84025A for ; Wed, 7 May 2025 15:56:33 +0200 (CEST) Received: by mail-il1-f225.google.com with SMTP id e9e14a558f8ab-3d46ef71b6cso69574425ab.3 for ; Wed, 07 May 2025 06:56:33 -0700 (PDT) DKIM-Signature: v=1; a=rsa-sha256; c=relaxed/relaxed; d=iol.unh.edu; s=unh-iol; t=1746626193; x=1747230993; darn=dpdk.org; h=references:in-reply-to:cc:to:from:subject:message-id:date:from:to :cc:subject:date:message-id:reply-to; bh=7vUXU5cj/+jZs1qgxSYJT2jhheMlHL9ocggB8JDLDD8=; b=CBaWDmbjW8owu1pVt7juFVfKjfKt2pJ2xuCZOrfNHQHxXOSk9h0eJ1pBeki+4//pW0 isFnZh63vgU6MxuAPPg4iOFqElLW4rBH1S60fDwCz9/LcnW+/bzYTQYN0mWkgPG7vTsp Im13eNVq7B5xiVnWe1CIDJLQ259zDDRofPmcM= X-Google-DKIM-Signature: v=1; a=rsa-sha256; c=relaxed/relaxed; d=1e100.net; s=20230601; t=1746626193; x=1747230993; h=references:in-reply-to:cc:to:from:subject:message-id:date :x-gm-message-state:from:to:cc:subject:date:message-id:reply-to; bh=7vUXU5cj/+jZs1qgxSYJT2jhheMlHL9ocggB8JDLDD8=; b=Zkco9BlkAZ35omD5OSCwz+SF4lpwDjIYl8TJRwJbf2f/K85sm/YzCNJaO3XftzhvaV 4sOQuyX9q6zcpPs1ke3SVxXSjass//Q8cNxjKiFy0r9umVREk3RcyKt9F/qnkUFjB4ev XyHrqx0w3UkxbFTL/+h/Aw9Ublc+I1HZ78cetu7wMu1D/S1AEWKrHrnY9FWT0I5x7EoP l+2ha5q6RQaFOVK1cS0pIfBJjZOp3ZDIl0Yubz2uLz+HCKXIi8cjIYgydHIV/KunJ0lT MT/NWX/VcmS4R+uJ8NQ4pXqgtsdznT2b4P7fLHGQUnOaOgzWjz9qIztWdSdHHARBfr3p aBKg== X-Gm-Message-State: AOJu0YxMxiqgMGMG/ShIxudioUYjDGldmVWLs2MkprWRSShI1ZU/XyIH oVhkfeFhaoEEvgiPZrDLc69ea9J8p3lbp6oV9xeq36OvBChj1zDs2RtSnHotq08q1fS+gbwKieJ 1qYzes+RAVf+OCwITxSfyH9S0GTDAQmwxH+yeA1HlJY1qns0BXRUID9Np X-Gm-Gg: ASbGncuGAnWJ4KMFb8StHtJlsoeaWUybnKd14M+P24NDkkaXK+yjr9hpveCgPYBOT0I 0i3hUjXHc6+osyZtTXIk5HNbC/xq9kWD7Fq4+78RfyLacv3dbxuIhOjQIzzIW2/V+Ij4NvyPKDn t0Xa9alChJKQEdo8RPEaGY4dpNmiV5xU9oyuIlm7haffRQmd182sEmz9Nq5FwT9AzMM7b7LyDh8 vPXYqEbS34OapsDgQx2GhtyqvnQ1NXHfNY98Q7l+7kpKjeyOsPbtc+bmE1Z+eh6dusT7IUWB2F2 +jbDTD+7IDREN0nYw2YZ7ow4yV5AFv39sxMl X-Google-Smtp-Source: AGHT+IHM9RQncLmIlZHZaux5Asgiv0A3vmj2CSVq7/v8momcpinhgMBqYcoMeiayZYr1xrLmeebCXElKMSp/ X-Received: by 2002:a05:6e02:1748:b0:3d3:d00c:3602 with SMTP id e9e14a558f8ab-3da738f99a1mr33342455ab.10.1746626182039; Wed, 07 May 2025 06:56:22 -0700 (PDT) Received: from postal.iol.unh.edu (postal.iol.unh.edu. [2606:4100:3880:1234::84]) by smtp-relay.gmail.com with ESMTPS id e9e14a558f8ab-3da738c37f0sm1011815ab.35.2025.05.07.06.56.21 (version=TLS1_2 cipher=ECDHE-ECDSA-AES128-GCM-SHA256 bits=128/128); Wed, 07 May 2025 06:56:22 -0700 (PDT) X-Relaying-Domain: iol.unh.edu Date: Wed, 07 May 2025 06:56:22 -0700 (PDT) Message-ID: <681b6686.920a0220.683a7.56cbSMTPIN_ADDED_MISSING@mx.google.com> Received: from [172.21.0.6] (unknown [172.18.0.240]) by postal.iol.unh.edu (Postfix) with ESMTP id 8DD046052471; Wed, 7 May 2025 09:56:21 -0400 (EDT) Subject: |SUCCESS| pw153327 [PATCH] net/mlx5: fix error notification for larg From: dpdklab@iol.unh.edu To: Test Report Cc: dpdk-test-reports@iol.unh.edu In-Reply-To: <20250506133206.379993-1-getelson@nvidia.com> References: <20250506133206.379993-1-getelson@nvidia.com> Content-Type: text/plain X-BeenThere: test-report@dpdk.org X-Mailman-Version: 2.1.29 Precedence: list List-Id: automatic DPDK test reports List-Unsubscribe: , List-Archive: List-Post: List-Help: List-Subscribe: , Errors-To: test-report-bounces@dpdk.org Test-Label: iol-sample-apps-testing Test-Status: SUCCESS http://dpdk.org/patch/153327 _Testing PASS_ Submitter: Gregory Etelson Date: Tuesday, May 06 2025 13:31:51 DPDK git baseline: Repo:dpdk Branch: master CommitID:edd3f4b1265e6da707c46ca9b6c39d332647baea 153327 --> testing pass Upstream job id: ACVP-FIPS-testing#9735 Test environment and result as below: +--------------------+----------------------+----------------------+ | Environment | compressdev_zlib_pmd | dpdk_fips_validation | +====================+======================+======================+ | Ubuntu 22.04 (ARM) | PASS | SKIPPED | +--------------------+----------------------+----------------------+ | Ubuntu 22.04 | PASS | SKIPPED | +--------------------+----------------------+----------------------+ | Ubuntu 20.04 | SKIPPED | PASS | +--------------------+----------------------+----------------------+ Ubuntu 22.04 (ARM) Kernel: 5.15.0-97-generic Compiler: gcc gcc (Ubuntu 11.4.0-1ubuntu1~22.04) 11.4.0 Ubuntu 22.04 Kernel: 5.15.0-100-generic Compiler: gcc gcc (Ubuntu 11.4.0-1ubuntu1~22.04) 11.4.0 Ubuntu 20.04 Kernel: Depends on container host Compiler: gcc (Ubuntu 9.4.0-1ubuntu1~20.04.2) 9.4.0 To view detailed results, visit: https://lab.dpdk.org/results/dashboard/patchsets/33125/ UNH-IOL DPDK Community Lab To manage your email subscriptions, visit: https://lab.dpdk.org/results/dashboard/preferences/subscriptions/