From mboxrd@z Thu Jan 1 00:00:00 1970 Return-Path: Received: from mails.dpdk.org (mails.dpdk.org [217.70.189.124]) by inbox.dpdk.org (Postfix) with ESMTP id A8EDC466DD for ; Wed, 7 May 2025 15:57:13 +0200 (CEST) Received: from mails.dpdk.org (localhost [127.0.0.1]) by mails.dpdk.org (Postfix) with ESMTP id A10584025D; Wed, 7 May 2025 15:57:13 +0200 (CEST) Received: from mail-oa1-f98.google.com (mail-oa1-f98.google.com [209.85.160.98]) by mails.dpdk.org (Postfix) with ESMTP id E478D4025A for ; Wed, 7 May 2025 15:57:12 +0200 (CEST) Received: by mail-oa1-f98.google.com with SMTP id 586e51a60fabf-2da3c5729fcso3655625fac.0 for ; Wed, 07 May 2025 06:57:12 -0700 (PDT) DKIM-Signature: v=1; a=rsa-sha256; c=relaxed/relaxed; d=iol.unh.edu; s=unh-iol; t=1746626232; x=1747231032; darn=dpdk.org; h=cc:to:from:subject:message-id:date:from:to:cc:subject:date :message-id:reply-to; bh=gOsutqyV5VvPALdTgnfEVquQ35GNu1qgrt+enV93HiE=; b=VK2G0MIO6q30l6pRjVU4v3JTt095F0KAMwofYHlRy/L6B7xrgm2eKu8jrUFH9/pvqz UEo19e9cII4IbjRIFjyajoVIwuT6qyCws4D23f+BwiVp3hFKB9jgDKek5xxRrH9AbI8T h0OY8zjgq4j1h5Bg/RluR7lOb8pc1hb1gqyKk= X-Google-DKIM-Signature: v=1; a=rsa-sha256; c=relaxed/relaxed; d=1e100.net; s=20230601; t=1746626232; x=1747231032; h=cc:to:from:subject:message-id:date:x-gm-message-state:from:to:cc :subject:date:message-id:reply-to; bh=gOsutqyV5VvPALdTgnfEVquQ35GNu1qgrt+enV93HiE=; b=oU0kT8RWUErffex1nMM2irhyswTkeumRl38zykKVNoi4+1WVVKLzCi2dqLNatg01K/ bjdFi/BH6eF6NCCyg+QNheghaMMo+NVjoKY0TFvmvqAcz41vF4feC11X5VnriIkhvFQ5 VcsHbd0fvbCwz6qrME/EdRAfSzwGcLYh0SajaDUmrPXXhMQkzQ5tzj52ITPhCXQY5n0V fj4yO0XQcwZM3u4VJAVNiQT9DNnSKCjmwKwdPRp24k0GbAcT8lEctgCdp/bkA/yUwpFz +rpiXot3XKTM+8sG67mqZBeBZ9mwV9Ywpv/bNcdX++/GskdZtuAhhHpMiUvC/YOev6OP XV1w== X-Gm-Message-State: AOJu0Yw5DsZfo9La71O6kEWEI6dbflWKfVXAs4Ih0yTv3/XRwSnJwRht MCT1cvDYYwtusW20cJKf2TLrTISI/wLqI2/UOveg3Ix9HtQh5GvmVX+ISq+8cRwIr31yxQzGAnB NTwJRs85KBXrDWldlhQ1iM9qOpFptUG74kFQq7wKJnfpQgnvp X-Gm-Gg: ASbGncv86tRQym/7lDazcJXJkVJUKICHyQT5rvPLzm13/fYaIs+Qq8mJmGPm1mIDYob h8RreZQmYr0BnlkBYfPHAbS24skzDGHV86wRHM314FXmVO/y+gj+JX0vT7/x5KcVMJqWduU5G+H gAuEli3aAI/t7WTGOe3a01x4XD4Iwqx5h+Ivf4TFr7cb/BEAGS5PBp/OZJLVCYhhaZlI6SBldpv srj5e4B/zhzpqEkhvg8xMq9UK8U/gGeumbyheQcu0a9li23BzzpokwwebTLi6ZA2q3/383injyT BzJALhRA5fXQMY9IRWmDWtlT/x/oC3v/Apry X-Google-Smtp-Source: AGHT+IGwpM13B+RB/UD3D9Gs93wgsJwAWktjkQ90Zw84PBPmXk3lZgOBHb43t++liCQh4BjyEH8QjvWtINrj X-Received: by 2002:a05:6602:6b0e:b0:867:1787:8c8f with SMTP id ca18e2360f4ac-86747233142mr418954239f.1.1746626221033; Wed, 07 May 2025 06:57:01 -0700 (PDT) Received: from postal.iol.unh.edu (postal.iol.unh.edu. [2606:4100:3880:1234::84]) by smtp-relay.gmail.com with ESMTPS id 8926c6da1cb9f-4f88a9145a4sm2219378173.27.2025.05.07.06.57.00 (version=TLS1_2 cipher=ECDHE-ECDSA-AES128-GCM-SHA256 bits=128/128); Wed, 07 May 2025 06:57:01 -0700 (PDT) X-Relaying-Domain: iol.unh.edu Date: Wed, 07 May 2025 06:57:01 -0700 (PDT) Message-ID: <681b66ad.050a0220.28d70d.e84cSMTPIN_ADDED_MISSING@mx.google.com> Received: from [172.21.0.5] (unknown [172.18.0.240]) by postal.iol.unh.edu (Postfix) with ESMTP id 7F8616052471; Wed, 7 May 2025 09:57:00 -0400 (EDT) Subject: |SUCCESS| [GIT MASTER] 4c5634de9f933555bab9c64a533d3dca999071cd From: dpdklab@iol.unh.edu To: Test Report Cc: dpdk-test-reports@iol.unh.edu, Xueming Li , Christian Ehrhardt , Kevin Traynor , Luca Boccassi Content-Type: text/plain X-BeenThere: test-report@dpdk.org X-Mailman-Version: 2.1.29 Precedence: list List-Id: automatic DPDK test reports List-Unsubscribe: , List-Archive: List-Post: List-Help: List-Subscribe: , Errors-To: test-report-bounces@dpdk.org _Testing PASS_ Branch: tags/v24.11 4c5634de9f933555bab9c64a533d3dca999071cd --> testing pass Upstream job id: Generic-DPDK-Compile-Meson#385965 Test environment and result as below: +------------------------------------+--------------------+ | Environment | dpdk_meson_compile | +====================================+====================+ | RHEL9 (ARM) | PASS | +------------------------------------+--------------------+ | Ubuntu 20.04 ARM GCC Cross Compile | PASS | +------------------------------------+--------------------+ | Ubuntu 20.04 ARM SVE | PASS | +------------------------------------+--------------------+ | Debian 12 with MUSDK | PASS | +------------------------------------+--------------------+ | Fedora 40 (ARM) | PASS | +------------------------------------+--------------------+ | Fedora 40 (ARM Clang) | PASS | +------------------------------------+--------------------+ | Ubuntu 20.04 (ARM) | PASS | +------------------------------------+--------------------+ | Fedora 41 (ARM) | PASS | +------------------------------------+--------------------+ | Ubuntu 22.04 (ARM) | PASS | +------------------------------------+--------------------+ | Ubuntu 24.04 (ARM) | PASS | +------------------------------------+--------------------+ | CentOS Stream 10 (ARM) | PASS | +------------------------------------+--------------------+ | Debian 12 (arm) | PASS | +------------------------------------+--------------------+ | Fedora 41 (ARM Clang) | PASS | +------------------------------------+--------------------+ | CentOS Stream 9 (ARM) | PASS | +------------------------------------+--------------------+ RHEL9 (ARM) Kernel: Depends on container host Compiler: gcc 11.5.0 20240719 (Red Hat 11.5.0-2) Ubuntu 20.04 ARM GCC Cross Compile Kernel: Depends on container host Compiler: aarch64-linux-gnu-gcc (Ubuntu 9.4.0-1ubuntu1~20.04.2) 9.4.0 Ubuntu 20.04 ARM SVE Kernel: Depends on container host Compiler: gcc (Ubuntu 10.5.0-1ubuntu1~20.04) 10.5.0 Debian 12 with MUSDK Kernel: Depends on container host Compiler: gcc (Debian 12.2.0-14) 12.2.0 Fedora 40 (ARM) Kernel: Depends on container host Compiler: gcc 14.2.1 20240912 (Red Hat 14.2.1-3) Fedora 40 (ARM Clang) Kernel: Depends on container host Compiler: clang 18.1.8 (Fedora 18.1.8-1.fc40) Ubuntu 20.04 (ARM) Kernel: Depends on container host Compiler: gcc (Ubuntu 9.4.0-1ubuntu1~20.04.2) 9.4.0 Fedora 41 (ARM) Kernel: Depends on container host Compiler: gcc 14.2.1 20240912 (Red Hat 14.2.1-3) Ubuntu 22.04 (ARM) Kernel: Depends on container host Compiler: gcc (Ubuntu 11.4.0-1ubuntu1~22.04) 11.4.0 Ubuntu 24.04 (ARM) Kernel: Depends on container host Compiler: gcc (Ubuntu 13.3.0-6ubuntu2~24.04) 13.3.0 CentOS Stream 10 (ARM) Kernel: Depends on container host Compiler: gcc 14.2.1 20241104 (Red Hat 14.2.1-6) Debian 12 (arm) Kernel: Depends on container host Compiler: gcc (Debian 12.2.0-14) 12.2.0 Fedora 41 (ARM Clang) Kernel: Depends on container host Compiler: clang 19.1.5 (Fedora 19.1.5-1.fc41) CentOS Stream 9 (ARM) Kernel: Depends on container host Compiler: gcc 11.5.0 20240719 (Red Hat 11.5.0-2) To view detailed results, visit: https://lab.dpdk.org/results/dashboard/tarballs/33461/ UNH-IOL DPDK Community Lab To manage your email subscriptions, visit: https://lab.dpdk.org/results/dashboard/preferences/subscriptions/