From mboxrd@z Thu Jan 1 00:00:00 1970 Return-Path: Received: from mails.dpdk.org (mails.dpdk.org [217.70.189.124]) by inbox.dpdk.org (Postfix) with ESMTP id DB598466DD for ; Wed, 7 May 2025 17:02:06 +0200 (CEST) Received: from mails.dpdk.org (localhost [127.0.0.1]) by mails.dpdk.org (Postfix) with ESMTP id B198B4025D; Wed, 7 May 2025 17:02:06 +0200 (CEST) Received: from mail-oa1-f98.google.com (mail-oa1-f98.google.com [209.85.160.98]) by mails.dpdk.org (Postfix) with ESMTP id 9F1044025A for ; Wed, 7 May 2025 17:02:05 +0200 (CEST) Received: by mail-oa1-f98.google.com with SMTP id 586e51a60fabf-2d060c62b61so26033fac.0 for ; Wed, 07 May 2025 08:02:05 -0700 (PDT) DKIM-Signature: v=1; a=rsa-sha256; c=relaxed/relaxed; d=iol.unh.edu; s=unh-iol; t=1746630125; x=1747234925; darn=dpdk.org; h=references:in-reply-to:cc:to:from:subject:message-id:date:from:to :cc:subject:date:message-id:reply-to; bh=lvHkAB95GIgzhA8AtEaGKMONywfXOIloE/xQONbfh6g=; b=OXAoGQe//MhQn7dRWLrFwq3HSJFPJVc7Uc7kRMeprQevQtCV03k7HjQzf2o6ZYpxRn R9gxX2Asct0ljQVb+fTB1jWxs63oSbY1yzAWFg12NQNH9xgsPzVzCUdocV2s7SWeF1BP cWdtEzHWkiHBRzsSs6tqBrCgVlYw1SBMeAr84= X-Google-DKIM-Signature: v=1; a=rsa-sha256; c=relaxed/relaxed; d=1e100.net; s=20230601; t=1746630125; x=1747234925; h=references:in-reply-to:cc:to:from:subject:message-id:date :x-gm-message-state:from:to:cc:subject:date:message-id:reply-to; bh=lvHkAB95GIgzhA8AtEaGKMONywfXOIloE/xQONbfh6g=; b=ee0quOThE/4V0hJNgQkiWliLgrAwAQHg8ENRL4SmcQlDhI1fvlroKs89wAgk26n7Ju CWJK7XuXedu3F7YnoRlni7rQfaqTT/tdn0XAJR7TxQRcMjuM0+twq5UU9M3BarNuoY7C 59VA92Wgo2QX0yFjk6cAuHljwzTAjaFZGkW7QD5+gi4A1l0E23WyBtpuBqHJTliDfuZZ n6vX3Ouo2nMr5nl3bMO//TiBeH9iTT6XrF9H86bQADMXSLWEM12SKJBaXYInI8vUH+Lx f/9Li37jaYGDOyW2boH6pFEPAJeIz+Q6aySpAp4e1EUGnbfLdqkxHYyek6ut9mmNEXXv tIKQ== X-Gm-Message-State: AOJu0Ywn5QQWiTzI0y7tnHMluxPIJB4zhGGxfZTJLrynJKmi0GRNOvUD seRASjJAQjaEJpQgrUtFGOENXXMrXvk2ORLTUcLvfkz3K8zfa6ff9ausT0n4Un5S5LqG3gnI06V JtfUOXLz9qnGnbESO+HCtE/yhuVagUZa+iTkJJrQxvFaxdQF01BwpDCL+ X-Gm-Gg: ASbGncvU80Q4X+gpcEzyAbF6jjL9k56y8cdEq03eFlaqz23798j9xilIzVHMpx57c06 i2hLmWK4OVx3YXkBuBFDT7OFVGPDp4FVGzPWxvlmKigzqe2PDV47dSq3puLNxbS0KWrpuNCAcGS gdd24pO7s6WPz+o9HNbJGeaGcaR1XaXephiVcwiHs6L5aLFwq6ss4kLRDsbhf60tEMoIqRY/DH7 EM/VKIKkAWfeBjDkqAG4DMtcEWUQwhTk4zTcLfX4MUUG8zemyfOLdik55r1uGvl9lyijXBxxB+x njZxh1SyayYQ9C8WTTR6IhFdvtpgmo5zKJJS X-Google-Smtp-Source: AGHT+IFLSOUpo1WMUEpSfaG33q+4yz04sR18YnrXfuWMjniUcK+vxjvoXiIOEKtBfAOa6kwuFr6d3jtGP/wE X-Received: by 2002:a05:6808:2017:b0:3fa:7909:2716 with SMTP id 5614622812f47-4036f0d6009mr2396677b6e.39.1746630113689; Wed, 07 May 2025 08:01:53 -0700 (PDT) Received: from postal.iol.unh.edu (postal.iol.unh.edu. [2606:4100:3880:1234::84]) by smtp-relay.gmail.com with ESMTPS id 006d021491bc7-607e7db06edsm1571944eaf.13.2025.05.07.08.01.53 (version=TLS1_2 cipher=ECDHE-ECDSA-AES128-GCM-SHA256 bits=128/128); Wed, 07 May 2025 08:01:53 -0700 (PDT) X-Relaying-Domain: iol.unh.edu Date: Wed, 07 May 2025 08:01:53 -0700 (PDT) Message-ID: <681b75e1.050a0220.20289c.1406SMTPIN_ADDED_MISSING@mx.google.com> Received: from [172.21.0.14] (unknown [172.18.0.240]) by postal.iol.unh.edu (Postfix) with ESMTP id 2BFEB6052471; Wed, 7 May 2025 11:01:52 -0400 (EDT) Subject: |SUCCESS| pw153326 [PATCH] net/mlx5: fix transceiver warning when no From: dpdklab@iol.unh.edu To: Test Report Cc: dpdk-test-reports@iol.unh.edu In-Reply-To: <20250506133107.4432-1-yogev@cgstowernetworks.com> References: <20250506133107.4432-1-yogev@cgstowernetworks.com> Content-Type: text/plain X-BeenThere: test-report@dpdk.org X-Mailman-Version: 2.1.29 Precedence: list List-Id: automatic DPDK test reports List-Unsubscribe: , List-Archive: List-Post: List-Help: List-Subscribe: , Errors-To: test-report-bounces@dpdk.org Test-Label: iol-unit-amd64-testing Test-Status: SUCCESS http://dpdk.org/patch/153326 _Testing PASS_ Submitter: yogev Date: Tuesday, May 06 2025 13:31:07 DPDK git baseline: Repo:dpdk Branch: master CommitID:edd3f4b1265e6da707c46ca9b6c39d332647baea 153326 --> testing pass Upstream job id: Generic-VM-Unit-Test-DPDK#28372 Test environment and result as below: +---------------------+----------------+ | Environment | dpdk_unit_test | +=====================+================+ | Fedora 40 (Clang) | PASS | +---------------------+----------------+ | Debian 12 | PASS | +---------------------+----------------+ | CentOS Stream 10 | PASS | +---------------------+----------------+ | CentOS Stream 9 | PASS | +---------------------+----------------+ | Fedora 40 | PASS | +---------------------+----------------+ | Fedora 41 | PASS | +---------------------+----------------+ | RHEL8 | PASS | +---------------------+----------------+ | Fedora 41 (Clang) | PASS | +---------------------+----------------+ | RHEL9 | PASS | +---------------------+----------------+ | Ubuntu 22.04 | PASS | +---------------------+----------------+ | Ubuntu 24.04 | PASS | +---------------------+----------------+ | Ubuntu 20.04 | PASS | +---------------------+----------------+ | Windows Server 2022 | PASS | +---------------------+----------------+ Fedora 40 (Clang) Kernel: Depends on container host Compiler: clang 18.1.8 (Fedora 18.1.8-1.fc40) Debian 12 Kernel: Depends on container host Compiler: gcc (Debian 12.2.0-14) 12.2.0 CentOS Stream 10 Kernel: Depends on container host Compiler: gcc 14.2.1 20241104 (Red Hat 14.2.1-6) CentOS Stream 9 Kernel: Depends on container host Compiler: gcc 11.5.0 20240719 (Red Hat 11.5.0-2) Fedora 40 Kernel: Depends on container host Compiler: gcc 14.2.1 20240912 (Red Hat 14.2.1-3) Fedora 41 Kernel: Depends on container host Compiler: gcc 14.2.1 20240912 (Red Hat 14.2.1-3) RHEL8 Kernel: Depends on container host Compiler: gcc 8.5.0 20210514 (Red Hat 8.5.0-22) Fedora 41 (Clang) Kernel: Depends on container host Compiler: clang 19.1.5 (Fedora 19.1.5-1.fc41) RHEL9 Kernel: Depends on container host Compiler: gcc 11.5.0 20240719 (Red Hat 11.5.0-2) Ubuntu 22.04 Kernel: Depends on container host Compiler: gcc (Ubuntu 11.4.0-1ubuntu1~22.04) 11.4.0 Ubuntu 24.04 Kernel: Depends on container host Compiler: gcc (Ubuntu 13.3.0-6ubuntu2~24.04) 13.3.0 Ubuntu 20.04 Kernel: Depends on container host Compiler: gcc (Ubuntu 9.4.0-1ubuntu1~20.04.2) 9.4.0 Windows Server 2022 Kernel: 10.0.20348.2031 Compiler: clang 15.0.7, gcc 14.1.0 (MinGW), and MSVC VS 19.39.33521 To view detailed results, visit: https://lab.dpdk.org/results/dashboard/patchsets/33124/ UNH-IOL DPDK Community Lab To manage your email subscriptions, visit: https://lab.dpdk.org/results/dashboard/preferences/subscriptions/