From mboxrd@z Thu Jan 1 00:00:00 1970 Return-Path: Received: from mails.dpdk.org (mails.dpdk.org [217.70.189.124]) by inbox.dpdk.org (Postfix) with ESMTP id 0E660466EA for ; Wed, 7 May 2025 18:03:26 +0200 (CEST) Received: from mails.dpdk.org (localhost [127.0.0.1]) by mails.dpdk.org (Postfix) with ESMTP id EFFC44025D; Wed, 7 May 2025 18:03:25 +0200 (CEST) Received: from mail-pg1-f227.google.com (mail-pg1-f227.google.com [209.85.215.227]) by mails.dpdk.org (Postfix) with ESMTP id 9EFA84025A for ; Wed, 7 May 2025 18:03:24 +0200 (CEST) Received: by mail-pg1-f227.google.com with SMTP id 41be03b00d2f7-b1a1930a922so4938754a12.3 for ; Wed, 07 May 2025 09:03:24 -0700 (PDT) DKIM-Signature: v=1; a=rsa-sha256; c=relaxed/relaxed; d=iol.unh.edu; s=unh-iol; t=1746633803; x=1747238603; darn=dpdk.org; h=references:in-reply-to:cc:to:from:subject:message-id:date:from:to :cc:subject:date:message-id:reply-to; bh=/a+Pg7wPJ4+KLDJQijO6iZ103AOuOvDt5JVUvT2Cwm8=; b=aKjz6OEAuo25jc+Rnc8WUxe4pBv2iblynSDwL6dARLoGEG7qdYkOr5vCLL/yRM9brN fYV9kISUQdjnC6TDq+6UXPGjDkTfEukCTHUqfnuLa9gW28IgkRKaPDhrRtzGBl+UJrQ0 WVj09CMEAHRcZYYy2SDxU9sN0lJAphKRMaFOQ= X-Google-DKIM-Signature: v=1; a=rsa-sha256; c=relaxed/relaxed; d=1e100.net; s=20230601; t=1746633803; x=1747238603; h=references:in-reply-to:cc:to:from:subject:message-id:date :x-gm-message-state:from:to:cc:subject:date:message-id:reply-to; bh=/a+Pg7wPJ4+KLDJQijO6iZ103AOuOvDt5JVUvT2Cwm8=; b=PsvGIQy6E09XSqPkcGzLVV90FP3fWe8Znaa/C5W7xm9N7wkcvUeWrZUsKvdyWhoqVM OuMA87XOZkYGfgaS1VvBsZRIIz1ktU/calDROwYVseFlWPy76QSMEd+LL5j4xmnqrFST 96t3W5g5C+ukBo7ASXXANdAvSZuXUyb5e1d0WlIFf/VkTlEOzrthik1NzrTiFPZtx2A3 z73OLWDz7InYNfkLwIsjpfOGJQHKqEBxSuQvnLbmwNBoZxJ5fAilLjWZGQmC/3P9uSpC L/U0OhIj9yNSKbq900D9gu2qF9++pX0+apJ/9kWWooKHbd63A7IH/yTRMwrDwwRujKJd K3tg== X-Gm-Message-State: AOJu0Yz40mEBWqRl8ZRO9mG8O87nT+KIhfySSjMmVxkb993tU40edISd Vtb1ZZLGEFv7VuFI1rCFkfYzFMVFSPuzP6P1k2edoZN5RGF3XaPny6/wrYOV+ADyZiHAKMsekDn hpHLIxPG0I13i7nomgD6AvrHBdSt193pmPjXcQhIM X-Gm-Gg: ASbGncutvrj69EWYRBrgPE3lO9ek0tkw2oEtEyBO9Ze8Sr1FzJKjJ4XkJAeBIuJUDZI ahLNpJN2BL2LUawUIvRxzzGiSqgY58+sdO2h5aLJpRe+o4TsNDHOz0Xll95yXCDDESFJML3EFQp ad5tVhD5URHEl4cJA6XrudYIRl6IFY126wej+lobNLAC6+TW8eLtVODqO73XHFcvuu60zCEN+1I jp5PxGgjjht3ZJx1e3T3kOgvWiqsDQRQOz7j9MQ3lkJ1vMgPfJr6ae7Um8y9Zw4Ko9FcwZNXC6r XkhC00vg0m7UGc9KXU4E7lrurSZ03i0pmDMXiasLBlt1oHOxA5TV8l+J7Vw= X-Google-Smtp-Source: AGHT+IEymCmPmCWWyeymbNRg07C3idMX+2QW8Fz81aCM3+Qmqxr0QrvfM0ZtkVSOWYaIhT2AN2LgSwqCoxX9 X-Received: by 2002:a17:90b:3882:b0:2ee:8430:b831 with SMTP id 98e67ed59e1d1-30aac185bb6mr6452890a91.2.1746633803198; Wed, 07 May 2025 09:03:23 -0700 (PDT) Received: from postal.iol.unh.edu (postal.iol.unh.edu. [132.177.123.84]) by smtp-relay.gmail.com with ESMTPS id 98e67ed59e1d1-30ad502be0asm21017a91.11.2025.05.07.09.03.23 (version=TLS1_2 cipher=ECDHE-ECDSA-AES128-GCM-SHA256 bits=128/128); Wed, 07 May 2025 09:03:23 -0700 (PDT) X-Relaying-Domain: iol.unh.edu Date: Wed, 07 May 2025 09:03:23 -0700 (PDT) Message-ID: <681b844b.170a0220.1c2f5c.121eSMTPIN_ADDED_MISSING@mx.google.com> Received: from [172.21.0.5] (unknown [172.18.0.240]) by postal.iol.unh.edu (Postfix) with ESMTP id 9D4136052471; Wed, 7 May 2025 12:03:22 -0400 (EDT) Subject: |SUCCESS| pw153307-153308 [PATCH] [v2,2/2] app/testpmd: add sleep co From: dpdklab@iol.unh.edu To: Test Report Cc: dpdk-test-reports@iol.unh.edu In-Reply-To: References: Content-Type: text/plain X-BeenThere: test-report@dpdk.org X-Mailman-Version: 2.1.29 Precedence: list List-Id: automatic DPDK test reports List-Unsubscribe: , List-Archive: List-Post: List-Help: List-Subscribe: , Errors-To: test-report-bounces@dpdk.org Test-Label: iol-unit-arm64-testing Test-Status: SUCCESS http://dpdk.org/patch/153308 _Testing PASS_ Submitter: Anatoly Burakov Date: Tuesday, May 06 2025 13:08:19 DPDK git baseline: Repo:dpdk Branch: master CommitID:ff05ee3e3f8fb4ce958a2ce6461e8141aea959c6 153307-153308 --> testing pass Upstream job id: Generic-Unit-Test-DPDK#336220 Test environment and result as below: +-----------------------------+----------------+--------------+---------------------------+------------------------------+ | Environment | dpdk_unit_test | lpm_autotest | cryptodev_sw_zuc_autotest | cryptodev_sw_snow3g_autotest | +=============================+================+==============+===========================+==============================+ | Debian 12 (arm) | PASS | SKIPPED | PASS | PASS | +-----------------------------+----------------+--------------+---------------------------+------------------------------+ | CentOS Stream 9 (ARM) | PASS | SKIPPED | SKIPPED | SKIPPED | +-----------------------------+----------------+--------------+---------------------------+------------------------------+ | Fedora 40 (ARM) | PASS | SKIPPED | SKIPPED | SKIPPED | +-----------------------------+----------------+--------------+---------------------------+------------------------------+ | CentOS Stream 10 (ARM) | PASS | SKIPPED | SKIPPED | SKIPPED | +-----------------------------+----------------+--------------+---------------------------+------------------------------+ | Fedora 40 (ARM Clang) | PASS | SKIPPED | SKIPPED | SKIPPED | +-----------------------------+----------------+--------------+---------------------------+------------------------------+ | Fedora 41 (ARM) | PASS | SKIPPED | SKIPPED | SKIPPED | +-----------------------------+----------------+--------------+---------------------------+------------------------------+ | Fedora 41 (ARM Clang) | PASS | SKIPPED | SKIPPED | SKIPPED | +-----------------------------+----------------+--------------+---------------------------+------------------------------+ | RHEL9 (ARM) | PASS | SKIPPED | SKIPPED | SKIPPED | +-----------------------------+----------------+--------------+---------------------------+------------------------------+ | Ubuntu 20.04 (ARM) | PASS | SKIPPED | SKIPPED | SKIPPED | +-----------------------------+----------------+--------------+---------------------------+------------------------------+ | Ubuntu 22.04 (ARM) | PASS | SKIPPED | SKIPPED | SKIPPED | +-----------------------------+----------------+--------------+---------------------------+------------------------------+ | Ubuntu 24.04 (ARM) | PASS | SKIPPED | SKIPPED | SKIPPED | +-----------------------------+----------------+--------------+---------------------------+------------------------------+ | 32-bit Ubuntu 22.04.4 (ARM) | PASS | SKIPPED | SKIPPED | SKIPPED | +-----------------------------+----------------+--------------+---------------------------+------------------------------+ | Ubuntu 20.04 ARM SVE | SKIPPED | PASS | SKIPPED | SKIPPED | +-----------------------------+----------------+--------------+---------------------------+------------------------------+ Debian 12 (arm) Kernel: Depends on container host Compiler: gcc (Debian 12.2.0-14) 12.2.0 CentOS Stream 9 (ARM) Kernel: Depends on container host Compiler: gcc 11.5.0 20240719 (Red Hat 11.5.0-2) Fedora 40 (ARM) Kernel: Depends on container host Compiler: gcc 14.2.1 20240912 (Red Hat 14.2.1-3) CentOS Stream 10 (ARM) Kernel: Depends on container host Compiler: gcc 14.2.1 20241104 (Red Hat 14.2.1-6) Fedora 40 (ARM Clang) Kernel: Depends on container host Compiler: clang 18.1.8 (Fedora 18.1.8-1.fc40) Fedora 41 (ARM) Kernel: Depends on container host Compiler: gcc 14.2.1 20240912 (Red Hat 14.2.1-3) Fedora 41 (ARM Clang) Kernel: Depends on container host Compiler: clang 19.1.5 (Fedora 19.1.5-1.fc41) RHEL9 (ARM) Kernel: Depends on container host Compiler: gcc 11.5.0 20240719 (Red Hat 11.5.0-2) Ubuntu 20.04 (ARM) Kernel: Depends on container host Compiler: gcc (Ubuntu 9.4.0-1ubuntu1~20.04.2) 9.4.0 Ubuntu 22.04 (ARM) Kernel: Depends on container host Compiler: gcc (Ubuntu 11.4.0-1ubuntu1~22.04) 11.4.0 Ubuntu 24.04 (ARM) Kernel: Depends on container host Compiler: gcc (Ubuntu 13.3.0-6ubuntu2~24.04) 13.3.0 32-bit Ubuntu 22.04.4 (ARM) Kernel: 5.15.83+ aarch64 Compiler: gcc (Ubuntu 11.4.0-1ubuntu1~22.04) 11.4.0 Ubuntu 20.04 ARM SVE Kernel: Depends on container host Compiler: gcc (Ubuntu 10.5.0-1ubuntu1~20.04) 10.5.0 To view detailed results, visit: https://lab.dpdk.org/results/dashboard/patchsets/33120/ UNH-IOL DPDK Community Lab To manage your email subscriptions, visit: https://lab.dpdk.org/results/dashboard/preferences/subscriptions/