From mboxrd@z Thu Jan 1 00:00:00 1970 Return-Path: Received: from mails.dpdk.org (mails.dpdk.org [217.70.189.124]) by inbox.dpdk.org (Postfix) with ESMTP id A6BEF466EA for ; Wed, 7 May 2025 18:18:29 +0200 (CEST) Received: from mails.dpdk.org (localhost [127.0.0.1]) by mails.dpdk.org (Postfix) with ESMTP id 847684025D; Wed, 7 May 2025 18:18:29 +0200 (CEST) Received: from mail-yw1-f225.google.com (mail-yw1-f225.google.com [209.85.128.225]) by mails.dpdk.org (Postfix) with ESMTP id 1843E4025A for ; Wed, 7 May 2025 18:18:28 +0200 (CEST) Received: by mail-yw1-f225.google.com with SMTP id 00721157ae682-70a2c0e7fbbso126777b3.2 for ; Wed, 07 May 2025 09:18:28 -0700 (PDT) DKIM-Signature: v=1; a=rsa-sha256; c=relaxed/relaxed; d=iol.unh.edu; s=unh-iol; t=1746634707; x=1747239507; darn=dpdk.org; h=references:in-reply-to:cc:to:from:subject:message-id:date:from:to :cc:subject:date:message-id:reply-to; bh=bO2ZCOfQVFD5SI2d933raj+8d3CiCz8BZBgc8rLo8dA=; b=HPxv6nMVZbIzJ6m+fsJ86M7y3v9OCLyqFYQF/PiKWOLY63milQMhoweldqP9piFEt3 IbpiK4dyndS+ckjQ++5hZ4Ritl2uH8zLHyBX2GfPRUWh27Cmcxpi9Ipr6oUMPrPe1S3f xNBEhN9vS9aoVar8dXVLF50YVn9o4DcZCZIzc= X-Google-DKIM-Signature: v=1; a=rsa-sha256; c=relaxed/relaxed; d=1e100.net; s=20230601; t=1746634707; x=1747239507; h=references:in-reply-to:cc:to:from:subject:message-id:date :x-gm-message-state:from:to:cc:subject:date:message-id:reply-to; bh=bO2ZCOfQVFD5SI2d933raj+8d3CiCz8BZBgc8rLo8dA=; b=w898QZP9JpMxZDqFyMetqXxosZnkoUA1BFFvjtaOK6GB9sAmV2QUlVANktzVMt1/13 kfHwOdxAtkxS0RJ1rlYeHehtmLyh9IqK3thpo5FST+ekskxbWnbbbf/n3inaLoO+v7AI lEifptY5dHpBfF7Bbw+n0HuC/xiRp5UOpgwW/r5YawD8bIZ3wVADz69E8NZQaCLJlXMm qfffR1fta/exDIBDjaGM8qzFLgojwDVK4PPrJYwyYto3YXjR/m/Mkj4eutk6pnFd85HR q0pl9ygJgF5hxWbyUPqamPCgTslCucNEchDgmyQMDyeyaYBS+WHxvvhRtxi73yy+QhsW trFg== X-Gm-Message-State: AOJu0Yyf5RHLosntXlJizLhMzqq8TrUPqbdws9+OglmsMMrjFkiiaZP2 gcDHKGA1YgGNnoG4Z462GuYx1p/kefZ4VhVBSYD1kWRrIEdK2fW42DlbF+H77wqUCWVASiQGZ6p oKVm3s18XtRDUXvVV9YClraG7ra1nVw5mfIRKuB8XMVapTii6XxZHl8r9 X-Gm-Gg: ASbGncugpU+SYGcvPwGS1+0EfUKtU147L2Hr+tRoQws5MX2g9W9BQIKQ3CV1eQOqILS haZDbKmePGBG6px8NVlRGumv9c18edACdZr2FuB2/Da4U5ruGWBKhmzZa8UyN2yr00G1us8V9tT 4rs7RjyB/9YvOORtcK/nY0GuNGAIWKUchQA6KDBmN2rzN4DdmwHKyvWCD5G5reNBniHu/pF/9S1 ZkQTPS/SewrA2e3nEaf/LtyoAR1rC468c+q92tzSAK7peRi3zLbC7RqDfSABCWDIaQnf9NPkw/q Km3PBA+TeuDMCDUfYh/pzb3it+/669Fj5Syc X-Google-Smtp-Source: AGHT+IHjEyLex6NoPmLnr/5KpdqYqzdi2bMwU05hFk4H/mCbRqvHxXqJeE5i7vWklJ0dftjBwdIxuqb+Hjn9 X-Received: by 2002:a05:690c:4881:b0:706:1fbc:d61a with SMTP id 00721157ae682-70a1d9d6485mr56263667b3.6.1746634707328; Wed, 07 May 2025 09:18:27 -0700 (PDT) Received: from postal.iol.unh.edu (postal.iol.unh.edu. [2606:4100:3880:1234::84]) by smtp-relay.gmail.com with ESMTPS id 00721157ae682-708c412c865sm24626047b3.19.2025.05.07.09.18.27 (version=TLS1_2 cipher=ECDHE-ECDSA-AES128-GCM-SHA256 bits=128/128); Wed, 07 May 2025 09:18:27 -0700 (PDT) X-Relaying-Domain: iol.unh.edu Date: Wed, 07 May 2025 09:18:27 -0700 (PDT) Message-ID: <681b87d3.0d0a0220.16ad4c.ecfbSMTPIN_ADDED_MISSING@mx.google.com> Received: from [172.21.0.13] (unknown [172.18.0.240]) by postal.iol.unh.edu (Postfix) with ESMTP id EBF776052471; Wed, 7 May 2025 12:18:26 -0400 (EDT) Subject: |SUCCESS| pw153326 [PATCH] net/mlx5: fix transceiver warning when no From: dpdklab@iol.unh.edu To: Test Report Cc: dpdk-test-reports@iol.unh.edu In-Reply-To: <20250506133107.4432-1-yogev@cgstowernetworks.com> References: <20250506133107.4432-1-yogev@cgstowernetworks.com> Content-Type: text/plain X-BeenThere: test-report@dpdk.org X-Mailman-Version: 2.1.29 Precedence: list List-Id: automatic DPDK test reports List-Unsubscribe: , List-Archive: List-Post: List-Help: List-Subscribe: , Errors-To: test-report-bounces@dpdk.org Test-Label: iol-sample-apps-testing Test-Status: SUCCESS http://dpdk.org/patch/153326 _Testing PASS_ Submitter: yogev Date: Tuesday, May 06 2025 13:31:07 DPDK git baseline: Repo:dpdk Branch: master CommitID:edd3f4b1265e6da707c46ca9b6c39d332647baea 153326 --> testing pass Upstream job id: ACVP-FIPS-testing#9736 Test environment and result as below: +--------------------+----------------------+----------------------+ | Environment | compressdev_zlib_pmd | dpdk_fips_validation | +====================+======================+======================+ | Ubuntu 22.04 | PASS | SKIPPED | +--------------------+----------------------+----------------------+ | Ubuntu 22.04 (ARM) | PASS | SKIPPED | +--------------------+----------------------+----------------------+ | Ubuntu 20.04 | SKIPPED | PASS | +--------------------+----------------------+----------------------+ Ubuntu 22.04 Kernel: 5.15.0-100-generic Compiler: gcc gcc (Ubuntu 11.4.0-1ubuntu1~22.04) 11.4.0 Ubuntu 22.04 (ARM) Kernel: 5.15.0-97-generic Compiler: gcc gcc (Ubuntu 11.4.0-1ubuntu1~22.04) 11.4.0 Ubuntu 20.04 Kernel: Depends on container host Compiler: gcc (Ubuntu 9.4.0-1ubuntu1~20.04.2) 9.4.0 To view detailed results, visit: https://lab.dpdk.org/results/dashboard/patchsets/33124/ UNH-IOL DPDK Community Lab To manage your email subscriptions, visit: https://lab.dpdk.org/results/dashboard/preferences/subscriptions/