From mboxrd@z Thu Jan 1 00:00:00 1970 Return-Path: Received: from mails.dpdk.org (mails.dpdk.org [217.70.189.124]) by inbox.dpdk.org (Postfix) with ESMTP id D9B76466EA for ; Wed, 7 May 2025 18:39:05 +0200 (CEST) Received: from mails.dpdk.org (localhost [127.0.0.1]) by mails.dpdk.org (Postfix) with ESMTP id D4F344025D; Wed, 7 May 2025 18:39:05 +0200 (CEST) Received: from mail-yb1-f228.google.com (mail-yb1-f228.google.com [209.85.219.228]) by mails.dpdk.org (Postfix) with ESMTP id 61B154025A for ; Wed, 7 May 2025 18:39:04 +0200 (CEST) Received: by mail-yb1-f228.google.com with SMTP id 3f1490d57ef6-e75bb8f5417so1087841276.0 for ; Wed, 07 May 2025 09:39:04 -0700 (PDT) DKIM-Signature: v=1; a=rsa-sha256; c=relaxed/relaxed; d=iol.unh.edu; s=unh-iol; t=1746635944; x=1747240744; darn=dpdk.org; h=references:in-reply-to:cc:to:from:subject:message-id:date:from:to :cc:subject:date:message-id:reply-to; bh=xbNK+AVo5QPBm16Jif/367SYtfwgY207jMzfw8ll61M=; b=I4jvfLOlvqJpJ4fh+sQPGC58Bu182RVcA7roK70psf7oOR9LdDrC06Rngd+jBzZfL1 T5VDij9FGAV0gXIPN8O6j9dwEuwL85mcYo4UrxoodABveRs4jLMlE77ruzKZj3V967h2 tGh1HpmVtzR1YG3jxafjx0rqGZxIqkQjTsyIY= X-Google-DKIM-Signature: v=1; a=rsa-sha256; c=relaxed/relaxed; d=1e100.net; s=20230601; t=1746635944; x=1747240744; h=references:in-reply-to:cc:to:from:subject:message-id:date :x-gm-message-state:from:to:cc:subject:date:message-id:reply-to; bh=xbNK+AVo5QPBm16Jif/367SYtfwgY207jMzfw8ll61M=; b=IOrxEf4rD4MuPfHdCG8j6aeGfh9SX0mcdQE78m2PYcugnZ91oQ9CL0UL//TLwP4c2y Ew4Lz0C6a4Fmk0fHxmEqw1m+iZBFUx2te8ErP4Y9K7tSwWQGJDWy96H9YfzV1612deN8 ZHAeuIJMUPtCD4URQ7emZsosJnZA2YbsJd1P5WWpKGx0x7GxOQlBiHpqPSWHa7yusCZX GEYhJXaCU+em339JyPd2Ibdw7k6UBPJcVkF9aRSAqiXXKo7LQZn8ByjN6/CHw8q2MlHV zeS8gpWFDHkF6EZYUMN7DSl4anmS1Achw9WqBIWBlEhBk7VMZPvyiQFlLDqMYvvL5bBK oX5A== X-Gm-Message-State: AOJu0YxtsaTUKYqqV0FVB4206EPg4s7LlcoLgoyHhFOwkwhL+xxSJXSU I2fN6ReoMfofifYW9QS7rNW1IVxwGoWjcNiZCx/xUlFWOyyZf9CJDALObfpVieCeSj5njm+UQTh 5pwggq7YHYC/u/F406Os0Y6ZZhINI6+6Y4KCX7aF+FW+70onVHuwJI9Xn X-Gm-Gg: ASbGncs3FToY0D6kXzqWr7lesDhm34vDj/czSA8cgRhZ9fL7uR8x69FPD86Q3b4BqJv X8tnes6JJi8/ShEguBzt1Rl7txmn/Jzt7+aC0e6xYJoVta2RPm2ik98neZ/HmQlbwQ4qvxsAqAC WJG6I3SqBjUidBaliKMsYssnU2LZ9PAkSIVUWzRE1w1vJKfihELxBK6/a8bnRb8FHMiL2sUINyS Fjds82Ly3Nx82CgiAIeNXRMFwiOQvIP78jZGdciEtL1NGBfTw0EMUE2W9fTT37dyESks1H4rP/d xhPMQ1ad2riwi17dZSlcp9NQUq4WafwbUJbK X-Google-Smtp-Source: AGHT+IHXdUY74mZkbXIAO7ougTZWjpsZs0ywPXiQ+8Oe5YozEoKeVZB6CRKklJXNgH8tInPRr5OUjFEU501e X-Received: by 2002:a05:6902:1002:b0:e72:f64c:26b4 with SMTP id 3f1490d57ef6-e78ee13070emr300092276.22.1746635943771; Wed, 07 May 2025 09:39:03 -0700 (PDT) Received: from postal.iol.unh.edu (postal.iol.unh.edu. [2606:4100:3880:1234::84]) by smtp-relay.gmail.com with ESMTPS id 3f1490d57ef6-e78e85f25dbsm28714276.16.2025.05.07.09.39.03 (version=TLS1_2 cipher=ECDHE-ECDSA-AES128-GCM-SHA256 bits=128/128); Wed, 07 May 2025 09:39:03 -0700 (PDT) X-Relaying-Domain: iol.unh.edu Date: Wed, 07 May 2025 09:39:03 -0700 (PDT) Message-ID: <681b8ca7.050a0220.2aa1a8.176dSMTPIN_ADDED_MISSING@mx.google.com> Received: from [172.21.0.5] (unknown [172.18.0.240]) by postal.iol.unh.edu (Postfix) with ESMTP id 63BC56052471; Wed, 7 May 2025 12:39:03 -0400 (EDT) Subject: |SUCCESS| pw153307-153308 [PATCH] [v2,2/2] app/testpmd: add sleep co From: dpdklab@iol.unh.edu To: Test Report Cc: dpdk-test-reports@iol.unh.edu In-Reply-To: References: Content-Type: text/plain X-BeenThere: test-report@dpdk.org X-Mailman-Version: 2.1.29 Precedence: list List-Id: automatic DPDK test reports List-Unsubscribe: , List-Archive: List-Post: List-Help: List-Subscribe: , Errors-To: test-report-bounces@dpdk.org Test-Label: iol-compile-arm64-testing Test-Status: SUCCESS http://dpdk.org/patch/153308 _Testing PASS_ Submitter: Anatoly Burakov Date: Tuesday, May 06 2025 13:08:19 DPDK git baseline: Repo:dpdk Branch: master CommitID:ff05ee3e3f8fb4ce958a2ce6461e8141aea959c6 153307-153308 --> testing pass Upstream job id: Generic-DPDK-Compile-Meson#386074 Test environment and result as below: +----------------------------------------+--------------------+ | Environment | dpdk_meson_compile | +========================================+====================+ | RHEL9 (ARM) | PASS | +----------------------------------------+--------------------+ | Ubuntu 20.04 ARM GCC Cross Compile | PASS | +----------------------------------------+--------------------+ | Debian 12 with MUSDK | PASS | +----------------------------------------+--------------------+ | Fedora 40 (ARM) | PASS | +----------------------------------------+--------------------+ | Fedora 40 (ARM Clang) | PASS | +----------------------------------------+--------------------+ | Fedora 41 (ARM) | PASS | +----------------------------------------+--------------------+ | Fedora 41 (ARM Clang) | PASS | +----------------------------------------+--------------------+ | Ubuntu 20.04 (ARM) | PASS | +----------------------------------------+--------------------+ | Ubuntu 22.04 (ARM) | PASS | +----------------------------------------+--------------------+ | Ubuntu 24.04 (ARM) | PASS | +----------------------------------------+--------------------+ | CentOS Stream 9 (ARM) | PASS | +----------------------------------------+--------------------+ | Ubuntu 20.04 aarch32 GCC Cross Compile | PASS | +----------------------------------------+--------------------+ | Ubuntu 20.04 ARM Clang Cross Compile | PASS | +----------------------------------------+--------------------+ | Debian 12 (arm) | PASS | +----------------------------------------+--------------------+ | CentOS Stream 10 (ARM) | PASS | +----------------------------------------+--------------------+ RHEL9 (ARM) Kernel: Depends on container host Compiler: gcc 11.5.0 20240719 (Red Hat 11.5.0-2) Ubuntu 20.04 ARM GCC Cross Compile Kernel: Depends on container host Compiler: aarch64-linux-gnu-gcc (Ubuntu 9.4.0-1ubuntu1~20.04.2) 9.4.0 Debian 12 with MUSDK Kernel: Depends on container host Compiler: gcc (Debian 12.2.0-14) 12.2.0 Fedora 40 (ARM) Kernel: Depends on container host Compiler: gcc 14.2.1 20240912 (Red Hat 14.2.1-3) Fedora 40 (ARM Clang) Kernel: Depends on container host Compiler: clang 18.1.8 (Fedora 18.1.8-1.fc40) Fedora 41 (ARM) Kernel: Depends on container host Compiler: gcc 14.2.1 20240912 (Red Hat 14.2.1-3) Fedora 41 (ARM Clang) Kernel: Depends on container host Compiler: clang 19.1.5 (Fedora 19.1.5-1.fc41) Ubuntu 20.04 (ARM) Kernel: Depends on container host Compiler: gcc (Ubuntu 9.4.0-1ubuntu1~20.04.2) 9.4.0 Ubuntu 22.04 (ARM) Kernel: Depends on container host Compiler: gcc (Ubuntu 11.4.0-1ubuntu1~22.04) 11.4.0 Ubuntu 24.04 (ARM) Kernel: Depends on container host Compiler: gcc (Ubuntu 13.3.0-6ubuntu2~24.04) 13.3.0 CentOS Stream 9 (ARM) Kernel: Depends on container host Compiler: gcc 11.5.0 20240719 (Red Hat 11.5.0-2) Ubuntu 20.04 aarch32 GCC Cross Compile Kernel: Depends on container host Compiler: gcc 9.4.0 Ubuntu 20.04 ARM Clang Cross Compile Kernel: Depends on container host Compiler: clang 10.0.0-4ubuntu1 Debian 12 (arm) Kernel: Depends on container host Compiler: gcc (Debian 12.2.0-14) 12.2.0 CentOS Stream 10 (ARM) Kernel: Depends on container host Compiler: gcc 14.2.1 20241104 (Red Hat 14.2.1-6) To view detailed results, visit: https://lab.dpdk.org/results/dashboard/patchsets/33120/ UNH-IOL DPDK Community Lab To manage your email subscriptions, visit: https://lab.dpdk.org/results/dashboard/preferences/subscriptions/