From mboxrd@z Thu Jan 1 00:00:00 1970 Return-Path: Received: from mails.dpdk.org (mails.dpdk.org [217.70.189.124]) by inbox.dpdk.org (Postfix) with ESMTP id ECD0E466EA for ; Wed, 7 May 2025 18:39:22 +0200 (CEST) Received: from mails.dpdk.org (localhost [127.0.0.1]) by mails.dpdk.org (Postfix) with ESMTP id E90214025D; Wed, 7 May 2025 18:39:22 +0200 (CEST) Received: from mail-oo1-f97.google.com (mail-oo1-f97.google.com [209.85.161.97]) by mails.dpdk.org (Postfix) with ESMTP id A48A94025A for ; Wed, 7 May 2025 18:39:21 +0200 (CEST) Received: by mail-oo1-f97.google.com with SMTP id 006d021491bc7-60219a77334so43782eaf.1 for ; Wed, 07 May 2025 09:39:21 -0700 (PDT) DKIM-Signature: v=1; a=rsa-sha256; c=relaxed/relaxed; d=iol.unh.edu; s=unh-iol; t=1746635961; x=1747240761; darn=dpdk.org; h=references:in-reply-to:cc:to:from:subject:message-id:date:from:to :cc:subject:date:message-id:reply-to; bh=bAKeP60hPu6naFMqL8pL84eWI6UKfQsW4oqgkmuyE5g=; b=fTGFS0Tn0MSV6hxdbPszFJ1RzhsvN2ZHdyH0O8Bp4kSJ5WTpvioEFeuSSRUydd/+8B aZkzmDzSe/wI164PJC+hTHwkTycxuEiLxb626E2iocRuDbuUeZTyjXzhjLyiltptx4UL gXqK1wTrsKC+rPQR+GwFxnlnDUz2pT7kL0uj0= X-Google-DKIM-Signature: v=1; a=rsa-sha256; c=relaxed/relaxed; d=1e100.net; s=20230601; t=1746635961; x=1747240761; h=references:in-reply-to:cc:to:from:subject:message-id:date :x-gm-message-state:from:to:cc:subject:date:message-id:reply-to; bh=bAKeP60hPu6naFMqL8pL84eWI6UKfQsW4oqgkmuyE5g=; b=KlJ5XlNExhF+Q8uNl5242/yENqDxlt3Pwa3EE+PDpF0wOmw7JPZyLLwbUUkF2hd2t9 C+MdG6rRzaXilOfxXIBBXCtsT7MKwmlO4vus7WCCZBAnc9yzKLVNLC1czHbLIhBxMA5O mGO5L0idmulapSIK1ENWJ0INHiTpqHNeBU/HZY49+l69M+tQEWm8WZMuAmfR6I+l5a8y 7NLzUxfhTvzdsZV7d5CFghsm64C18n0Au88A11AQC3c7WSBjmFNiyBBpQAH0ozQH13OX cPsZzD1jsJhJd0q8JNF/jArLWXXQ3sdhuAwMrKS7nRAlT4csdQnDiJKO4H6/nkqFpSj1 mm3A== X-Gm-Message-State: AOJu0YxC+C1ScXkJHgiMbZuTY8F2J3Kz6bKpYBcoHF+WSG3Qi0Atc3Z+ F09xLH4ArNmHG5k4Xs5Aluyb19zL2aXs3YYXn7V0zS/TUg+P4x5TIEUfP/IgAw3Z1f7DcMji5z+ +8aoi2MKRFNGbQYXoMeLvjX+MH8tXk5qdkTExUm6c X-Gm-Gg: ASbGncteuwHMRNNjigcO/kMopDbsSCm+BQfNreF6WMGRbJKw25hrdPvLiBgzFM0jkCr vboIzj9lABOVLiDx8c5fVLFJd27NwUyEtYBrUoG8ULHIt7X/5P0iSoGXSJtO/9wghXfDPoUKHNd yZQ73R+5Jq7Bfimg1GhhdoTBUrwwFpxw+OySmWc1v1kE+ayBxmUyStWNc5Um1JKAFGDGN39uBZi gJY8HBve3QdTuUvpyqyK46NzyAvAsBM3SU29EyIpsJJoJSOHovUmmJVw4IF6xQEtmNO/fMwoyV3 vhj9fgNS+Cn612m6xUgYNvXnr7KnmYKFtAU/ymkj+0HIxvis9WsN9NieGGc= X-Google-Smtp-Source: AGHT+IGa4OVm+qlILn7IROyev4gXxYmLzVSre6Z6enSJPDyOWVw6VzVcqhZEAC0UOeALAWFD290qyJSDJtob X-Received: by 2002:a05:6820:4b0d:b0:607:8929:4501 with SMTP id 006d021491bc7-60833889a8emr48839eaf.1.1746635960758; Wed, 07 May 2025 09:39:20 -0700 (PDT) Received: from postal.iol.unh.edu (postal.iol.unh.edu. [132.177.123.84]) by smtp-relay.gmail.com with ESMTPS id 006d021491bc7-607e7cbe1d6sm1634260eaf.2.2025.05.07.09.39.20 (version=TLS1_2 cipher=ECDHE-ECDSA-AES128-GCM-SHA256 bits=128/128); Wed, 07 May 2025 09:39:20 -0700 (PDT) X-Relaying-Domain: iol.unh.edu Date: Wed, 07 May 2025 09:39:20 -0700 (PDT) Message-ID: <681b8cb8.050a0220.214085.5127SMTPIN_ADDED_MISSING@mx.google.com> Received: from [172.21.0.6] (unknown [172.18.0.240]) by postal.iol.unh.edu (Postfix) with ESMTP id 3E7786052471; Wed, 7 May 2025 12:39:20 -0400 (EDT) Subject: |SUCCESS| pw153307-153308 [PATCH] [v2,2/2] app/testpmd: add sleep co From: dpdklab@iol.unh.edu To: Test Report Cc: dpdk-test-reports@iol.unh.edu In-Reply-To: References: Content-Type: text/plain X-BeenThere: test-report@dpdk.org X-Mailman-Version: 2.1.29 Precedence: list List-Id: automatic DPDK test reports List-Unsubscribe: , List-Archive: List-Post: List-Help: List-Subscribe: , Errors-To: test-report-bounces@dpdk.org Test-Label: iol-compile-amd64-testing Test-Status: SUCCESS http://dpdk.org/patch/153308 _Testing PASS_ Submitter: Anatoly Burakov Date: Tuesday, May 06 2025 13:08:19 DPDK git baseline: Repo:dpdk Branch: master CommitID:ff05ee3e3f8fb4ce958a2ce6461e8141aea959c6 153307-153308 --> testing pass Upstream job id: Generic-DPDK-Compile-Meson#386102 Test environment and result as below: +-----------------------------------+--------------------+-------------------+------------------+-------------------+ | Environment | dpdk_meson_compile | dpdk_compile_spdk | dpdk_compile_ovs | dpdk_msvc_compile | +===================================+====================+===================+==================+===================+ | CentOS Stream 9 | PASS | PASS | SKIPPED | SKIPPED | +-----------------------------------+--------------------+-------------------+------------------+-------------------+ | Debian 12 | PASS | PASS | SKIPPED | SKIPPED | +-----------------------------------+--------------------+-------------------+------------------+-------------------+ | CentOS Stream 10 | PASS | SKIPPED | SKIPPED | SKIPPED | +-----------------------------------+--------------------+-------------------+------------------+-------------------+ | Fedora 41 (Clang) | PASS | PASS | PASS | SKIPPED | +-----------------------------------+--------------------+-------------------+------------------+-------------------+ | Fedora 40 | PASS | PASS | SKIPPED | SKIPPED | +-----------------------------------+--------------------+-------------------+------------------+-------------------+ | Fedora 40 (Clang) | PASS | PASS | SKIPPED | SKIPPED | +-----------------------------------+--------------------+-------------------+------------------+-------------------+ | Fedora 41 | PASS | PASS | PASS | SKIPPED | +-----------------------------------+--------------------+-------------------+------------------+-------------------+ | RHEL8 | PASS | SKIPPED | SKIPPED | SKIPPED | +-----------------------------------+--------------------+-------------------+------------------+-------------------+ | Ubuntu 20.04 | PASS | SKIPPED | SKIPPED | SKIPPED | +-----------------------------------+--------------------+-------------------+------------------+-------------------+ | Ubuntu 22.04 | PASS | PASS | SKIPPED | SKIPPED | +-----------------------------------+--------------------+-------------------+------------------+-------------------+ | RHEL9 | PASS | SKIPPED | SKIPPED | SKIPPED | +-----------------------------------+--------------------+-------------------+------------------+-------------------+ | openSUSE Leap 15 | PASS | SKIPPED | SKIPPED | SKIPPED | +-----------------------------------+--------------------+-------------------+------------------+-------------------+ | Ubuntu 24.04 | PASS | PASS | PASS | SKIPPED | +-----------------------------------+--------------------+-------------------+------------------+-------------------+ | Alpine | PASS | SKIPPED | SKIPPED | SKIPPED | +-----------------------------------+--------------------+-------------------+------------------+-------------------+ | Ubuntu 24.04 32 Bit Cross Compile | PASS | SKIPPED | SKIPPED | SKIPPED | +-----------------------------------+--------------------+-------------------+------------------+-------------------+ | FreeBSD 14.2 | PASS | SKIPPED | SKIPPED | SKIPPED | +-----------------------------------+--------------------+-------------------+------------------+-------------------+ | FreeBSD 13.5 | PASS | SKIPPED | SKIPPED | SKIPPED | +-----------------------------------+--------------------+-------------------+------------------+-------------------+ | Windows Server 2022 | SKIPPED | SKIPPED | SKIPPED | PASS | +-----------------------------------+--------------------+-------------------+------------------+-------------------+ CentOS Stream 9 Kernel: Depends on container host Compiler: gcc 11.5.0 20240719 (Red Hat 11.5.0-2) Debian 12 Kernel: Depends on container host Compiler: gcc (Debian 12.2.0-14) 12.2.0 CentOS Stream 10 Kernel: Depends on container host Compiler: gcc 14.2.1 20241104 (Red Hat 14.2.1-6) Fedora 41 (Clang) Kernel: Depends on container host Compiler: clang 19.1.5 (Fedora 19.1.5-1.fc41) Fedora 40 Kernel: Depends on container host Compiler: gcc 14.2.1 20240912 (Red Hat 14.2.1-3) Fedora 40 (Clang) Kernel: Depends on container host Compiler: clang 18.1.8 (Fedora 18.1.8-1.fc40) Fedora 41 Kernel: Depends on container host Compiler: gcc 14.2.1 20240912 (Red Hat 14.2.1-3) RHEL8 Kernel: Depends on container host Compiler: gcc 8.5.0 20210514 (Red Hat 8.5.0-22) Ubuntu 20.04 Kernel: Depends on container host Compiler: gcc (Ubuntu 9.4.0-1ubuntu1~20.04.2) 9.4.0 Ubuntu 22.04 Kernel: Depends on container host Compiler: gcc (Ubuntu 11.4.0-1ubuntu1~22.04) 11.4.0 RHEL9 Kernel: Depends on container host Compiler: gcc 11.5.0 20240719 (Red Hat 11.5.0-2) openSUSE Leap 15 Kernel: Depends on container host Compiler: gcc (SUSE Linux) 7.5.0 Ubuntu 24.04 Kernel: Depends on container host Compiler: gcc (Ubuntu 13.3.0-6ubuntu2~24.04) 13.3.0 Alpine Kernel: Depends on container host Compiler: gcc (Alpine 14.2.0) 14.2.0 Ubuntu 24.04 32 Bit Cross Compile Kernel: Depends on container host Compiler: gcc (Ubuntu 13.3.0-6ubuntu2~24.04) 13.3.0 FreeBSD 14.2 Kernel: 14.2-RELEASE Compiler: clang 18.1.6 FreeBSD 13.5 Kernel: 13.5-RELEASE Compiler: clang 19.1.7 Windows Server 2022 Kernel: 10.0.20348.2031 Compiler: clang 15.0.7, gcc 14.1.0 (MinGW), and MSVC VS 19.39.33521 To view detailed results, visit: https://lab.dpdk.org/results/dashboard/patchsets/33120/ UNH-IOL DPDK Community Lab To manage your email subscriptions, visit: https://lab.dpdk.org/results/dashboard/preferences/subscriptions/