From mboxrd@z Thu Jan 1 00:00:00 1970 Return-Path: Received: from mails.dpdk.org (mails.dpdk.org [217.70.189.124]) by inbox.dpdk.org (Postfix) with ESMTP id 29696466EA for ; Wed, 7 May 2025 18:50:41 +0200 (CEST) Received: from mails.dpdk.org (localhost [127.0.0.1]) by mails.dpdk.org (Postfix) with ESMTP id 2403E4025D; Wed, 7 May 2025 18:50:41 +0200 (CEST) Received: from mail-qv1-f97.google.com (mail-qv1-f97.google.com [209.85.219.97]) by mails.dpdk.org (Postfix) with ESMTP id E06C44025A for ; Wed, 7 May 2025 18:50:39 +0200 (CEST) Received: by mail-qv1-f97.google.com with SMTP id 6a1803df08f44-6f53d271b7cso1025496d6.2 for ; Wed, 07 May 2025 09:50:39 -0700 (PDT) DKIM-Signature: v=1; a=rsa-sha256; c=relaxed/relaxed; d=iol.unh.edu; s=unh-iol; t=1746636639; x=1747241439; darn=dpdk.org; h=cc:to:from:subject:message-id:date:from:to:cc:subject:date :message-id:reply-to; bh=mkB7Twr1rnfZAaSGOkcmcWWP+lECp4sjfvDcvu4N49k=; b=JbVz9jNYSF1kA2kgKd/CPha5ZgclIhDGNIap23eb4RADUE55gOVhQesuvguZjdSAF9 FjVhhPVnVkwE4RM1LgE1Rexf2Az0xBC7cWDXxHDdDvHDEpOMzGZB+BLiqVdd+Ra2Lhch EPZiYaXuy/UGiZStxwYSm+TuvOke+m/nUXvhw= X-Google-DKIM-Signature: v=1; a=rsa-sha256; c=relaxed/relaxed; d=1e100.net; s=20230601; t=1746636639; x=1747241439; h=cc:to:from:subject:message-id:date:x-gm-message-state:from:to:cc :subject:date:message-id:reply-to; bh=mkB7Twr1rnfZAaSGOkcmcWWP+lECp4sjfvDcvu4N49k=; b=OVJMpZHxNFpYo2NZtAP8k3pLXE9rbcpqc99vAVveArOVDHV4cg6t7Au1+HG4WXi1nH SCJLcj2k6IhcFrZ+B60u4wDT8LtbaeINIOH9Su6zmwXUyRsxFfuOycQXUAwwZnvL9OZR Wk8CLI6PpqXPj7GMVBsdHjxIzoR3bIkIWHoWf0qlCV60u69ZjGtfT48d/Nh5XBcq69PE H3K0O5S8RhRQm2guHwfFgwTjOdBKlrbkKyt9ArLPCul9gn7BZ0GBuZTY2CJ23fopDbme i808ilZQLiGLPMVnWpThdOYyopq30jYwUeqoJNcGTpQPAc6m8Iz6/lWI7MpFWh7wtpcq b5DQ== X-Gm-Message-State: AOJu0YyG1Yle/cpOUVqE7YtMCdG+nB6Ld+7ZAy67VjQprkgkb2NFBH0C 0Sk8fK8Ru9zJHTIVD8sTmBxD+FVQXzi0nZXDPbfXiBHYhyvc9NHstam8CRvWyU6zu4EgMaU0D9L e6yvPaKULHRqJWv992SAflWmNh+Pr8Q05ZTXymdia X-Gm-Gg: ASbGncvOJnxZuv/UsCEYAJ1eHptsv5Wj1EZhzX9DmKdP2XUt01+be+59aYzYnp3dx8j eFF4d8x36OBVEYMBky5Mg7QO29kwehhWTQ4khcRmOVR1gLFXr2qPnElbyn/zC3QQKYLqSVIOIL7 ltj8UYu3VuIg2/BA1U53HSSb6tgMRJz9eGQ9qPeHKAXRjRVullvTbNowztPx17BZCQE7K12jIcH EhTG5aAS5Z64wfRyFWBmdHqO8J23QtXvN2383PtGMb2WYxMQ+jMf2mYW9dnFVOBzSy9hE/abKn5 A2+gNLsG/RMZPQxWbTZVXiVywVG+wYjtsDh/dkLty29W+CdIpCzYDnuhcXo= X-Google-Smtp-Source: AGHT+IHu94QcHALsgquci9Y74THRNEqYZlsQt4hIduytyib6wUVAvxg1r5yQswtz8jn+3DMaV3Y+FwMWWe3L X-Received: by 2002:a05:6214:29cd:b0:6f5:4079:3189 with SMTP id 6a1803df08f44-6f5429dfb31mr57600076d6.2.1746636639330; Wed, 07 May 2025 09:50:39 -0700 (PDT) Received: from postal.iol.unh.edu (postal.iol.unh.edu. [132.177.123.84]) by smtp-relay.gmail.com with ESMTPS id 6a1803df08f44-6f542791cdesm1238436d6.62.2025.05.07.09.50.39 (version=TLS1_2 cipher=ECDHE-ECDSA-AES128-GCM-SHA256 bits=128/128); Wed, 07 May 2025 09:50:39 -0700 (PDT) X-Relaying-Domain: iol.unh.edu Date: Wed, 07 May 2025 09:50:39 -0700 (PDT) Message-ID: <681b8f5f.050a0220.2e3d6d.6b29SMTPIN_ADDED_MISSING@mx.google.com> Received: from [172.21.0.14] (unknown [172.18.0.240]) by postal.iol.unh.edu (Postfix) with ESMTP id 11A146052471; Wed, 7 May 2025 12:50:39 -0400 (EDT) Subject: |SUCCESS| [GIT MASTER] 7cf0355db9fdab5648b05fd787356c391c510534 From: dpdklab@iol.unh.edu To: Test Report Cc: dpdk-test-reports@iol.unh.edu, Bruce Richardson Content-Type: text/plain X-BeenThere: test-report@dpdk.org X-Mailman-Version: 2.1.29 Precedence: list List-Id: automatic DPDK test reports List-Unsubscribe: , List-Archive: List-Post: List-Help: List-Subscribe: , Errors-To: test-report-bounces@dpdk.org _Testing PASS_ Branch: dpdk-next-net-intel 7cf0355db9fdab5648b05fd787356c391c510534 --> testing pass Upstream job id: Generic-Unit-Test-DPDK#336251 Test environment and result as below: +-----------------------------+----------------+--------------+---------------------------+------------------------------+ | Environment | dpdk_unit_test | lpm_autotest | cryptodev_sw_zuc_autotest | cryptodev_sw_snow3g_autotest | +=============================+================+==============+===========================+==============================+ | CentOS Stream 9 (ARM) | PASS | SKIPPED | SKIPPED | SKIPPED | +-----------------------------+----------------+--------------+---------------------------+------------------------------+ | CentOS Stream 10 (ARM) | PASS | SKIPPED | SKIPPED | SKIPPED | +-----------------------------+----------------+--------------+---------------------------+------------------------------+ | Fedora 40 (ARM Clang) | PASS | SKIPPED | SKIPPED | SKIPPED | +-----------------------------+----------------+--------------+---------------------------+------------------------------+ | Fedora 40 (ARM) | PASS | SKIPPED | SKIPPED | SKIPPED | +-----------------------------+----------------+--------------+---------------------------+------------------------------+ | Fedora 41 (ARM) | PASS | SKIPPED | SKIPPED | SKIPPED | +-----------------------------+----------------+--------------+---------------------------+------------------------------+ | Debian 12 (arm) | PASS | SKIPPED | PASS | PASS | +-----------------------------+----------------+--------------+---------------------------+------------------------------+ | Fedora 41 (ARM Clang) | PASS | SKIPPED | SKIPPED | SKIPPED | +-----------------------------+----------------+--------------+---------------------------+------------------------------+ | Ubuntu 20.04 (ARM) | PASS | SKIPPED | SKIPPED | SKIPPED | +-----------------------------+----------------+--------------+---------------------------+------------------------------+ | RHEL9 (ARM) | PASS | SKIPPED | SKIPPED | SKIPPED | +-----------------------------+----------------+--------------+---------------------------+------------------------------+ | Ubuntu 22.04 (ARM) | PASS | SKIPPED | SKIPPED | SKIPPED | +-----------------------------+----------------+--------------+---------------------------+------------------------------+ | Ubuntu 24.04 (ARM) | PASS | SKIPPED | SKIPPED | SKIPPED | +-----------------------------+----------------+--------------+---------------------------+------------------------------+ | 32-bit Ubuntu 22.04.4 (ARM) | PASS | SKIPPED | SKIPPED | SKIPPED | +-----------------------------+----------------+--------------+---------------------------+------------------------------+ | Ubuntu 20.04 ARM SVE | SKIPPED | PASS | SKIPPED | SKIPPED | +-----------------------------+----------------+--------------+---------------------------+------------------------------+ CentOS Stream 9 (ARM) Kernel: Depends on container host Compiler: gcc 11.5.0 20240719 (Red Hat 11.5.0-2) CentOS Stream 10 (ARM) Kernel: Depends on container host Compiler: gcc 14.2.1 20241104 (Red Hat 14.2.1-6) Fedora 40 (ARM Clang) Kernel: Depends on container host Compiler: clang 18.1.8 (Fedora 18.1.8-1.fc40) Fedora 40 (ARM) Kernel: Depends on container host Compiler: gcc 14.2.1 20240912 (Red Hat 14.2.1-3) Fedora 41 (ARM) Kernel: Depends on container host Compiler: gcc 14.2.1 20240912 (Red Hat 14.2.1-3) Debian 12 (arm) Kernel: Depends on container host Compiler: gcc (Debian 12.2.0-14) 12.2.0 Fedora 41 (ARM Clang) Kernel: Depends on container host Compiler: clang 19.1.5 (Fedora 19.1.5-1.fc41) Ubuntu 20.04 (ARM) Kernel: Depends on container host Compiler: gcc (Ubuntu 9.4.0-1ubuntu1~20.04.2) 9.4.0 RHEL9 (ARM) Kernel: Depends on container host Compiler: gcc 11.5.0 20240719 (Red Hat 11.5.0-2) Ubuntu 22.04 (ARM) Kernel: Depends on container host Compiler: gcc (Ubuntu 11.4.0-1ubuntu1~22.04) 11.4.0 Ubuntu 24.04 (ARM) Kernel: Depends on container host Compiler: gcc (Ubuntu 13.3.0-6ubuntu2~24.04) 13.3.0 32-bit Ubuntu 22.04.4 (ARM) Kernel: 5.15.83+ aarch64 Compiler: gcc (Ubuntu 11.4.0-1ubuntu1~22.04) 11.4.0 Ubuntu 20.04 ARM SVE Kernel: Depends on container host Compiler: gcc (Ubuntu 10.5.0-1ubuntu1~20.04) 10.5.0 To view detailed results, visit: https://lab.dpdk.org/results/dashboard/tarballs/33467/ UNH-IOL DPDK Community Lab To manage your email subscriptions, visit: https://lab.dpdk.org/results/dashboard/preferences/subscriptions/