From mboxrd@z Thu Jan 1 00:00:00 1970 Return-Path: Received: from mails.dpdk.org (mails.dpdk.org [217.70.189.124]) by inbox.dpdk.org (Postfix) with ESMTP id 00EA6466EA for ; Wed, 7 May 2025 19:31:51 +0200 (CEST) Received: from mails.dpdk.org (localhost [127.0.0.1]) by mails.dpdk.org (Postfix) with ESMTP id CBF7A4025D; Wed, 7 May 2025 19:31:51 +0200 (CEST) Received: from mail-io1-f99.google.com (mail-io1-f99.google.com [209.85.166.99]) by mails.dpdk.org (Postfix) with ESMTP id 663CE4025A for ; Wed, 7 May 2025 19:31:51 +0200 (CEST) Received: by mail-io1-f99.google.com with SMTP id ca18e2360f4ac-8640d43f5e0so4480739f.0 for ; Wed, 07 May 2025 10:31:51 -0700 (PDT) DKIM-Signature: v=1; a=rsa-sha256; c=relaxed/relaxed; d=iol.unh.edu; s=unh-iol; t=1746639110; x=1747243910; darn=dpdk.org; h=references:in-reply-to:cc:to:from:subject:message-id:date:from:to :cc:subject:date:message-id:reply-to; bh=oxHOjkidc5KOEWH0Me8aDXBbW5apqhSLcSgWMTURq/I=; b=L9QMPUs5uh2gu0JTps7zMyrbnrBf+gl61OR98lyqtIesFSoYIxTBfSziDKIy96+MyH vNJoXbkvvrG4seNQed5LidTgkaqhvoW34gYba03rVRUkWNv2n+WmSCGG5BN/6YDIe3Q+ srN4GOZ28TLIXT1pk+63uTG2MfUs4mYDoLs3A= X-Google-DKIM-Signature: v=1; a=rsa-sha256; c=relaxed/relaxed; d=1e100.net; s=20230601; t=1746639110; x=1747243910; h=references:in-reply-to:cc:to:from:subject:message-id:date :x-gm-message-state:from:to:cc:subject:date:message-id:reply-to; bh=oxHOjkidc5KOEWH0Me8aDXBbW5apqhSLcSgWMTURq/I=; b=ua3Q8iDB9hHemxc3GFbYkniLXpuQw6JGYa6C0VT1v8MQSfcZk+W5HWI+qOz7/9HmhD h5CEP/7+esEgvvlSvW+bT+fk3DNX91AEae3dhWmRRJDAa2KuWDEMJm+M8LbynbrMvjuJ Z/skiSsvKeZfxVEKcFOyiZ/lxpsZQqcByFJxWG2ep5Fg3ctJRFo5Dnc3wDxupMf4aUQR gexLuV9RD4nLeBd347+qmOOM+/JU0cdbwcM77fkNiY7j6/UFPFi6+fO1+iUQiMFHrbWC lcwitTPqSWygVGNB7KxMg5eUADOrvAGvXV2CYIQm7K+ItPRlv0txsHkzn2uxWW9w4SGX tHgw== X-Gm-Message-State: AOJu0Yy9adxBmVIOWl2OSbAwcW4+uCDbl0ryVVfysUavOAoOtLt1LwHX hUHK/KctOkodNAoJA3rZkGYuamWh4JxfXUSGd8X3GdOAIr2ALVRHaMs0lNJ4jAYkcS1vT9m4+Ww KdZT2OMV0NwQ/2ZVStwMBw3/vtpBN4lay66ZgKu4LZcS+/Cj8xmwAuU6l X-Gm-Gg: ASbGncuMH9a4cM2pKEK654lUlf1/oHL4vhk9XMtmQFbsbZN6aGX/xjTj4c/zOzxb5xQ qgb4nXjleMHHxdHpRNIZk4heAPQC6PmOqgLywLIetMQGuck7sAMosbIsyvuWoSOjfb6XvGIP7FT tBJL8rxH1Dnj8sDsdd//dP/G+ktZovmYaZB4PBJ+undZm+hiKqs7mIAB5PJxUg87at3+PAyJN8H aFnS9rBYJQOUpy/DRnS4Pglztg2S/xz1FrLe1bVcKrGE2v79TVNkpCY8DbkJPetH4PgoPNF5VES mDWCxVd3dZvg/uDzM7cMvMCj5Ho98HhEowzn X-Google-Smtp-Source: AGHT+IGnGhp3Rg0K/e/f6pibTOtV3nl02GHb/uF1PVodeaozNDfmqHnHrDlMjH/9Avz1NT6aRO0S+nntn8aq X-Received: by 2002:a05:6602:2b02:b0:861:722e:2cbc with SMTP id ca18e2360f4ac-86755118a32mr57694239f.12.1746639110561; Wed, 07 May 2025 10:31:50 -0700 (PDT) Received: from postal.iol.unh.edu (postal.iol.unh.edu. [2606:4100:3880:1234::84]) by smtp-relay.gmail.com with ESMTPS id ca18e2360f4ac-864aa58901fsm222808839f.27.2025.05.07.10.31.50 (version=TLS1_2 cipher=ECDHE-ECDSA-AES128-GCM-SHA256 bits=128/128); Wed, 07 May 2025 10:31:50 -0700 (PDT) X-Relaying-Domain: iol.unh.edu Date: Wed, 07 May 2025 10:31:50 -0700 (PDT) Message-ID: <681b9906.050a0220.3b9538.cb58SMTPIN_ADDED_MISSING@mx.google.com> Received: from [172.21.0.5] (unknown [172.18.0.240]) by postal.iol.unh.edu (Postfix) with ESMTP id 107A06052471; Wed, 7 May 2025 13:31:50 -0400 (EDT) Subject: |SUCCESS| pw153323-153325 [PATCH] [v2,3/3] dts: add packet capture t From: dpdklab@iol.unh.edu To: Test Report Cc: dpdk-test-reports@iol.unh.edu In-Reply-To: <20250506132933.1580584-4-luca.vizzarro@arm.com> References: <20250506132933.1580584-4-luca.vizzarro@arm.com> Content-Type: text/plain X-BeenThere: test-report@dpdk.org X-Mailman-Version: 2.1.29 Precedence: list List-Id: automatic DPDK test reports List-Unsubscribe: , List-Archive: List-Post: List-Help: List-Subscribe: , Errors-To: test-report-bounces@dpdk.org Test-Label: iol-unit-amd64-testing Test-Status: SUCCESS http://dpdk.org/patch/153325 _Testing PASS_ Submitter: Luca Vizzarro Date: Tuesday, May 06 2025 13:29:33 DPDK git baseline: Repo:dpdk Branch: master CommitID:1aef42bc97a31906486c9d66b792208948af06f3 153323-153325 --> testing pass Upstream job id: Generic-VM-Unit-Test-DPDK#28377 Test environment and result as below: +---------------------+----------------+ | Environment | dpdk_unit_test | +=====================+================+ | CentOS Stream 10 | PASS | +---------------------+----------------+ | CentOS Stream 9 | PASS | +---------------------+----------------+ | Debian 12 | PASS | +---------------------+----------------+ | Fedora 40 | PASS | +---------------------+----------------+ | Fedora 40 (Clang) | PASS | +---------------------+----------------+ | Fedora 41 | PASS | +---------------------+----------------+ | RHEL8 | PASS | +---------------------+----------------+ | Ubuntu 20.04 | PASS | +---------------------+----------------+ | Fedora 41 (Clang) | PASS | +---------------------+----------------+ | RHEL9 | PASS | +---------------------+----------------+ | Ubuntu 24.04 | PASS | +---------------------+----------------+ | Ubuntu 22.04 | PASS | +---------------------+----------------+ | Windows Server 2022 | PASS | +---------------------+----------------+ CentOS Stream 10 Kernel: Depends on container host Compiler: gcc 14.2.1 20241104 (Red Hat 14.2.1-6) CentOS Stream 9 Kernel: Depends on container host Compiler: gcc 11.5.0 20240719 (Red Hat 11.5.0-2) Debian 12 Kernel: Depends on container host Compiler: gcc (Debian 12.2.0-14) 12.2.0 Fedora 40 Kernel: Depends on container host Compiler: gcc 14.2.1 20240912 (Red Hat 14.2.1-3) Fedora 40 (Clang) Kernel: Depends on container host Compiler: clang 18.1.8 (Fedora 18.1.8-1.fc40) Fedora 41 Kernel: Depends on container host Compiler: gcc 14.2.1 20240912 (Red Hat 14.2.1-3) RHEL8 Kernel: Depends on container host Compiler: gcc 8.5.0 20210514 (Red Hat 8.5.0-22) Ubuntu 20.04 Kernel: Depends on container host Compiler: gcc (Ubuntu 9.4.0-1ubuntu1~20.04.2) 9.4.0 Fedora 41 (Clang) Kernel: Depends on container host Compiler: clang 19.1.5 (Fedora 19.1.5-1.fc41) RHEL9 Kernel: Depends on container host Compiler: gcc 11.5.0 20240719 (Red Hat 11.5.0-2) Ubuntu 24.04 Kernel: Depends on container host Compiler: gcc (Ubuntu 13.3.0-6ubuntu2~24.04) 13.3.0 Ubuntu 22.04 Kernel: Depends on container host Compiler: gcc (Ubuntu 11.4.0-1ubuntu1~22.04) 11.4.0 Windows Server 2022 Kernel: 10.0.20348.2031 Compiler: clang 15.0.7, gcc 14.1.0 (MinGW), and MSVC VS 19.39.33521 To view detailed results, visit: https://lab.dpdk.org/results/dashboard/patchsets/33123/ UNH-IOL DPDK Community Lab To manage your email subscriptions, visit: https://lab.dpdk.org/results/dashboard/preferences/subscriptions/