From mboxrd@z Thu Jan 1 00:00:00 1970 Return-Path: Received: from mails.dpdk.org (mails.dpdk.org [217.70.189.124]) by inbox.dpdk.org (Postfix) with ESMTP id 831E1466EA for ; Wed, 7 May 2025 19:36:44 +0200 (CEST) Received: from mails.dpdk.org (localhost [127.0.0.1]) by mails.dpdk.org (Postfix) with ESMTP id 626B34025D; Wed, 7 May 2025 19:36:44 +0200 (CEST) Received: from mail-pj1-f97.google.com (mail-pj1-f97.google.com [209.85.216.97]) by mails.dpdk.org (Postfix) with ESMTP id 88A0B4025A for ; Wed, 7 May 2025 19:36:43 +0200 (CEST) Received: by mail-pj1-f97.google.com with SMTP id 98e67ed59e1d1-30aa3980af5so272113a91.0 for ; Wed, 07 May 2025 10:36:43 -0700 (PDT) DKIM-Signature: v=1; a=rsa-sha256; c=relaxed/relaxed; d=iol.unh.edu; s=unh-iol; t=1746639402; x=1747244202; darn=dpdk.org; h=cc:to:from:subject:message-id:date:from:to:cc:subject:date :message-id:reply-to; bh=GVsfzt4xlvjlptjglRPx2Pw4Su6nAXSnLAHp+gtXUWU=; b=hVhOcu8dgnJPMwnaNfavRei9gdl016/0+6jN+N7b9Rwd+YiJJBHivc/sKlVRP5Qfrj gjpZqG+QwMDhKvvljPAlJpQyalZRV6gJOnOzIGOaSKSFkQv4KEpRo127fVp/bXHlftZx cT+5xx6uAX4nWVHsrzkHaN3lFomYJYJxGxeSU= X-Google-DKIM-Signature: v=1; a=rsa-sha256; c=relaxed/relaxed; d=1e100.net; s=20230601; t=1746639402; x=1747244202; h=cc:to:from:subject:message-id:date:x-gm-message-state:from:to:cc :subject:date:message-id:reply-to; bh=GVsfzt4xlvjlptjglRPx2Pw4Su6nAXSnLAHp+gtXUWU=; b=DGAKQ2MKZwPKyGV1VY+knXs9gixzaQbz/zZrbXl+VvveNu3zWCfAdh/L3L7WfXv8mc ZM6Kt/rGWU79sraUqfmyEfHyNxtWok/48xghH0rbwd1ty1QWZkwlL9PzzxpeDIL8IluG T2mpA1g9GzHdLqfJaxn2DJzr1ZL5qWpMrIlrLCQypM2JVK7/psOe0gQA56iMic1O2Txr aOZm1jLr4YTgIoWwmyLSUVnDu62xp6aGfaWtG3AAU7HEJkGLJMlwSWrS5XLCvJ3/kl7v yMVlm2tpigIvmPHPCCxcPWA72lHYl5i9X09H70DvXrWfY+6EOVCU6vovfmYASFNYifZL rIEw== X-Gm-Message-State: AOJu0Ywp3f36kYJkNb44Nnsc/aChiUScghkPAU+n2h3ELEW0ss18WBoS 6T2bfX4CxDc9uYH4wj6nJIpwqkzWZ9roiZvawyENZrPw6HTzPpMrADySXMwQ/I0RzsU6s8EBT3i phw3yVSuh2i6Rv7a8diuZgTKhb8NW1SQhjPX0hYE7TVyCYgjkrwfaMPPy X-Gm-Gg: ASbGncuiVAJ/fLwuNU9X5BR5YN0FmI9LQyFBchZFI7Ah9cRCmDsQCffZKQRavfGG7hb 4shT7yCT2oY9kjJLQXwWIvLB+IYN0VRl7Ic2uPVA53iqDpbnRZA3gUTpSWc/oOANK2vJg8YSdbY 9CTZKLPHpOaLBrjb62zImV773KHPNxh6v4DuaNa/GQ9YhRuzrvyKsWbuDKbVkD04vjR25ojZTS6 jc5uZK5tq+uU6MddFnz3o+9Madmd/qUpWw/5SorLv+eKdKNr4kvHBtZJ6hzUqR3aCPrLccRbv++ IpuZA6SqlJAxJz6vJJF0wk1tKJf+HzUp+NC1 X-Google-Smtp-Source: AGHT+IEwjQDf1JR2sfV967wSNwa01Uxfm9VMqhgxA+gND8XwnEiXlpZO7YrCI2DbX+aaEbeOnDHiyHicT/uP X-Received: by 2002:a17:90b:380a:b0:2f5:88bb:12f with SMTP id 98e67ed59e1d1-30aac1b24f7mr5726282a91.21.1746639402426; Wed, 07 May 2025 10:36:42 -0700 (PDT) Received: from postal.iol.unh.edu (postal.iol.unh.edu. [2606:4100:3880:1234::84]) by smtp-relay.gmail.com with ESMTPS id 98e67ed59e1d1-30ad484336fsm30494a91.1.2025.05.07.10.36.42 (version=TLS1_2 cipher=ECDHE-ECDSA-AES128-GCM-SHA256 bits=128/128); Wed, 07 May 2025 10:36:42 -0700 (PDT) X-Relaying-Domain: iol.unh.edu Date: Wed, 07 May 2025 10:36:42 -0700 (PDT) Message-ID: <681b9a2a.170a0220.2de99a.1b5bSMTPIN_ADDED_MISSING@mx.google.com> Received: from [172.21.0.5] (unknown [172.18.0.240]) by postal.iol.unh.edu (Postfix) with ESMTP id E0EF16052471; Wed, 7 May 2025 13:36:41 -0400 (EDT) Subject: |SUCCESS| [GIT MASTER] 7cf0355db9fdab5648b05fd787356c391c510534 From: dpdklab@iol.unh.edu To: Test Report Cc: dpdk-test-reports@iol.unh.edu, Bruce Richardson Content-Type: text/plain X-BeenThere: test-report@dpdk.org X-Mailman-Version: 2.1.29 Precedence: list List-Id: automatic DPDK test reports List-Unsubscribe: , List-Archive: List-Post: List-Help: List-Subscribe: , Errors-To: test-report-bounces@dpdk.org _Testing PASS_ Branch: dpdk-next-net-intel 7cf0355db9fdab5648b05fd787356c391c510534 --> testing pass Upstream job id: Generic-Unit-Test-DPDK#336262 Test environment and result as below: +-------------------+----------------+ | Environment | dpdk_unit_test | +===================+================+ | CentOS Stream 9 | PASS | +-------------------+----------------+ | Debian 12 | PASS | +-------------------+----------------+ | CentOS Stream 10 | PASS | +-------------------+----------------+ | Fedora 41 | PASS | +-------------------+----------------+ | Fedora 40 (Clang) | PASS | +-------------------+----------------+ | Fedora 40 | PASS | +-------------------+----------------+ | RHEL8 | PASS | +-------------------+----------------+ | Fedora 41 (Clang) | PASS | +-------------------+----------------+ | RHEL9 | PASS | +-------------------+----------------+ | Ubuntu 20.04 | PASS | +-------------------+----------------+ | Ubuntu 22.04 | PASS | +-------------------+----------------+ | Ubuntu 24.04 | PASS | +-------------------+----------------+ CentOS Stream 9 Kernel: Depends on container host Compiler: gcc 11.5.0 20240719 (Red Hat 11.5.0-2) Debian 12 Kernel: Depends on container host Compiler: gcc (Debian 12.2.0-14) 12.2.0 CentOS Stream 10 Kernel: Depends on container host Compiler: gcc 14.2.1 20241104 (Red Hat 14.2.1-6) Fedora 41 Kernel: Depends on container host Compiler: gcc 14.2.1 20240912 (Red Hat 14.2.1-3) Fedora 40 (Clang) Kernel: Depends on container host Compiler: clang 18.1.8 (Fedora 18.1.8-1.fc40) Fedora 40 Kernel: Depends on container host Compiler: gcc 14.2.1 20240912 (Red Hat 14.2.1-3) RHEL8 Kernel: Depends on container host Compiler: gcc 8.5.0 20210514 (Red Hat 8.5.0-22) Fedora 41 (Clang) Kernel: Depends on container host Compiler: clang 19.1.5 (Fedora 19.1.5-1.fc41) RHEL9 Kernel: Depends on container host Compiler: gcc 11.5.0 20240719 (Red Hat 11.5.0-2) Ubuntu 20.04 Kernel: Depends on container host Compiler: gcc (Ubuntu 9.4.0-1ubuntu1~20.04.2) 9.4.0 Ubuntu 22.04 Kernel: Depends on container host Compiler: gcc (Ubuntu 11.4.0-1ubuntu1~22.04) 11.4.0 Ubuntu 24.04 Kernel: Depends on container host Compiler: gcc (Ubuntu 13.3.0-6ubuntu2~24.04) 13.3.0 To view detailed results, visit: https://lab.dpdk.org/results/dashboard/tarballs/33467/ UNH-IOL DPDK Community Lab To manage your email subscriptions, visit: https://lab.dpdk.org/results/dashboard/preferences/subscriptions/