From mboxrd@z Thu Jan 1 00:00:00 1970 Return-Path: Received: from mails.dpdk.org (mails.dpdk.org [217.70.189.124]) by inbox.dpdk.org (Postfix) with ESMTP id 2B849466EA for ; Wed, 7 May 2025 19:42:51 +0200 (CEST) Received: from mails.dpdk.org (localhost [127.0.0.1]) by mails.dpdk.org (Postfix) with ESMTP id F356C4025D; Wed, 7 May 2025 19:42:50 +0200 (CEST) Received: from mail-oo1-f97.google.com (mail-oo1-f97.google.com [209.85.161.97]) by mails.dpdk.org (Postfix) with ESMTP id 52DD64025A for ; Wed, 7 May 2025 19:42:50 +0200 (CEST) Received: by mail-oo1-f97.google.com with SMTP id 006d021491bc7-605f7d3215cso89452eaf.0 for ; Wed, 07 May 2025 10:42:50 -0700 (PDT) DKIM-Signature: v=1; a=rsa-sha256; c=relaxed/relaxed; d=iol.unh.edu; s=unh-iol; t=1746639769; x=1747244569; darn=dpdk.org; h=references:in-reply-to:cc:to:from:subject:message-id:date:from:to :cc:subject:date:message-id:reply-to; bh=W23NAK6W5r9l+Yjtl3dYQ0lLh8/9yevfFo30b4v45GM=; b=cQiSdYAWmgDgyfTo2ligdH64hYw8dLaA56ncsGsRk5yOeSeKV7UEzng0TEhtUUjFgR DGJ02++UWhzw5zoiBx41walIaXS2R5kPhjhh9r177Ni4oqvsDKlUudl3KLIxv0dm5qE5 NK5qfPVhumt6hwswVL2QiUkmvKBm4V/JbqsJ8= X-Google-DKIM-Signature: v=1; a=rsa-sha256; c=relaxed/relaxed; d=1e100.net; s=20230601; t=1746639769; x=1747244569; h=references:in-reply-to:cc:to:from:subject:message-id:date :x-gm-message-state:from:to:cc:subject:date:message-id:reply-to; bh=W23NAK6W5r9l+Yjtl3dYQ0lLh8/9yevfFo30b4v45GM=; b=sn5sLhSfcYgMbzeN6fw1L5OGWJct6X9SjiXMemESJXNkIbhrDnap+mqsy2PRJQbhfP 5MOv9N7UGlgu997Zz8qiZeGUzybHQM4MjpcnXHyVHWFukhgQtjSqvwh0uL8DM8iIMB9y Qp5Ug1XY2sUpLQYir1T8q2Cs/RILcch63CPYnTZKEWc00kLSsfA8nOl2X01dhZP8F5WL cTh7NdWL43tj/VuqrLMYCu8gWdxTJN4cZYqc85ZZAg8Jyq1SgYTLoUidkAQ/dfMnu+il rFdbB355crYAK/KzRcZHZkp5PV91JsDx5/4Wl2HgiNYNDs3Zlkp/kAPBqjUNx4S+VoTA ZXaw== X-Gm-Message-State: AOJu0YyeWmaz7OyDKH8B9zVRLN5hcc1zn8iIGrZS76YKkxftBwPD4ZUE bE+Tgco5/Bk6NPdqWUvTOZvIn9NI3jzpwme7uM+IiQLBBd6VzkkrVNQcp0lY7xspV2LLsDZ5h6/ Ngg8kNEZ0tav/+wV+HLPKr4ZbENrsacljwfNooFIr X-Gm-Gg: ASbGnctvxRVasILKDjRg+H5xDSm54BACTN72pckq2r1PF3ap2eiGCiTRpTbpSmZ3LCX oDoAqHibMKAuru2td3NvMOscvfK+FF1yZNwqcixHo8Y7qSvcBdSEi70EwVq6VPTlOTYNCY35VIi MpEvcU1swPi5ES6ipTYjDggxIbX7s5EHq8b6Y10WMmaVW1umUv1ri1g3bXNZvuqsGuTVCf+22Ow SoFfTK7G5Dkcgarv07b4OUFl1D79LlS746sViQSorNGI6fr4SJFVZHdcYgrXihqgks+8jWhMYP4 /BSqjnTLOW9MD/BkDmGlC/ohEGy7iC+F9s1dG612TZfrWs5U2X28tDDDiH4= X-Google-Smtp-Source: AGHT+IGgDhXrXw5IwNIdJ+t/HQdoMhUhDDJtWC/uOP4UgG7P70Tz3p+q1CRgqhINUHHl8fTd4S4J4kqW9aYy X-Received: by 2002:a05:6820:1908:b0:604:30f2:5c48 with SMTP id 006d021491bc7-60828d4dc5dmr2472812eaf.7.1746639769377; Wed, 07 May 2025 10:42:49 -0700 (PDT) Received: from postal.iol.unh.edu (postal.iol.unh.edu. [132.177.123.84]) by smtp-relay.gmail.com with ESMTPS id 006d021491bc7-607e7cc6316sm1715379eaf.4.2025.05.07.10.42.49 (version=TLS1_2 cipher=ECDHE-ECDSA-AES128-GCM-SHA256 bits=128/128); Wed, 07 May 2025 10:42:49 -0700 (PDT) X-Relaying-Domain: iol.unh.edu Date: Wed, 07 May 2025 10:42:49 -0700 (PDT) Message-ID: <681b9b99.4a0a0220.178349.a023SMTPIN_ADDED_MISSING@mx.google.com> Received: from [172.21.0.5] (unknown [172.18.0.240]) by postal.iol.unh.edu (Postfix) with ESMTP id A5F726052471; Wed, 7 May 2025 13:42:48 -0400 (EDT) Subject: |SUCCESS| pw153323-153325 [PATCH] [v2,3/3] dts: add packet capture t From: dpdklab@iol.unh.edu To: Test Report Cc: dpdk-test-reports@iol.unh.edu In-Reply-To: <20250506132933.1580584-4-luca.vizzarro@arm.com> References: <20250506132933.1580584-4-luca.vizzarro@arm.com> Content-Type: text/plain X-BeenThere: test-report@dpdk.org X-Mailman-Version: 2.1.29 Precedence: list List-Id: automatic DPDK test reports List-Unsubscribe: , List-Archive: List-Post: List-Help: List-Subscribe: , Errors-To: test-report-bounces@dpdk.org Test-Label: iol-unit-amd64-testing Test-Status: SUCCESS http://dpdk.org/patch/153325 _Testing PASS_ Submitter: Luca Vizzarro Date: Tuesday, May 06 2025 13:29:33 DPDK git baseline: Repo:dpdk Branch: master CommitID:1aef42bc97a31906486c9d66b792208948af06f3 153323-153325 --> testing pass Upstream job id: Generic-VM-Unit-Test-DPDK#28378 Test environment and result as below: +---------------------+----------------+ | Environment | dpdk_unit_test | +=====================+================+ | CentOS Stream 10 | PASS | +---------------------+----------------+ | CentOS Stream 9 | PASS | +---------------------+----------------+ | Debian 12 | PASS | +---------------------+----------------+ | Fedora 40 | PASS | +---------------------+----------------+ | Fedora 40 (Clang) | PASS | +---------------------+----------------+ | Fedora 41 | PASS | +---------------------+----------------+ | RHEL8 | PASS | +---------------------+----------------+ | Ubuntu 20.04 | PASS | +---------------------+----------------+ | Fedora 41 (Clang) | PASS | +---------------------+----------------+ | RHEL9 | PASS | +---------------------+----------------+ | Ubuntu 24.04 | PASS | +---------------------+----------------+ | Ubuntu 22.04 | PASS | +---------------------+----------------+ | Windows Server 2022 | PASS | +---------------------+----------------+ CentOS Stream 10 Kernel: Depends on container host Compiler: gcc 14.2.1 20241104 (Red Hat 14.2.1-6) CentOS Stream 9 Kernel: Depends on container host Compiler: gcc 11.5.0 20240719 (Red Hat 11.5.0-2) Debian 12 Kernel: Depends on container host Compiler: gcc (Debian 12.2.0-14) 12.2.0 Fedora 40 Kernel: Depends on container host Compiler: gcc 14.2.1 20240912 (Red Hat 14.2.1-3) Fedora 40 (Clang) Kernel: Depends on container host Compiler: clang 18.1.8 (Fedora 18.1.8-1.fc40) Fedora 41 Kernel: Depends on container host Compiler: gcc 14.2.1 20240912 (Red Hat 14.2.1-3) RHEL8 Kernel: Depends on container host Compiler: gcc 8.5.0 20210514 (Red Hat 8.5.0-22) Ubuntu 20.04 Kernel: Depends on container host Compiler: gcc (Ubuntu 9.4.0-1ubuntu1~20.04.2) 9.4.0 Fedora 41 (Clang) Kernel: Depends on container host Compiler: clang 19.1.5 (Fedora 19.1.5-1.fc41) RHEL9 Kernel: Depends on container host Compiler: gcc 11.5.0 20240719 (Red Hat 11.5.0-2) Ubuntu 24.04 Kernel: Depends on container host Compiler: gcc (Ubuntu 13.3.0-6ubuntu2~24.04) 13.3.0 Ubuntu 22.04 Kernel: Depends on container host Compiler: gcc (Ubuntu 11.4.0-1ubuntu1~22.04) 11.4.0 Windows Server 2022 Kernel: 10.0.20348.2031 Compiler: clang 15.0.7, gcc 14.1.0 (MinGW), and MSVC VS 19.39.33521 To view detailed results, visit: https://lab.dpdk.org/results/dashboard/patchsets/33123/ UNH-IOL DPDK Community Lab To manage your email subscriptions, visit: https://lab.dpdk.org/results/dashboard/preferences/subscriptions/