From mboxrd@z Thu Jan 1 00:00:00 1970 Return-Path: Received: from mails.dpdk.org (mails.dpdk.org [217.70.189.124]) by inbox.dpdk.org (Postfix) with ESMTP id 28016466EB for ; Wed, 7 May 2025 20:02:48 +0200 (CEST) Received: from mails.dpdk.org (localhost [127.0.0.1]) by mails.dpdk.org (Postfix) with ESMTP id 0389F4025D; Wed, 7 May 2025 20:02:48 +0200 (CEST) Received: from mail-qk1-f228.google.com (mail-qk1-f228.google.com [209.85.222.228]) by mails.dpdk.org (Postfix) with ESMTP id 686DB4025A for ; Wed, 7 May 2025 20:02:46 +0200 (CEST) Received: by mail-qk1-f228.google.com with SMTP id af79cd13be357-7c5568355ffso12594085a.0 for ; Wed, 07 May 2025 11:02:46 -0700 (PDT) DKIM-Signature: v=1; a=rsa-sha256; c=relaxed/relaxed; d=iol.unh.edu; s=unh-iol; t=1746640965; x=1747245765; darn=dpdk.org; h=cc:to:from:subject:message-id:date:from:to:cc:subject:date :message-id:reply-to; bh=Wjs/pSVbNp9F9XBzkZgWQJXYk8rdt564zbwJgYfnZ90=; b=HX3PH3SfB0SlRO63Z3pmwqJJ+9v2Z7jPFJ37orVmQGV1mQlsdNDuUlPGbO1SM3rbkp QWuOtqFz6zi2Pn6vvP0owMnl4X7bFaDXhHst4qDO+/5QFF3Th9bQBjUdnhfTTyJ+NoQJ dKpYfhtXwbqdYbzg6yef0rlbv1Hg+F/w+v2e4= X-Google-DKIM-Signature: v=1; a=rsa-sha256; c=relaxed/relaxed; d=1e100.net; s=20230601; t=1746640965; x=1747245765; h=cc:to:from:subject:message-id:date:x-gm-message-state:from:to:cc :subject:date:message-id:reply-to; bh=Wjs/pSVbNp9F9XBzkZgWQJXYk8rdt564zbwJgYfnZ90=; b=eau8QTjEqXozQGFW2v4UHaFXjE4ILz0bwatZCq885tiuHQBWTD42fKq1nmI/v3owBZ D++6tsYk8G2U1MXOPG/7+HGp7cprROPHtzBz/5lzW04hC/wndf5L0Tx4VMhgTqjj9bGm iYiH9e7x2E8RCA6VDua9kdQtXtEvIXn8HCSzeRQiXhVGvghrCdDRQ2TkS4ChFf0r4kk2 dI6qMIOjLB35ZSXX0HSQYFImA2ZWVGhP6wq0+N+1zFmDsJbCWvYO88zZOCZ0Oy8DJHTK jnRZZWtJWIxG2VYGXokrnVOmIOgKQvcEfPAcA9xRUEjKO65mketM6Z1CJYqJYH9i3jfg F58A== X-Gm-Message-State: AOJu0Ywh6Cg6imOebJme9K3BoqpKqZrn4oJfAoGmekrZUa2/mACElFN9 ZJrqVkqybwTxJg+K/Qxz+UB2JiiIaBgUYW3CrUZ8Xw3r8QadeMG69l+jDNpWep7O+F4sV1Ls61E g8rGqfby+J4R7/8oY1YkKZwR/uwd8OT7oIGTXPQnPmrymwzplaUpU8tCJ X-Gm-Gg: ASbGnctkTsCjx8wEKl3XZ+uq9I61Mw9QIru/i6NzaqrMmg2O99pJG4moB8IsaMQoFrT twbaDbJH54ixt6P5EcyEmCI0oiEc/NoOMdBtKqPG8CtTv0QgeTLt9NjE6Qb8XR9dFefHO1pfYqt j+EqerEJ1+d82fh9EO56FS+BodAX73ptZd+5mFbKhrecw52P/6h2gNsKRnwg5YZ8oKKtOkyz0MB Ehtnn4N0Xr/LZLJBTy8MGi56vSFuAanbJHLCUNTGZdrqJUJWZYq+8Zuenq0xRLDS5XAcWTL/BjH HmagcWPb+9gOaLkgpbgciHXMakv6pix5cIC1 X-Google-Smtp-Source: AGHT+IEFhsyNTertNKPmeuVsHiowfrBF3UcscCdx8VU+La0tUDK85jpvPsW1qs/ikzmFqIs9paQPCUlVoT+p X-Received: by 2002:ad4:5ae2:0:b0:6e8:8798:275d with SMTP id 6a1803df08f44-6f5427ab861mr69789136d6.0.1746640965570; Wed, 07 May 2025 11:02:45 -0700 (PDT) Received: from postal.iol.unh.edu (postal.iol.unh.edu. [2606:4100:3880:1234::84]) by smtp-relay.gmail.com with ESMTPS id 6a1803df08f44-6f542769987sm1339036d6.56.2025.05.07.11.02.45 (version=TLS1_2 cipher=ECDHE-ECDSA-AES128-GCM-SHA256 bits=128/128); Wed, 07 May 2025 11:02:45 -0700 (PDT) X-Relaying-Domain: iol.unh.edu Date: Wed, 07 May 2025 11:02:45 -0700 (PDT) Message-ID: <681ba045.050a0220.57877.74dcSMTPIN_ADDED_MISSING@mx.google.com> Received: from [172.21.0.5] (unknown [172.18.0.240]) by postal.iol.unh.edu (Postfix) with ESMTP id 3B90E6052471; Wed, 7 May 2025 14:02:45 -0400 (EDT) Subject: |SUCCESS| [GIT MASTER] 7cf0355db9fdab5648b05fd787356c391c510534 From: dpdklab@iol.unh.edu To: Test Report Cc: dpdk-test-reports@iol.unh.edu, Bruce Richardson Content-Type: text/plain X-BeenThere: test-report@dpdk.org X-Mailman-Version: 2.1.29 Precedence: list List-Id: automatic DPDK test reports List-Unsubscribe: , List-Archive: List-Post: List-Help: List-Subscribe: , Errors-To: test-report-bounces@dpdk.org _Testing PASS_ Branch: dpdk-next-net-intel 7cf0355db9fdab5648b05fd787356c391c510534 --> testing pass Upstream job id: Generic-DPDK-Compile-Meson#386148 Test environment and result as below: +-----------------------------------+--------------------+-------------------+------------------+-------------------+ | Environment | dpdk_meson_compile | dpdk_compile_spdk | dpdk_compile_ovs | dpdk_msvc_compile | +===================================+====================+===================+==================+===================+ | CentOS Stream 9 | PASS | PASS | SKIPPED | SKIPPED | +-----------------------------------+--------------------+-------------------+------------------+-------------------+ | CentOS Stream 10 | PASS | SKIPPED | SKIPPED | SKIPPED | +-----------------------------------+--------------------+-------------------+------------------+-------------------+ | Debian 12 | PASS | PASS | SKIPPED | SKIPPED | +-----------------------------------+--------------------+-------------------+------------------+-------------------+ | Fedora 40 (Clang) | PASS | PASS | SKIPPED | SKIPPED | +-----------------------------------+--------------------+-------------------+------------------+-------------------+ | Fedora 41 | PASS | PASS | PASS | SKIPPED | +-----------------------------------+--------------------+-------------------+------------------+-------------------+ | Fedora 40 | PASS | PASS | SKIPPED | SKIPPED | +-----------------------------------+--------------------+-------------------+------------------+-------------------+ | openSUSE Leap 15 | PASS | SKIPPED | SKIPPED | SKIPPED | +-----------------------------------+--------------------+-------------------+------------------+-------------------+ | RHEL8 | PASS | SKIPPED | SKIPPED | SKIPPED | +-----------------------------------+--------------------+-------------------+------------------+-------------------+ | Fedora 41 (Clang) | PASS | PASS | PASS | SKIPPED | +-----------------------------------+--------------------+-------------------+------------------+-------------------+ | RHEL9 | PASS | SKIPPED | SKIPPED | SKIPPED | +-----------------------------------+--------------------+-------------------+------------------+-------------------+ | Ubuntu 20.04 | PASS | SKIPPED | SKIPPED | SKIPPED | +-----------------------------------+--------------------+-------------------+------------------+-------------------+ | Ubuntu 22.04 | PASS | PASS | SKIPPED | SKIPPED | +-----------------------------------+--------------------+-------------------+------------------+-------------------+ | Ubuntu 24.04 | PASS | PASS | PASS | SKIPPED | +-----------------------------------+--------------------+-------------------+------------------+-------------------+ | Alpine | PASS | SKIPPED | SKIPPED | SKIPPED | +-----------------------------------+--------------------+-------------------+------------------+-------------------+ | Ubuntu 24.04 32 Bit Cross Compile | PASS | SKIPPED | SKIPPED | SKIPPED | +-----------------------------------+--------------------+-------------------+------------------+-------------------+ | FreeBSD 13.5 | PASS | SKIPPED | SKIPPED | SKIPPED | +-----------------------------------+--------------------+-------------------+------------------+-------------------+ | FreeBSD 14.2 | PASS | SKIPPED | SKIPPED | SKIPPED | +-----------------------------------+--------------------+-------------------+------------------+-------------------+ | Windows Server 2022 | SKIPPED | SKIPPED | SKIPPED | PASS | +-----------------------------------+--------------------+-------------------+------------------+-------------------+ CentOS Stream 9 Kernel: Depends on container host Compiler: gcc 11.5.0 20240719 (Red Hat 11.5.0-2) CentOS Stream 10 Kernel: Depends on container host Compiler: gcc 14.2.1 20241104 (Red Hat 14.2.1-6) Debian 12 Kernel: Depends on container host Compiler: gcc (Debian 12.2.0-14) 12.2.0 Fedora 40 (Clang) Kernel: Depends on container host Compiler: clang 18.1.8 (Fedora 18.1.8-1.fc40) Fedora 41 Kernel: Depends on container host Compiler: gcc 14.2.1 20240912 (Red Hat 14.2.1-3) Fedora 40 Kernel: Depends on container host Compiler: gcc 14.2.1 20240912 (Red Hat 14.2.1-3) openSUSE Leap 15 Kernel: Depends on container host Compiler: gcc (SUSE Linux) 7.5.0 RHEL8 Kernel: Depends on container host Compiler: gcc 8.5.0 20210514 (Red Hat 8.5.0-22) Fedora 41 (Clang) Kernel: Depends on container host Compiler: clang 19.1.5 (Fedora 19.1.5-1.fc41) RHEL9 Kernel: Depends on container host Compiler: gcc 11.5.0 20240719 (Red Hat 11.5.0-2) Ubuntu 20.04 Kernel: Depends on container host Compiler: gcc (Ubuntu 9.4.0-1ubuntu1~20.04.2) 9.4.0 Ubuntu 22.04 Kernel: Depends on container host Compiler: gcc (Ubuntu 11.4.0-1ubuntu1~22.04) 11.4.0 Ubuntu 24.04 Kernel: Depends on container host Compiler: gcc (Ubuntu 13.3.0-6ubuntu2~24.04) 13.3.0 Alpine Kernel: Depends on container host Compiler: gcc (Alpine 14.2.0) 14.2.0 Ubuntu 24.04 32 Bit Cross Compile Kernel: Depends on container host Compiler: gcc (Ubuntu 13.3.0-6ubuntu2~24.04) 13.3.0 FreeBSD 13.5 Kernel: 13.5-RELEASE Compiler: clang 19.1.7 FreeBSD 14.2 Kernel: 14.2-RELEASE Compiler: clang 18.1.6 Windows Server 2022 Kernel: 10.0.20348.2031 Compiler: clang 15.0.7, gcc 14.1.0 (MinGW), and MSVC VS 19.39.33521 To view detailed results, visit: https://lab.dpdk.org/results/dashboard/tarballs/33467/ UNH-IOL DPDK Community Lab To manage your email subscriptions, visit: https://lab.dpdk.org/results/dashboard/preferences/subscriptions/