From mboxrd@z Thu Jan 1 00:00:00 1970 Return-Path: Received: from mails.dpdk.org (mails.dpdk.org [217.70.189.124]) by inbox.dpdk.org (Postfix) with ESMTP id D4C92466EB for ; Wed, 7 May 2025 20:20:43 +0200 (CEST) Received: from mails.dpdk.org (localhost [127.0.0.1]) by mails.dpdk.org (Postfix) with ESMTP id A61AF4025D; Wed, 7 May 2025 20:20:43 +0200 (CEST) Received: from mail-qk1-f226.google.com (mail-qk1-f226.google.com [209.85.222.226]) by mails.dpdk.org (Postfix) with ESMTP id 287E14025A for ; Wed, 7 May 2025 20:20:42 +0200 (CEST) Received: by mail-qk1-f226.google.com with SMTP id af79cd13be357-7c5568355ffso14259385a.0 for ; Wed, 07 May 2025 11:20:42 -0700 (PDT) DKIM-Signature: v=1; a=rsa-sha256; c=relaxed/relaxed; d=iol.unh.edu; s=unh-iol; t=1746642041; x=1747246841; darn=dpdk.org; h=references:in-reply-to:cc:to:from:subject:message-id:date:from:to :cc:subject:date:message-id:reply-to; bh=keq/6c9hwea8apl1T6AdJ8kqbAhF/dUm3J0ZB9n6kVE=; b=L5HmWwCPKAl2ek2Uxbv0FcQfV2IoLHdZm2EYoptKj5yJYYEOugtgbXzB0qp83OX1gd zdW5yp0J3hYVGIx9aKBO/g6PI/NOgV1Daoc61Hmrm8ICUPcYwf2wnBN2Q8gXWD3OgmTJ MeBMlSUQPvCHTUZouIDddOhwnEw+4HIemgzf0= X-Google-DKIM-Signature: v=1; a=rsa-sha256; c=relaxed/relaxed; d=1e100.net; s=20230601; t=1746642041; x=1747246841; h=references:in-reply-to:cc:to:from:subject:message-id:date :x-gm-message-state:from:to:cc:subject:date:message-id:reply-to; bh=keq/6c9hwea8apl1T6AdJ8kqbAhF/dUm3J0ZB9n6kVE=; b=aphs7FviA6JaBfre1sTd3UAl3WzterQZtHtLEgOE9j6FrHfV+Umxp2H7R1W6PodorI pftqyZoqITjpdI3EoRp2ZLWXtEFpwqux8baImEVWKoRlGLrOfwcmv2Zo+aEQEITdizz+ hvXg2ZL2+JvrpRySXKHyZxX4mzLO4/cMKk1g3V1K7wOoX/qWmJ1oc2zPyx4Zs7etccyv w1ZBHZPB0vwgRmfLBOp+e7dm00QcxNtK/23vnjcC5vmth3wDUgfE9tqtoPUTrSRc0bqv qUf1lpBm0VMeXPAw1OEqz/aVwuWRoYbjaVDps1uvjkM7l5s8SOk13TH1oP1l09Xo5OJb B7uw== X-Gm-Message-State: AOJu0YwbmpMGB3ryesfjRdVux+/ZoNTtMFHRtowM6ihsauHCwPkPqfUm gs6gHu+0sfxp02sTNKn5QUN6b7Qx7+8rNPIh86tGLUzJDKmum8sphPtJ7hRpn3aOz+l1Mh1WVdQ Etpd3OvQUxyS96XiDY7ihmgH/P7bKq3U112MISjFV X-Gm-Gg: ASbGncsbp22yDk3ia+b2J5efStrXvat2mArcRtXB3KISdNdgt2xt4nJ+/vgXj2Sxcm3 3WuJtsWjpN05LUZwwLlMFSJqWRgfWhQD9npxlGSCYzYX0b1fJfrVlwf6xz5w4mwhwWCEy1+8TAu 8jmnOkKRdTpIZnohAmkaBSdaAlflIhPDb6VF7vJTwOiqwTc9CNPNvs3HNz+RzPaMwLFLyjWh/Ig lxQZNtmqt5PHTIrnuaVICQU4ywedifp6m0hJgS005dVpQkjwcVH3A/vuCP1Haa3U9IdJg4sdjrb JjrNYkhzEJfgX3ptMD6wzFSqApnGk8Okw9yN8FM1Rk/Y1R1hpwWu++ec/gI= X-Google-Smtp-Source: AGHT+IEjN2FLDjwahU4SR6sB5UfSmuLRV8IVa25RXGhnEUAqWYgRjk8jgZreO73AuOW0RNJmHqz2E92NbRm+ X-Received: by 2002:a05:620a:170d:b0:7c5:5206:5823 with SMTP id af79cd13be357-7caf73abc11mr611569885a.29.1746642041388; Wed, 07 May 2025 11:20:41 -0700 (PDT) Received: from postal.iol.unh.edu (postal.iol.unh.edu. [132.177.123.84]) by smtp-relay.gmail.com with ESMTPS id af79cd13be357-7caf7581876sm12782485a.5.2025.05.07.11.20.41 (version=TLS1_2 cipher=ECDHE-ECDSA-AES128-GCM-SHA256 bits=128/128); Wed, 07 May 2025 11:20:41 -0700 (PDT) X-Relaying-Domain: iol.unh.edu Date: Wed, 07 May 2025 11:20:41 -0700 (PDT) Message-ID: <681ba479.050a0220.2ea543.7084SMTPIN_ADDED_MISSING@mx.google.com> Received: from [172.21.0.5] (unknown [172.18.0.240]) by postal.iol.unh.edu (Postfix) with ESMTP id 9F9B56052471; Wed, 7 May 2025 14:20:40 -0400 (EDT) Subject: |SUCCESS| pw153342 [PATCH] [v3,1/1] buildtools: avoid break due to f From: dpdklab@iol.unh.edu To: Test Report Cc: dpdk-test-reports@iol.unh.edu In-Reply-To: <1746627671-28659-2-git-send-email-andremue@linux.microsoft.com> References: <1746627671-28659-2-git-send-email-andremue@linux.microsoft.com> Content-Type: text/plain X-BeenThere: test-report@dpdk.org X-Mailman-Version: 2.1.29 Precedence: list List-Id: automatic DPDK test reports List-Unsubscribe: , List-Archive: List-Post: List-Help: List-Subscribe: , Errors-To: test-report-bounces@dpdk.org Test-Label: iol-unit-arm64-testing Test-Status: SUCCESS http://dpdk.org/patch/153342 _Testing PASS_ Submitter: Andre Muezerie Date: Wednesday, May 07 2025 14:21:11 DPDK git baseline: Repo:dpdk Branch: master CommitID:75f179ebe347b6098cf3af26d3d3b7168fe3fe24 153342 --> testing pass Upstream job id: Generic-Unit-Test-DPDK#336279 Test environment and result as below: +-----------------------------+----------------+---------------------------+--------------+------------------------------+ | Environment | dpdk_unit_test | cryptodev_sw_zuc_autotest | lpm_autotest | cryptodev_sw_snow3g_autotest | +=============================+================+===========================+==============+==============================+ | CentOS Stream 9 (ARM) | PASS | SKIPPED | SKIPPED | SKIPPED | +-----------------------------+----------------+---------------------------+--------------+------------------------------+ | Debian 12 (arm) | PASS | PASS | SKIPPED | PASS | +-----------------------------+----------------+---------------------------+--------------+------------------------------+ | Fedora 40 (ARM) | PASS | SKIPPED | SKIPPED | SKIPPED | +-----------------------------+----------------+---------------------------+--------------+------------------------------+ | Fedora 41 (ARM Clang) | PASS | SKIPPED | SKIPPED | SKIPPED | +-----------------------------+----------------+---------------------------+--------------+------------------------------+ | CentOS Stream 10 (ARM) | PASS | SKIPPED | SKIPPED | SKIPPED | +-----------------------------+----------------+---------------------------+--------------+------------------------------+ | Fedora 40 (ARM Clang) | PASS | SKIPPED | SKIPPED | SKIPPED | +-----------------------------+----------------+---------------------------+--------------+------------------------------+ | Fedora 41 (ARM) | PASS | SKIPPED | SKIPPED | SKIPPED | +-----------------------------+----------------+---------------------------+--------------+------------------------------+ | Ubuntu 22.04 (ARM) | PASS | SKIPPED | SKIPPED | SKIPPED | +-----------------------------+----------------+---------------------------+--------------+------------------------------+ | Ubuntu 20.04 (ARM) | PASS | SKIPPED | SKIPPED | SKIPPED | +-----------------------------+----------------+---------------------------+--------------+------------------------------+ | RHEL9 (ARM) | PASS | SKIPPED | SKIPPED | SKIPPED | +-----------------------------+----------------+---------------------------+--------------+------------------------------+ | Ubuntu 24.04 (ARM) | PASS | SKIPPED | SKIPPED | SKIPPED | +-----------------------------+----------------+---------------------------+--------------+------------------------------+ | 32-bit Ubuntu 22.04.4 (ARM) | PASS | SKIPPED | SKIPPED | SKIPPED | +-----------------------------+----------------+---------------------------+--------------+------------------------------+ | Ubuntu 20.04 ARM SVE | SKIPPED | SKIPPED | PASS | SKIPPED | +-----------------------------+----------------+---------------------------+--------------+------------------------------+ CentOS Stream 9 (ARM) Kernel: Depends on container host Compiler: gcc 11.5.0 20240719 (Red Hat 11.5.0-2) Debian 12 (arm) Kernel: Depends on container host Compiler: gcc (Debian 12.2.0-14) 12.2.0 Fedora 40 (ARM) Kernel: Depends on container host Compiler: gcc 14.2.1 20240912 (Red Hat 14.2.1-3) Fedora 41 (ARM Clang) Kernel: Depends on container host Compiler: clang 19.1.5 (Fedora 19.1.5-1.fc41) CentOS Stream 10 (ARM) Kernel: Depends on container host Compiler: gcc 14.2.1 20241104 (Red Hat 14.2.1-6) Fedora 40 (ARM Clang) Kernel: Depends on container host Compiler: clang 18.1.8 (Fedora 18.1.8-1.fc40) Fedora 41 (ARM) Kernel: Depends on container host Compiler: gcc 14.2.1 20240912 (Red Hat 14.2.1-3) Ubuntu 22.04 (ARM) Kernel: Depends on container host Compiler: gcc (Ubuntu 11.4.0-1ubuntu1~22.04) 11.4.0 Ubuntu 20.04 (ARM) Kernel: Depends on container host Compiler: gcc (Ubuntu 9.4.0-1ubuntu1~20.04.2) 9.4.0 RHEL9 (ARM) Kernel: Depends on container host Compiler: gcc 11.5.0 20240719 (Red Hat 11.5.0-2) Ubuntu 24.04 (ARM) Kernel: Depends on container host Compiler: gcc (Ubuntu 13.3.0-6ubuntu2~24.04) 13.3.0 32-bit Ubuntu 22.04.4 (ARM) Kernel: 5.15.83+ aarch64 Compiler: gcc (Ubuntu 11.4.0-1ubuntu1~22.04) 11.4.0 Ubuntu 20.04 ARM SVE Kernel: Depends on container host Compiler: gcc (Ubuntu 10.5.0-1ubuntu1~20.04) 10.5.0 To view detailed results, visit: https://lab.dpdk.org/results/dashboard/patchsets/33133/ UNH-IOL DPDK Community Lab To manage your email subscriptions, visit: https://lab.dpdk.org/results/dashboard/preferences/subscriptions/