From mboxrd@z Thu Jan 1 00:00:00 1970 Return-Path: Received: from mails.dpdk.org (mails.dpdk.org [217.70.189.124]) by inbox.dpdk.org (Postfix) with ESMTP id 43D66466EB for ; Wed, 7 May 2025 20:25:12 +0200 (CEST) Received: from mails.dpdk.org (localhost [127.0.0.1]) by mails.dpdk.org (Postfix) with ESMTP id 1B2254025D; Wed, 7 May 2025 20:25:12 +0200 (CEST) Received: from mail-io1-f97.google.com (mail-io1-f97.google.com [209.85.166.97]) by mails.dpdk.org (Postfix) with ESMTP id 710E24025A for ; Wed, 7 May 2025 20:25:10 +0200 (CEST) Received: by mail-io1-f97.google.com with SMTP id ca18e2360f4ac-85b3f92c8f8so8392139f.1 for ; Wed, 07 May 2025 11:25:10 -0700 (PDT) DKIM-Signature: v=1; a=rsa-sha256; c=relaxed/relaxed; d=iol.unh.edu; s=unh-iol; t=1746642309; x=1747247109; darn=dpdk.org; h=references:in-reply-to:cc:to:from:subject:message-id:date:from:to :cc:subject:date:message-id:reply-to; bh=4OtzEc8Z+JzKzbOVRZL4UdqLFIAE5JvdByLP0s2SHmY=; b=AvAKo1fq0NNoqUhL6nW/YjYeOiv9AqBKXzFCS+5JDJXTEAQYt9xvSILUflz5LSvwUy krT9sLXJpPNNyMNoFCkQzlKIotQ6DpmAbYa7nOoCLflKEJxabH8BBl/xmen9pQ9ItUAc sOy0WIxnXmLaZXmWcClQ/EMS7aG7hgugPNRWQ= X-Google-DKIM-Signature: v=1; a=rsa-sha256; c=relaxed/relaxed; d=1e100.net; s=20230601; t=1746642309; x=1747247109; h=references:in-reply-to:cc:to:from:subject:message-id:date :x-gm-message-state:from:to:cc:subject:date:message-id:reply-to; bh=4OtzEc8Z+JzKzbOVRZL4UdqLFIAE5JvdByLP0s2SHmY=; b=daBtR2Q/4sUdn9yX+eJfnGQ+B3pKTRjNUTl/7kakhL2CLRWcg1TVO4YQG+p+/FswT1 WzJJjFTfAPkKn6WYG/i4Jgcfa37bumKk8Y3dRG7xxRCQHmUXo3PNU5f/5VaO4WwSrN0W mygHjOAcq62jKBNcmYMQr6/qzUdQjPVSAJbRWLnAkmN5B1ICzvUt6Te7P6tqFeXpFkc3 FUf46tnqzU7Tl1pebXhPAAquYNT4/5tQFx3b/YVonskXS8PR7tcE2qtQ30IftLEeaxPJ OF6Pf6uYdUdUvLUCAodatD/ptQBV8hVDWErYc7FmuHevOmiNGAtT4BfKJCZMREkhw6uo 392w== X-Gm-Message-State: AOJu0Yym0jHwboZ8yScmYW35gdpEbrtNhBn2TKA2VldKDYUss1Mfoyk5 J2skC84yK0+6HT8RrTEk7lNZ686zlcU51xtBQmy/ULcDEsdf4bqtsH5O3V3kgE12zrmogyUujir RPnAMTGD6nGJoIr9fxjAMfdKSk40ULeQ56P/IHcIy X-Gm-Gg: ASbGncsAXgLsIU9tEFyOjvzmsevyqYs8IdO0fSh818bpW6T8k4kjl86fXj3apudE1e6 yeF+Z2Wvmt4zofzeX2UDW7RGc6AHWNyBlgx6nAjqrI1EYYEcz3bhFrIJKlX9hA0QjYPjJ9zovXk 1JcsG7BSPieBJx0xH+QbpaS2zmp1GusWXD4mlHpCbDi+j/7tFZig8Hh1CsFqln++7kPCRtc8q8n Ed3PlSU8o07shoCmYwXDkn4nmSBZeWHHhJvV0BU/rio7mTG2yr6Gh78rCZ2jAirt6E0FOQRnyN5 HHG5EAg9wEFKl37kAfktblJtxVAXu37Dyzo30meAdnM2BXl4ncBEg7auM4s= X-Google-Smtp-Source: AGHT+IEiE05M9cJ1rGslVJkW1u0tMkof6liYtqb1bXPSAr8e7ISuYT6Mv0rXGXqigzNpbUGoeW6szEz3D3IN X-Received: by 2002:a05:6e02:34a1:b0:3da:7161:23e5 with SMTP id e9e14a558f8ab-3da738eec68mr55445125ab.2.1746642309442; Wed, 07 May 2025 11:25:09 -0700 (PDT) Received: from postal.iol.unh.edu (postal.iol.unh.edu. [132.177.123.84]) by smtp-relay.gmail.com with ESMTPS id e9e14a558f8ab-3d97607263bsm23941125ab.65.2025.05.07.11.25.09 (version=TLS1_2 cipher=ECDHE-ECDSA-AES128-GCM-SHA256 bits=128/128); Wed, 07 May 2025 11:25:09 -0700 (PDT) X-Relaying-Domain: iol.unh.edu Date: Wed, 07 May 2025 11:25:09 -0700 (PDT) Message-ID: <681ba585.050a0220.20af23.3cb5SMTPIN_ADDED_MISSING@mx.google.com> Received: from [172.21.0.11] (unknown [172.18.0.240]) by postal.iol.unh.edu (Postfix) with ESMTP id 1767D6052471; Wed, 7 May 2025 14:25:09 -0400 (EDT) Subject: |SUCCESS| pw153307-153308 [PATCH] [v2,2/2] app/testpmd: add sleep co From: dpdklab@iol.unh.edu To: Test Report Cc: dpdk-test-reports@iol.unh.edu In-Reply-To: References: Content-Type: text/plain X-BeenThere: test-report@dpdk.org X-Mailman-Version: 2.1.29 Precedence: list List-Id: automatic DPDK test reports List-Unsubscribe: , List-Archive: List-Post: List-Help: List-Subscribe: , Errors-To: test-report-bounces@dpdk.org Test-Label: iol-compile-arm64-testing Test-Status: SUCCESS http://dpdk.org/patch/153308 _Testing PASS_ Submitter: Anatoly Burakov Date: Tuesday, May 06 2025 13:08:19 DPDK git baseline: Repo:dpdk Branch: master CommitID:ff05ee3e3f8fb4ce958a2ce6461e8141aea959c6 153307-153308 --> testing pass Upstream job id: Generic-DPDK-Compile-Meson#386120 Test environment and result as below: +----------------------------------------+--------------------+ | Environment | dpdk_meson_compile | +========================================+====================+ | RHEL9 (ARM) | PASS | +----------------------------------------+--------------------+ | Ubuntu 20.04 ARM GCC Cross Compile | PASS | +----------------------------------------+--------------------+ | Ubuntu 20.04 ARM SVE | PASS | +----------------------------------------+--------------------+ | Fedora 40 (ARM) | PASS | +----------------------------------------+--------------------+ | Fedora 40 (ARM Clang) | PASS | +----------------------------------------+--------------------+ | Fedora 41 (ARM) | PASS | +----------------------------------------+--------------------+ | Fedora 41 (ARM Clang) | PASS | +----------------------------------------+--------------------+ | Ubuntu 20.04 (ARM) | PASS | +----------------------------------------+--------------------+ | Ubuntu 22.04 (ARM) | PASS | +----------------------------------------+--------------------+ | Ubuntu 24.04 (ARM) | PASS | +----------------------------------------+--------------------+ | CentOS Stream 9 (ARM) | PASS | +----------------------------------------+--------------------+ | Debian 12 (arm) | PASS | +----------------------------------------+--------------------+ | CentOS Stream 10 (ARM) | PASS | +----------------------------------------+--------------------+ | Ubuntu 20.04 ARM Clang Cross Compile | PASS | +----------------------------------------+--------------------+ | Ubuntu 20.04 aarch32 GCC Cross Compile | PASS | +----------------------------------------+--------------------+ | Debian 12 with MUSDK | PASS | +----------------------------------------+--------------------+ RHEL9 (ARM) Kernel: Depends on container host Compiler: gcc 11.5.0 20240719 (Red Hat 11.5.0-2) Ubuntu 20.04 ARM GCC Cross Compile Kernel: Depends on container host Compiler: aarch64-linux-gnu-gcc (Ubuntu 9.4.0-1ubuntu1~20.04.2) 9.4.0 Ubuntu 20.04 ARM SVE Kernel: Depends on container host Compiler: gcc (Ubuntu 10.5.0-1ubuntu1~20.04) 10.5.0 Fedora 40 (ARM) Kernel: Depends on container host Compiler: gcc 14.2.1 20240912 (Red Hat 14.2.1-3) Fedora 40 (ARM Clang) Kernel: Depends on container host Compiler: clang 18.1.8 (Fedora 18.1.8-1.fc40) Fedora 41 (ARM) Kernel: Depends on container host Compiler: gcc 14.2.1 20240912 (Red Hat 14.2.1-3) Fedora 41 (ARM Clang) Kernel: Depends on container host Compiler: clang 19.1.5 (Fedora 19.1.5-1.fc41) Ubuntu 20.04 (ARM) Kernel: Depends on container host Compiler: gcc (Ubuntu 9.4.0-1ubuntu1~20.04.2) 9.4.0 Ubuntu 22.04 (ARM) Kernel: Depends on container host Compiler: gcc (Ubuntu 11.4.0-1ubuntu1~22.04) 11.4.0 Ubuntu 24.04 (ARM) Kernel: Depends on container host Compiler: gcc (Ubuntu 13.3.0-6ubuntu2~24.04) 13.3.0 CentOS Stream 9 (ARM) Kernel: Depends on container host Compiler: gcc 11.5.0 20240719 (Red Hat 11.5.0-2) Debian 12 (arm) Kernel: Depends on container host Compiler: gcc (Debian 12.2.0-14) 12.2.0 CentOS Stream 10 (ARM) Kernel: Depends on container host Compiler: gcc 14.2.1 20241104 (Red Hat 14.2.1-6) Ubuntu 20.04 ARM Clang Cross Compile Kernel: Depends on container host Compiler: clang 10.0.0-4ubuntu1 Ubuntu 20.04 aarch32 GCC Cross Compile Kernel: Depends on container host Compiler: gcc 9.4.0 Debian 12 with MUSDK Kernel: Depends on container host Compiler: gcc (Debian 12.2.0-14) 12.2.0 To view detailed results, visit: https://lab.dpdk.org/results/dashboard/patchsets/33120/ UNH-IOL DPDK Community Lab To manage your email subscriptions, visit: https://lab.dpdk.org/results/dashboard/preferences/subscriptions/