From mboxrd@z Thu Jan 1 00:00:00 1970 Return-Path: Received: from mails.dpdk.org (mails.dpdk.org [217.70.189.124]) by inbox.dpdk.org (Postfix) with ESMTP id 3C0CD466EB for ; Wed, 7 May 2025 20:36:15 +0200 (CEST) Received: from mails.dpdk.org (localhost [127.0.0.1]) by mails.dpdk.org (Postfix) with ESMTP id 150194025D; Wed, 7 May 2025 20:36:15 +0200 (CEST) Received: from mail-pl1-f227.google.com (mail-pl1-f227.google.com [209.85.214.227]) by mails.dpdk.org (Postfix) with ESMTP id 2B0754025A for ; Wed, 7 May 2025 20:36:13 +0200 (CEST) Received: by mail-pl1-f227.google.com with SMTP id d9443c01a7336-22c336fcdaaso2966215ad.3 for ; Wed, 07 May 2025 11:36:13 -0700 (PDT) DKIM-Signature: v=1; a=rsa-sha256; c=relaxed/relaxed; d=iol.unh.edu; s=unh-iol; t=1746642972; x=1747247772; darn=dpdk.org; h=references:in-reply-to:cc:to:from:subject:message-id:date:from:to :cc:subject:date:message-id:reply-to; bh=U7TnfCXl0nHo6N61k74lDI5Kp4KK5RH4583GZIrA4eg=; b=ARqrUH7kiqX7dAmIAXMM6iBwt04tiJD/UMJIT8f5wIG0H68zWOWCFkQhrPv+TIGFyV aImViOvAPgepQo364SDaBXcnf3/bSL0PVp15FkffWT3clvi+tYugD4RPiae0riFUD7fD DWIYd2Wgj6MKwL9jv21fyywjBBAAiuNotIKBI= X-Google-DKIM-Signature: v=1; a=rsa-sha256; c=relaxed/relaxed; d=1e100.net; s=20230601; t=1746642972; x=1747247772; h=references:in-reply-to:cc:to:from:subject:message-id:date :x-gm-message-state:from:to:cc:subject:date:message-id:reply-to; bh=U7TnfCXl0nHo6N61k74lDI5Kp4KK5RH4583GZIrA4eg=; b=PrOSyig2Mv14xT74wMlszsoRHLjyYM/svwIPOPKoCltvsYQcNny/IAaPHgGqrd0L3K ArBs9jzDXZCU2DQQq4FYX4pruow2kq2sPo27lVWhhADXEgXGQJUnSUpLulh3h/JLhNoj rQGc9V7Aqj8209poG85oA5nSWvc1hVVno98vxhl5UxeNHzZqR5lV2eRt54bEc0icTJTw OvWcF3l8DIeB+TmdZU6mY3zEtb+WWMdqmHYNHXBM+0ilTrRmT9fe4NVrcePlxNUyQBss 03uY08D9F4wftxBUJ31Dy4pUrV/oh5ooa5RyGLzYyGr/2m9Yo+U2QY+Nufny4BWGmrMV KyWw== X-Gm-Message-State: AOJu0YxpJ3CRnC+YJ5gTfLOZ1vUOcLVTvR4hhqrcYw/KNquJcjlOeuaE qjCYFpstssrNowXXcGQJBpGyku3tbBUrcoXUx09CBlo3NM5AtcnVFV22ZpQ9NgsK2r7tdOM4a5J tSOnOGog/59qN7DU8CAQCDI68aGxQS340uAuS39PbRoRRISDFScUxdtu2 X-Gm-Gg: ASbGncvg39CEWVwHC6ngZfinnO3YMhAgpCXVuRL7NL7rBJqlK+sqj9vL5uFHaIKhAua ZyFXbgBQp0uzzpG1Ut3GodlsUbXbRZkn0wYTo/wCPEuYZdpFqg9/ijXD8GYZ49GIAhx3PU4x+30 +6XXJ2O2y35281ObLV79dodE2yFIHXyGlc+dTddEpTSiJEsdyi6JbDPsZXV2UKlkc0yQixFzpgy 58+CZL9O1V+oIJF2UxkUqxix/D/GRK/icquwTO0pZ/7lAPZfJJK5bNEAV3jmprB4VRNtS6zLelT YARTUgehpdfPQ6Phmha4i0KDxVdYtKUrmQGu X-Google-Smtp-Source: AGHT+IGIbkxQsoLq3eQ6rTAj+CYZPq/VGIgO0e9Ep+obi7zZL2DCEyZfJsYA4SeRAo/h9tp/CR4UFv7Mujok X-Received: by 2002:a17:902:da83:b0:224:162:a3e0 with SMTP id d9443c01a7336-22e8a7fe967mr5405505ad.49.1746642972214; Wed, 07 May 2025 11:36:12 -0700 (PDT) Received: from postal.iol.unh.edu (postal.iol.unh.edu. [2606:4100:3880:1234::84]) by smtp-relay.gmail.com with ESMTPS id d9443c01a7336-22e151e97ffsm18261055ad.37.2025.05.07.11.36.12 (version=TLS1_2 cipher=ECDHE-ECDSA-AES128-GCM-SHA256 bits=128/128); Wed, 07 May 2025 11:36:12 -0700 (PDT) X-Relaying-Domain: iol.unh.edu Date: Wed, 07 May 2025 11:36:12 -0700 (PDT) Message-ID: <681ba81c.170a0220.169466.ac4dSMTPIN_ADDED_MISSING@mx.google.com> Received: from [172.21.0.6] (unknown [172.18.0.240]) by postal.iol.unh.edu (Postfix) with ESMTP id AB8476052471; Wed, 7 May 2025 14:36:11 -0400 (EDT) Subject: |SUCCESS| pw153342 [PATCH] [v3,1/1] buildtools: avoid break due to f From: dpdklab@iol.unh.edu To: Test Report Cc: dpdk-test-reports@iol.unh.edu In-Reply-To: <1746627671-28659-2-git-send-email-andremue@linux.microsoft.com> References: <1746627671-28659-2-git-send-email-andremue@linux.microsoft.com> Content-Type: text/plain X-BeenThere: test-report@dpdk.org X-Mailman-Version: 2.1.29 Precedence: list List-Id: automatic DPDK test reports List-Unsubscribe: , List-Archive: List-Post: List-Help: List-Subscribe: , Errors-To: test-report-bounces@dpdk.org Test-Label: iol-unit-amd64-testing Test-Status: SUCCESS http://dpdk.org/patch/153342 _Testing PASS_ Submitter: Andre Muezerie Date: Wednesday, May 07 2025 14:21:11 DPDK git baseline: Repo:dpdk Branch: master CommitID:75f179ebe347b6098cf3af26d3d3b7168fe3fe24 153342 --> testing pass Upstream job id: Generic-Unit-Test-DPDK#336284 Test environment and result as below: +-------------------+----------------+ | Environment | dpdk_unit_test | +===================+================+ | CentOS Stream 9 | PASS | +-------------------+----------------+ | CentOS Stream 10 | PASS | +-------------------+----------------+ | RHEL8 | PASS | +-------------------+----------------+ | Debian 12 | PASS | +-------------------+----------------+ | Fedora 40 | PASS | +-------------------+----------------+ | RHEL9 | PASS | +-------------------+----------------+ | Fedora 40 (Clang) | PASS | +-------------------+----------------+ | Fedora 41 (Clang) | PASS | +-------------------+----------------+ | Fedora 41 | PASS | +-------------------+----------------+ | Ubuntu 20.04 | PASS | +-------------------+----------------+ | Ubuntu 22.04 | PASS | +-------------------+----------------+ | Ubuntu 24.04 | PASS | +-------------------+----------------+ CentOS Stream 9 Kernel: Depends on container host Compiler: gcc 11.5.0 20240719 (Red Hat 11.5.0-2) CentOS Stream 10 Kernel: Depends on container host Compiler: gcc 14.2.1 20241104 (Red Hat 14.2.1-6) RHEL8 Kernel: Depends on container host Compiler: gcc 8.5.0 20210514 (Red Hat 8.5.0-22) Debian 12 Kernel: Depends on container host Compiler: gcc (Debian 12.2.0-14) 12.2.0 Fedora 40 Kernel: Depends on container host Compiler: gcc 14.2.1 20240912 (Red Hat 14.2.1-3) RHEL9 Kernel: Depends on container host Compiler: gcc 11.5.0 20240719 (Red Hat 11.5.0-2) Fedora 40 (Clang) Kernel: Depends on container host Compiler: clang 18.1.8 (Fedora 18.1.8-1.fc40) Fedora 41 (Clang) Kernel: Depends on container host Compiler: clang 19.1.5 (Fedora 19.1.5-1.fc41) Fedora 41 Kernel: Depends on container host Compiler: gcc 14.2.1 20240912 (Red Hat 14.2.1-3) Ubuntu 20.04 Kernel: Depends on container host Compiler: gcc (Ubuntu 9.4.0-1ubuntu1~20.04.2) 9.4.0 Ubuntu 22.04 Kernel: Depends on container host Compiler: gcc (Ubuntu 11.4.0-1ubuntu1~22.04) 11.4.0 Ubuntu 24.04 Kernel: Depends on container host Compiler: gcc (Ubuntu 13.3.0-6ubuntu2~24.04) 13.3.0 To view detailed results, visit: https://lab.dpdk.org/results/dashboard/patchsets/33133/ UNH-IOL DPDK Community Lab To manage your email subscriptions, visit: https://lab.dpdk.org/results/dashboard/preferences/subscriptions/