From mboxrd@z Thu Jan 1 00:00:00 1970 Return-Path: Received: from mails.dpdk.org (mails.dpdk.org [217.70.189.124]) by inbox.dpdk.org (Postfix) with ESMTP id 36D7C466EB for ; Wed, 7 May 2025 20:36:48 +0200 (CEST) Received: from mails.dpdk.org (localhost [127.0.0.1]) by mails.dpdk.org (Postfix) with ESMTP id 30C0A4025D; Wed, 7 May 2025 20:36:48 +0200 (CEST) Received: from mail-io1-f99.google.com (mail-io1-f99.google.com [209.85.166.99]) by mails.dpdk.org (Postfix) with ESMTP id 5AB6E4025A for ; Wed, 7 May 2025 20:36:46 +0200 (CEST) Received: by mail-io1-f99.google.com with SMTP id ca18e2360f4ac-864a22fcdf2so9655239f.0 for ; Wed, 07 May 2025 11:36:46 -0700 (PDT) DKIM-Signature: v=1; a=rsa-sha256; c=relaxed/relaxed; d=iol.unh.edu; s=unh-iol; t=1746643005; x=1747247805; darn=dpdk.org; h=references:in-reply-to:cc:to:from:subject:message-id:date:from:to :cc:subject:date:message-id:reply-to; bh=JEvw0W11b1k2i0Xz9tWvt5FTADN+zDUPVkTvmdf4do8=; b=d3fpWWiv0oQIwTiMApUAQVwgiijJxPxrkswBOcmA6cssi0sBKWYb6nvx+A3TLbahnU gx98SVBCiGJ5/xbNfb4Hw+MIJzTMorF8VlFD7UUAHQfEM63ckfmOtDdWTD0paGGsVA3g SL75TjQVVLKqp/SdPeMMhyGhy4eJ8sLAh7tZ8= X-Google-DKIM-Signature: v=1; a=rsa-sha256; c=relaxed/relaxed; d=1e100.net; s=20230601; t=1746643005; x=1747247805; h=references:in-reply-to:cc:to:from:subject:message-id:date :x-gm-message-state:from:to:cc:subject:date:message-id:reply-to; bh=JEvw0W11b1k2i0Xz9tWvt5FTADN+zDUPVkTvmdf4do8=; b=TMW97sx1IXJdzdTpWUPp6Dnd5EiEQOsFvMZmaomvrE+RiQAhmVR3n3cAxsMDsy8aik pbK7VPVQvq779HmhHS/2PSWEVQpzvGcyzRqd2GbeLK6T0gLrFKxiDw94okYZLHl+UbCg 3pBVJThznpPeeKquoxRCDLMf8DyQq15Maq5fZRInjp9ZIDfieEsKm9kpL+a/TrIk0jq8 4RNsD+8df0aK9DoFt1ClPSkAXXgR5EQgvHobmOTXxrwNrvIoHqyHAVHTIBe5OeN9TOE/ rOWucGCbZsyMWWoO50zF/wKUYxT3526KikxFok04ObR46R2eXCD0+/FrCrbV6TliRRVn 9I3A== X-Gm-Message-State: AOJu0Yy6sWh7S+N2UakRUShGCQZYlYJ7LH6ORMqkOXHFHHqtlBEOW68O ejAA0IkYFdA8yCn1EaI12QnUFxJ0th15kkkHQF7FRUc9Zb68hrhjLpL/CIAc+8+T0bzUk22LRlv vqtICSfdPmpG0ntSRBtFHMXsABLCEyni9jOhlc1IR X-Gm-Gg: ASbGncuisP9SXQoBagw0kroAD4HGE4jpRF+nzlbBd1m83KOo01imslv6zPYQ9R3IMdM C9CWVmDAQac9gvoYPT1J9wqmsx3gY7meCRNsixnVLEhrVNnSVrgWQxFqrDj8o7NXhtw56fOnZEb X9u/vadlkjuMZ1bIdfp+Ag7fnNZcLnbfqQSbs1kMaMmB9wudgRBFM0nxrWN8l+Xk6d7zURie3OO BlFjiALtABf2SntnEuBhWwSSe3rFUjTNATiU+D6AJNs0sd++bVGmfrr7zzaxDMDwG+EPx9gWVSQ dzJ7Fk/4TDrI2CKpcErL/IqTjkdIaZiJ471D4AiHJo8HmMLqtz4NFgPjJkk= X-Google-Smtp-Source: AGHT+IFUk4xiUhUKu9fJvAoOlAxULlhS6gz/l1Q0hqYV22aXbl6EUV8PikmcPMLwIBM7aqVAuCjh+cFyvqf7 X-Received: by 2002:a05:6602:6d8e:b0:867:973:f2cb with SMTP id ca18e2360f4ac-8675504b269mr87393439f.7.1746643005621; Wed, 07 May 2025 11:36:45 -0700 (PDT) Received: from postal.iol.unh.edu (postal.iol.unh.edu. [132.177.123.84]) by smtp-relay.gmail.com with ESMTPS id ca18e2360f4ac-864aa44f1fcsm220829639f.22.2025.05.07.11.36.45 (version=TLS1_2 cipher=ECDHE-ECDSA-AES128-GCM-SHA256 bits=128/128); Wed, 07 May 2025 11:36:45 -0700 (PDT) X-Relaying-Domain: iol.unh.edu Date: Wed, 07 May 2025 11:36:45 -0700 (PDT) Message-ID: <681ba83d.050a0220.3990b7.ce19SMTPIN_ADDED_MISSING@mx.google.com> Received: from [172.21.0.5] (unknown [172.18.0.240]) by postal.iol.unh.edu (Postfix) with ESMTP id 4300E6052471; Wed, 7 May 2025 14:36:45 -0400 (EDT) Subject: |WARNING| pw153337 [PATCH] [v2,1/1] buildtools: avoid break due to f From: dpdklab@iol.unh.edu To: Test Report Cc: dpdk-test-reports@iol.unh.edu In-Reply-To: <1746569662-11532-2-git-send-email-andremue@linux.microsoft.com> References: <1746569662-11532-2-git-send-email-andremue@linux.microsoft.com> Content-Type: text/plain X-BeenThere: test-report@dpdk.org X-Mailman-Version: 2.1.29 Precedence: list List-Id: automatic DPDK test reports List-Unsubscribe: , List-Archive: List-Post: List-Help: List-Subscribe: , Errors-To: test-report-bounces@dpdk.org Test-Label: iol-sample-apps-testing Test-Status: WARNING http://dpdk.org/patch/153337 _Testing issues_ Submitter: Andre Muezerie Date: Tuesday, May 06 2025 22:14:22 DPDK git baseline: Repo:dpdk Branch: master CommitID:75f179ebe347b6098cf3af26d3d3b7168fe3fe24 153337 --> testing issues Upstream job id: ACVP-FIPS-testing#9738 Test environment and result as below: +--------------------+----------------------+----------------------+ | Environment | compressdev_zlib_pmd | dpdk_fips_validation | +====================+======================+======================+ | Ubuntu 22.04 (ARM) | PASS | SKIPPED | +--------------------+----------------------+----------------------+ | Ubuntu 22.04 | PASS | SKIPPED | +--------------------+----------------------+----------------------+ | Ubuntu 20.04 | SKIPPED | WARN | +--------------------+----------------------+----------------------+ ==== 20 line log output for Ubuntu 20.04 (dpdk_fips_validation): ==== self._execute_child(args, executable, preexec_fn, close_fds, File "/usr/lib/python3.8/subprocess.py", line 1704, in _execute_child raise child_exception_type(errno_num, err_msg, err_filename) FileNotFoundError: [Errno 2] No such file or directory: 'drivers/rte_common_cpt.pmd.c.p' [608/3505] Compiling C object lib/librte_vhost.a.p/vhost_vhost_crypto.c.o [609/3505] Compiling C object drivers/libtmp_rte_common_ionic.a.p/common_ionic_ionic_common_uio.c.o [610/3505] Compiling C object drivers/libtmp_rte_bus_auxiliary.a.p/bus_auxiliary_auxiliary_common.c.o [611/3505] Compiling C object drivers/libtmp_rte_bus_auxiliary.a.p/bus_auxiliary_linux_auxiliary.c.o [612/3505] Generating symbol file lib/librte_graph.so.25.2.p/librte_graph.so.25.2.symbols [613/3505] Compiling C object drivers/libtmp_rte_bus_cdx.a.p/bus_cdx_cdx.c.o [614/3505] Compiling C object drivers/libtmp_rte_bus_cdx.a.p/bus_cdx_cdx_vfio.c.o [615/3505] Generating node.sym_chk with a custom command (wrapped by meson to capture output) [616/3505] Compiling C object drivers/libtmp_rte_bus_dpaa.a.p/bus_dpaa_base_fman_netcfg_layer.c.o [617/3505] Compiling C object drivers/libtmp_rte_bus_dpaa.a.p/bus_dpaa_base_qbman_bman.c.o [618/3505] Compiling C object drivers/libtmp_rte_bus_dpaa.a.p/bus_dpaa_base_fman_fman_hw.c.o [619/3505] Compiling C object drivers/libtmp_rte_bus_dpaa.a.p/bus_dpaa_base_fman_fman.c.o [620/3505] Compiling C object lib/librte_pipeline.a.p/pipeline_rte_swx_pipeline.c.o [621/3505] Compiling C object lib/librte_vhost.a.p/vhost_virtio_net.c.o [622/3505] Compiling C object lib/librte_pipeline.a.p/pipeline_rte_table_action.c.o ninja: build stopped: subcommand failed. ==== End log output ==== Ubuntu 22.04 (ARM) Kernel: 5.15.0-97-generic Compiler: gcc gcc (Ubuntu 11.4.0-1ubuntu1~22.04) 11.4.0 Ubuntu 22.04 Kernel: 5.15.0-100-generic Compiler: gcc gcc (Ubuntu 11.4.0-1ubuntu1~22.04) 11.4.0 Ubuntu 20.04 Kernel: Depends on container host Compiler: gcc (Ubuntu 9.4.0-1ubuntu1~20.04.2) 9.4.0 To view detailed results, visit: https://lab.dpdk.org/results/dashboard/patchsets/33130/ UNH-IOL DPDK Community Lab To manage your email subscriptions, visit: https://lab.dpdk.org/results/dashboard/preferences/subscriptions/