From mboxrd@z Thu Jan  1 00:00:00 1970
Return-Path: <test-report-bounces@dpdk.org>
Received: from mails.dpdk.org (mails.dpdk.org [217.70.189.124])
	by inbox.dpdk.org (Postfix) with ESMTP id AB6AB466EB
	for <public@inbox.dpdk.org>; Wed,  7 May 2025 20:48:04 +0200 (CEST)
Received: from mails.dpdk.org (localhost [127.0.0.1])
	by mails.dpdk.org (Postfix) with ESMTP id 84A5B4025D;
	Wed,  7 May 2025 20:48:04 +0200 (CEST)
Received: from mail-ot1-f100.google.com (mail-ot1-f100.google.com
 [209.85.210.100])
 by mails.dpdk.org (Postfix) with ESMTP id 5F8564025A
 for <test-report@dpdk.org>; Wed,  7 May 2025 20:48:03 +0200 (CEST)
Received: by mail-ot1-f100.google.com with SMTP id
 46e09a7af769-72ec4634414so98733a34.1
 for <test-report@dpdk.org>; Wed, 07 May 2025 11:48:03 -0700 (PDT)
DKIM-Signature: v=1; a=rsa-sha256; c=relaxed/relaxed;
 d=iol.unh.edu; s=unh-iol; t=1746643682; x=1747248482; darn=dpdk.org;
 h=cc:to:from:subject:message-id:date:from:to:cc:subject:date
 :message-id:reply-to;
 bh=08Qv4F2ZFuFlBEKNsjz0vezLadssrsRJumLSoy9eY/4=;
 b=g4ZOfjWRmPVuyHasaYbxXKPTamKEW3vXH3Jf+NnpFuXejMbrUBsCDUauOHbGB9VIaO
 +QM+gDcNjZe7C9r6twCUjYLPcv/F2hY+G5k7AjdqH0BCwE6t7rvyiXacmcFqL1lgAiYG
 62ggW2L8zZ59QEf2IltY44rvcJQnJYNyjMDfU=
X-Google-DKIM-Signature: v=1; a=rsa-sha256; c=relaxed/relaxed;
 d=1e100.net; s=20230601; t=1746643682; x=1747248482;
 h=cc:to:from:subject:message-id:date:x-gm-message-state:from:to:cc
 :subject:date:message-id:reply-to;
 bh=08Qv4F2ZFuFlBEKNsjz0vezLadssrsRJumLSoy9eY/4=;
 b=QfE98DQhez5NxJQxwMGnA9JLA+gPxPrAkftCiUBLH9ccOe1liXjOJvJMk9btUud/lJ
 a6H90WJXXEmUlnwzUBIsruCLn9W5TnMK7Foyzaz2PhdzPAtdAgxaSzrfRDTiDUveLVYN
 4rTEeS9LKEqXN4jv8x0l15opB+6Py7bDKH4P4A74DXQuwT8antmiaK41MM8yBY5pnyjv
 BfOM8fwHSE3MawdUzTXI3WHux8HnGKHmZ5TkEUoIkjARfBfwfEtv+P2pxE2PIDR421A9
 VkmrC2d7nqG+6G5ThVq80jNiFGTA23a8zn/EKaTdJJFJrWA2mKoxwXeqprd8xhXml94A
 MqwQ==
X-Gm-Message-State: AOJu0YxO/YbI2zrnpVDtujv/vym4k0jzVL6vzlKH9iHg30RhT4gucfxw
 9QF4DmgXkqZcmIHOmOZGQ55SGlYpn5gAxvBvPyyxYDDaDgS+bUW1Q/t87VVOGDkxjexHgrQnfNJ
 O0CDO7V2/Ty5/qypNodelz2iBxJeqnsDufAF1lZFERgJv3atMx2LNCqWs
X-Gm-Gg: ASbGncsawGtwZKkvTsk0GjkoeE3H6ogvey2WYQef82Oaw6ioVK8uNYEls20QrSlhGY2
 w83HZ3qWuoWznzC+qMyrzaEtD0WcNDKQqiiuvJPdew8GtWllWMumW1qsxhapb0X1sLmNZMSJ6d0
 33hTjpiXA4dx+ek/oD7MdUqodcrRg/RahtkwJUY29Y/l1F75sFHFeMO9Pn0RSjtQkZBeoU380ko
 EO+8vOfhcJgqzapLnFlaFxBgo2EEgylCMdsYQcLvPnkXf8P5r7BHf4qJbM054CYcRw1fXsDYpCd
 zxqBag6NeV6qDvyHvixtKhJmEwODwiEkj5xp
X-Google-Smtp-Source: AGHT+IGj+3HD9StxBmrs7mjRF5R6LPrNH5YinPjwY2JatvEwDrVDSzWM2jqbYXstbg7s+XBbPDLXKGQLe9o6
X-Received: by 2002:a05:6214:5291:b0:6e8:f166:b19c with SMTP id
 6a1803df08f44-6f542af16acmr67116636d6.41.1746643671638; 
 Wed, 07 May 2025 11:47:51 -0700 (PDT)
Received: from postal.iol.unh.edu (postal.iol.unh.edu.
 [2606:4100:3880:1234::84]) by smtp-relay.gmail.com with ESMTPS id
 6a1803df08f44-6f54261fb24sm1390496d6.7.2025.05.07.11.47.51
 (version=TLS1_2 cipher=ECDHE-ECDSA-AES128-GCM-SHA256 bits=128/128);
 Wed, 07 May 2025 11:47:51 -0700 (PDT)
X-Relaying-Domain: iol.unh.edu
Date: Wed, 07 May 2025 11:47:51 -0700 (PDT)
Message-ID: <681baad7.d40a0220.2f2ec9.7d16SMTPIN_ADDED_MISSING@mx.google.com>
Received: from [172.17.0.2] (unknown [172.18.0.74])
 by postal.iol.unh.edu (Postfix) with ESMTP id 5C4D06052471;
 Wed,  7 May 2025 14:47:51 -0400 (EDT)
Subject: |SUCCESS| [GIT MASTER] 7cf0355db9fdab5648b05fd787356c391c510534
From: dpdklab@iol.unh.edu
To: Test Report <test-report@dpdk.org>
Cc: dpdk-test-reports@iol.unh.edu,
 Bruce Richardson <bruce.richardson@intel.com>
Content-Type: text/plain
X-BeenThere: test-report@dpdk.org
X-Mailman-Version: 2.1.29
Precedence: list
List-Id: automatic DPDK test reports <test-report.dpdk.org>
List-Unsubscribe: <https://mails.dpdk.org/options/test-report>,
 <mailto:test-report-request@dpdk.org?subject=unsubscribe>
List-Archive: <http://mails.dpdk.org/archives/test-report/>
List-Post: <mailto:test-report@dpdk.org>
List-Help: <mailto:test-report-request@dpdk.org?subject=help>
List-Subscribe: <https://mails.dpdk.org/listinfo/test-report>,
 <mailto:test-report-request@dpdk.org?subject=subscribe>
Errors-To: test-report-bounces@dpdk.org

_Testing PASS_

Branch: dpdk-next-net-intel

7cf0355db9fdab5648b05fd787356c391c510534 --> testing pass

Upstream job id: Generic-DPDK-Compile-Meson#386151

Test environment and result as below:

+----------------------------------------+--------------------+
|              Environment               | dpdk_meson_compile |
+========================================+====================+
| RHEL9 (ARM)                            | PASS               |
+----------------------------------------+--------------------+
| Ubuntu 20.04 ARM SVE                   | PASS               |
+----------------------------------------+--------------------+
| Ubuntu 20.04 ARM GCC Cross Compile     | PASS               |
+----------------------------------------+--------------------+
| Debian 12 with MUSDK                   | PASS               |
+----------------------------------------+--------------------+
| Fedora 41 (ARM)                        | PASS               |
+----------------------------------------+--------------------+
| Fedora 40 (ARM Clang)                  | PASS               |
+----------------------------------------+--------------------+
| Fedora 40 (ARM)                        | PASS               |
+----------------------------------------+--------------------+
| Fedora 41 (ARM Clang)                  | PASS               |
+----------------------------------------+--------------------+
| Ubuntu 20.04 (ARM)                     | PASS               |
+----------------------------------------+--------------------+
| Ubuntu 22.04 (ARM)                     | PASS               |
+----------------------------------------+--------------------+
| Ubuntu 24.04 (ARM)                     | PASS               |
+----------------------------------------+--------------------+
| CentOS Stream 9 (ARM)                  | PASS               |
+----------------------------------------+--------------------+
| CentOS Stream 10 (ARM)                 | PASS               |
+----------------------------------------+--------------------+
| Debian 12 (arm)                        | PASS               |
+----------------------------------------+--------------------+
| Ubuntu 20.04 ARM Clang Cross Compile   | PASS               |
+----------------------------------------+--------------------+
| Ubuntu 20.04 aarch32 GCC Cross Compile | PASS               |
+----------------------------------------+--------------------+


RHEL9 (ARM)
	Kernel: Depends on container host
	Compiler: gcc 11.5.0 20240719 (Red Hat 11.5.0-2)

Ubuntu 20.04 ARM SVE
	Kernel: Depends on container host
	Compiler: gcc (Ubuntu 10.5.0-1ubuntu1~20.04) 10.5.0

Ubuntu 20.04 ARM GCC Cross Compile
	Kernel: Depends on container host
	Compiler: aarch64-linux-gnu-gcc (Ubuntu 9.4.0-1ubuntu1~20.04.2) 9.4.0

Debian 12 with MUSDK
	Kernel: Depends on container host
	Compiler: gcc (Debian 12.2.0-14) 12.2.0

Fedora 41 (ARM)
	Kernel: Depends on container host
	Compiler: gcc 14.2.1 20240912 (Red Hat 14.2.1-3)

Fedora 40 (ARM Clang)
	Kernel: Depends on container host
	Compiler: clang 18.1.8 (Fedora 18.1.8-1.fc40)

Fedora 40 (ARM)
	Kernel: Depends on container host
	Compiler: gcc 14.2.1 20240912 (Red Hat 14.2.1-3)

Fedora 41 (ARM Clang)
	Kernel: Depends on container host
	Compiler: clang 19.1.5 (Fedora 19.1.5-1.fc41)

Ubuntu 20.04 (ARM)
	Kernel: Depends on container host
	Compiler: gcc (Ubuntu 9.4.0-1ubuntu1~20.04.2) 9.4.0

Ubuntu 22.04 (ARM)
	Kernel: Depends on container host
	Compiler: gcc (Ubuntu 11.4.0-1ubuntu1~22.04) 11.4.0

Ubuntu 24.04 (ARM)
	Kernel: Depends on container host
	Compiler: gcc (Ubuntu 13.3.0-6ubuntu2~24.04) 13.3.0

CentOS Stream 9 (ARM)
	Kernel: Depends on container host
	Compiler: gcc 11.5.0 20240719 (Red Hat 11.5.0-2)

CentOS Stream 10 (ARM)
	Kernel: Depends on container host
	Compiler: gcc 14.2.1 20241104 (Red Hat 14.2.1-6)

Debian 12 (arm)
	Kernel: Depends on container host
	Compiler: gcc (Debian 12.2.0-14) 12.2.0

Ubuntu 20.04 ARM Clang Cross Compile
	Kernel: Depends on container host
	Compiler: clang 10.0.0-4ubuntu1

Ubuntu 20.04 aarch32 GCC Cross Compile
	Kernel: Depends on container host
	Compiler: gcc 9.4.0

To view detailed results, visit:
https://lab.dpdk.org/results/dashboard/tarballs/33467/

UNH-IOL DPDK Community Lab

To manage your email subscriptions, visit: 
https://lab.dpdk.org/results/dashboard/preferences/subscriptions/