From mboxrd@z Thu Jan 1 00:00:00 1970 Return-Path: Received: from mails.dpdk.org (mails.dpdk.org [217.70.189.124]) by inbox.dpdk.org (Postfix) with ESMTP id A7335466EB for ; Wed, 7 May 2025 20:58:45 +0200 (CEST) Received: from mails.dpdk.org (localhost [127.0.0.1]) by mails.dpdk.org (Postfix) with ESMTP id 865644025D; Wed, 7 May 2025 20:58:45 +0200 (CEST) Received: from mail-pf1-f228.google.com (mail-pf1-f228.google.com [209.85.210.228]) by mails.dpdk.org (Postfix) with ESMTP id 9092C4025A for ; Wed, 7 May 2025 20:58:44 +0200 (CEST) Received: by mail-pf1-f228.google.com with SMTP id d2e1a72fcca58-72d3b48d2ffso341152b3a.2 for ; Wed, 07 May 2025 11:58:44 -0700 (PDT) DKIM-Signature: v=1; a=rsa-sha256; c=relaxed/relaxed; d=iol.unh.edu; s=unh-iol; t=1746644323; x=1747249123; darn=dpdk.org; h=references:in-reply-to:cc:to:from:subject:message-id:date:from:to :cc:subject:date:message-id:reply-to; bh=hOlASo9fEWCndby2zYrgV6u97PTvqkQ/JI5Ndtt1DLs=; b=IFHGo90c+ma7vUWYp9nHosa8QZ83co2LTLJDxJW2JF86NDuH9OowZQuz3Mbmuslb/v KxVMvRIBq4UztJahWUBjCtYwAfLgWrGfxIV8dSFUBIGG6uDwj2RU78nhnSxo+m3YX1fu iSfR7wwzwPlZObbWF4l9xCiUasNwmEVUoUmRM= X-Google-DKIM-Signature: v=1; a=rsa-sha256; c=relaxed/relaxed; d=1e100.net; s=20230601; t=1746644323; x=1747249123; h=references:in-reply-to:cc:to:from:subject:message-id:date :x-gm-message-state:from:to:cc:subject:date:message-id:reply-to; bh=hOlASo9fEWCndby2zYrgV6u97PTvqkQ/JI5Ndtt1DLs=; b=TJcgqwmoaSiIlw2xZqqIXUJzyA/V6OZBeMqkndYAd/QLx233d3biSj2u71uO/GAV3z stYYCec0nNnR6/NAEmXnoLFycFfn03lIUS/p154mBcVo7AjLv2sNCmux7BLQJowidWH3 SCGiWojJEnhnUpUCiGQu9rJVqRs64vmZcXgWlpzM+y1t1l/jatbEwmtoV+eWyo5UERlY oixX9rlX5SkM11UxQeKyCYpvjZapVtkuJabQKKf6UFbEODEH8SVid8ZQfiSb2sNlSH1+ 8GQ4C932WPvHJVaByfk048Y1AKus8iLnTMyS0aA5DKQyU1KHvsX9ks1Bu+2S+1hgB7Vp JfIw== X-Gm-Message-State: AOJu0YyrTlaKfceWcohkQDOusQmQztz9K0Gu61lIE3BaJkNmfDMpOVde HhS/+mH3JopImufs6tnBUGSmz6IJpENPao12e1zI+ud8oH2mavYS2Hgry5eY/FtLFMqBUNzTMVo Sg1fYr6PYHRMkTE6rfVdw6+q9BlSkYusB9CQWBKFT X-Gm-Gg: ASbGncvBvkkh0mJGuWQ7dD8j73Bzq5wdHAAY6LWhXwatn8K/lYW8AWvpFaks8xPICDT SBVpT1iuMJskZDmU/d/7HMBC4OjXxMP2Jzi2jcIzVHXzbZZLqVA5lHbrQjm1ClUMoEelqARWOlZ Lrc54qA32RV0qRwWrZThEhLd9ZRDTj2GZwABzwmh3aVekPmd517WL9la0xcvIHDAMcK8FrYuSKx B7eO8kbPAc3KYVcggo9reBVLAzwXuDTwVnKbI8AzF6Addes+bCisRyKM/OviKkUA0+lqaa1LWDy 9YCkw2tcBAJ/7n4n/DY3HiXjnJdw+DUK9V588w+ITWZRnao4BBFtbijIFx4= X-Google-Smtp-Source: AGHT+IFVeSb4Lpj4KNIyDR8RHsJ26hzWQ7rBbyVkyr3zgkj9fogAjKrrfT0fwjPSaeZ+qtfgz6LDl91vlMHm X-Received: by 2002:a05:6a00:2908:b0:72d:3b2e:fef9 with SMTP id d2e1a72fcca58-7409d00d6fbmr7044371b3a.20.1746644323418; Wed, 07 May 2025 11:58:43 -0700 (PDT) Received: from postal.iol.unh.edu (postal.iol.unh.edu. [132.177.123.84]) by smtp-relay.gmail.com with ESMTPS id d2e1a72fcca58-74059021e3esm2278270b3a.16.2025.05.07.11.58.43 (version=TLS1_2 cipher=ECDHE-ECDSA-AES128-GCM-SHA256 bits=128/128); Wed, 07 May 2025 11:58:43 -0700 (PDT) X-Relaying-Domain: iol.unh.edu Date: Wed, 07 May 2025 11:58:43 -0700 (PDT) Message-ID: <681bad63.050a0220.2831a4.4aa8SMTPIN_ADDED_MISSING@mx.google.com> Received: from [172.17.0.2] (unknown [172.18.0.76]) by postal.iol.unh.edu (Postfix) with ESMTP id 910156052471; Wed, 7 May 2025 14:58:42 -0400 (EDT) Subject: |SUCCESS| pw153309 [PATCH] dts: improve port handling From: dpdklab@iol.unh.edu To: Test Report Cc: dpdk-test-reports@iol.unh.edu In-Reply-To: <20250506131657.1576152-1-luca.vizzarro@arm.com> References: <20250506131657.1576152-1-luca.vizzarro@arm.com> Content-Type: text/plain X-BeenThere: test-report@dpdk.org X-Mailman-Version: 2.1.29 Precedence: list List-Id: automatic DPDK test reports List-Unsubscribe: , List-Archive: List-Post: List-Help: List-Subscribe: , Errors-To: test-report-bounces@dpdk.org Test-Label: iol-compile-amd64-testing Test-Status: SUCCESS http://dpdk.org/patch/153309 _Testing PASS_ Submitter: Luca Vizzarro Date: Tuesday, May 06 2025 13:16:05 DPDK git baseline: Repo:dpdk Branch: master CommitID:1aef42bc97a31906486c9d66b792208948af06f3 153309 --> testing pass Upstream job id: Windows-Compile-DPDK-Native#28268 Test environment and result as below: +-----------------------------------+--------------------+-------------------+------------------+-------------------+-------------------------+ | Environment | dpdk_meson_compile | dpdk_compile_spdk | dpdk_compile_ovs | dpdk_msvc_compile | dpdk_llvm_clang_compile | +===================================+====================+===================+==================+===================+=========================+ | Ubuntu 20.04 | PASS | SKIPPED | SKIPPED | SKIPPED | SKIPPED | +-----------------------------------+--------------------+-------------------+------------------+-------------------+-------------------------+ | FreeBSD 13.5 | PASS | SKIPPED | SKIPPED | SKIPPED | SKIPPED | +-----------------------------------+--------------------+-------------------+------------------+-------------------+-------------------------+ | FreeBSD 14.2 | PASS | SKIPPED | SKIPPED | SKIPPED | SKIPPED | +-----------------------------------+--------------------+-------------------+------------------+-------------------+-------------------------+ | CentOS Stream 9 | PASS | PASS | SKIPPED | SKIPPED | SKIPPED | +-----------------------------------+--------------------+-------------------+------------------+-------------------+-------------------------+ | CentOS Stream 10 | PASS | SKIPPED | SKIPPED | SKIPPED | SKIPPED | +-----------------------------------+--------------------+-------------------+------------------+-------------------+-------------------------+ | Debian 12 | PASS | PASS | SKIPPED | SKIPPED | SKIPPED | +-----------------------------------+--------------------+-------------------+------------------+-------------------+-------------------------+ | Fedora 40 (Clang) | PASS | PASS | SKIPPED | SKIPPED | SKIPPED | +-----------------------------------+--------------------+-------------------+------------------+-------------------+-------------------------+ | Fedora 41 | PASS | PASS | PASS | SKIPPED | SKIPPED | +-----------------------------------+--------------------+-------------------+------------------+-------------------+-------------------------+ | openSUSE Leap 15 | PASS | SKIPPED | SKIPPED | SKIPPED | SKIPPED | +-----------------------------------+--------------------+-------------------+------------------+-------------------+-------------------------+ | RHEL8 | PASS | SKIPPED | SKIPPED | SKIPPED | SKIPPED | +-----------------------------------+--------------------+-------------------+------------------+-------------------+-------------------------+ | RHEL9 | PASS | SKIPPED | SKIPPED | SKIPPED | SKIPPED | +-----------------------------------+--------------------+-------------------+------------------+-------------------+-------------------------+ | Ubuntu 22.04 | PASS | PASS | SKIPPED | SKIPPED | SKIPPED | +-----------------------------------+--------------------+-------------------+------------------+-------------------+-------------------------+ | Ubuntu 24.04 | PASS | PASS | PASS | SKIPPED | SKIPPED | +-----------------------------------+--------------------+-------------------+------------------+-------------------+-------------------------+ | Alpine | PASS | SKIPPED | SKIPPED | SKIPPED | SKIPPED | +-----------------------------------+--------------------+-------------------+------------------+-------------------+-------------------------+ | Ubuntu 24.04 32 Bit Cross Compile | PASS | SKIPPED | SKIPPED | SKIPPED | SKIPPED | +-----------------------------------+--------------------+-------------------+------------------+-------------------+-------------------------+ | Fedora 40 | PASS | PASS | SKIPPED | SKIPPED | SKIPPED | +-----------------------------------+--------------------+-------------------+------------------+-------------------+-------------------------+ | Fedora 41 (Clang) | PASS | PASS | PASS | SKIPPED | SKIPPED | +-----------------------------------+--------------------+-------------------+------------------+-------------------+-------------------------+ | Windows Server 2022 | SKIPPED | SKIPPED | SKIPPED | PASS | PASS | +-----------------------------------+--------------------+-------------------+------------------+-------------------+-------------------------+ Ubuntu 20.04 Kernel: 4.19.325-0419325-generic Compiler: gcc (Ubuntu 9.4.0-1ubuntu1~20.04.2) 9.4.0 FreeBSD 13.5 Kernel: 13.5-RELEASE Compiler: clang 19.1.7 FreeBSD 14.2 Kernel: 14.2-RELEASE Compiler: clang 18.1.6 CentOS Stream 9 Kernel: Depends on container host Compiler: gcc 11.5.0 20240719 (Red Hat 11.5.0-2) CentOS Stream 10 Kernel: Depends on container host Compiler: gcc 14.2.1 20241104 (Red Hat 14.2.1-6) Debian 12 Kernel: Depends on container host Compiler: gcc (Debian 12.2.0-14) 12.2.0 Fedora 40 (Clang) Kernel: Depends on container host Compiler: clang 18.1.8 (Fedora 18.1.8-1.fc40) Fedora 41 Kernel: Depends on container host Compiler: gcc 14.2.1 20240912 (Red Hat 14.2.1-3) openSUSE Leap 15 Kernel: Depends on container host Compiler: gcc (SUSE Linux) 7.5.0 RHEL8 Kernel: Depends on container host Compiler: gcc 8.5.0 20210514 (Red Hat 8.5.0-22) RHEL9 Kernel: Depends on container host Compiler: gcc 11.5.0 20240719 (Red Hat 11.5.0-2) Ubuntu 22.04 Kernel: Depends on container host Compiler: gcc (Ubuntu 11.4.0-1ubuntu1~22.04) 11.4.0 Ubuntu 24.04 Kernel: Depends on container host Compiler: gcc (Ubuntu 13.3.0-6ubuntu2~24.04) 13.3.0 Alpine Kernel: Depends on container host Compiler: gcc (Alpine 14.2.0) 14.2.0 Ubuntu 24.04 32 Bit Cross Compile Kernel: Depends on container host Compiler: gcc (Ubuntu 13.3.0-6ubuntu2~24.04) 13.3.0 Fedora 40 Kernel: Depends on container host Compiler: gcc 14.2.1 20240912 (Red Hat 14.2.1-3) Fedora 41 (Clang) Kernel: Depends on container host Compiler: clang 19.1.5 (Fedora 19.1.5-1.fc41) Windows Server 2022 Kernel: 10.0.20348.2031 Compiler: clang 15.0.7, gcc 14.1.0 (MinGW), and MSVC VS 19.39.33521 To view detailed results, visit: https://lab.dpdk.org/results/dashboard/patchsets/33121/ UNH-IOL DPDK Community Lab To manage your email subscriptions, visit: https://lab.dpdk.org/results/dashboard/preferences/subscriptions/