From mboxrd@z Thu Jan 1 00:00:00 1970 Return-Path: Received: from mails.dpdk.org (mails.dpdk.org [217.70.189.124]) by inbox.dpdk.org (Postfix) with ESMTP id 4E1AA466EB for ; Wed, 7 May 2025 21:05:46 +0200 (CEST) Received: from mails.dpdk.org (localhost [127.0.0.1]) by mails.dpdk.org (Postfix) with ESMTP id 255884025D; Wed, 7 May 2025 21:05:46 +0200 (CEST) Received: from mail-pj1-f97.google.com (mail-pj1-f97.google.com [209.85.216.97]) by mails.dpdk.org (Postfix) with ESMTP id 96B374025A for ; Wed, 7 May 2025 21:05:44 +0200 (CEST) Received: by mail-pj1-f97.google.com with SMTP id 98e67ed59e1d1-306bf444ba2so274730a91.1 for ; Wed, 07 May 2025 12:05:44 -0700 (PDT) DKIM-Signature: v=1; a=rsa-sha256; c=relaxed/relaxed; d=iol.unh.edu; s=unh-iol; t=1746644743; x=1747249543; darn=dpdk.org; h=cc:to:from:subject:message-id:date:from:to:cc:subject:date :message-id:reply-to; bh=47Ws6fRyPW+W5Z7EZrcscAshmG++rfH0oATVTJZk2IU=; b=gjYM7tdrvU5JI3Re3PogU6qTJ1UR66N3h+tViLa32TG5qvVxZXW3zQ/4QbxosUDtsi 5g9EZ3XsSJfUi3XjrZj0Ii++rf/bAOTywW4TPNEowB/11hatorEnVrTdb95IkF7ErWWW eNatr7OlosUQNwJKtv2eotRMf69xGix0hYWMI= X-Google-DKIM-Signature: v=1; a=rsa-sha256; c=relaxed/relaxed; d=1e100.net; s=20230601; t=1746644743; x=1747249543; h=cc:to:from:subject:message-id:date:x-gm-message-state:from:to:cc :subject:date:message-id:reply-to; bh=47Ws6fRyPW+W5Z7EZrcscAshmG++rfH0oATVTJZk2IU=; b=lB8jsxGuCofdnD1M8XAssVQGXjmAjrTqyUPBfpwrtUOS2DqjPu6ig5k7iePUG0IgI9 c657xXu+EgURrIHOnWKVP2vDMKNgTmFHra+HgG9l7aM2dybVS9m2VWBz/ympPlQCJyCg NNNjuhEUXd4JgJF/CXWnk5hkAZFjZHy3lFVTYdjn+tIujE7Tg0tnqnBn0g0uYHstiNbE ftXF43/5qEYkbdaLo9dV6zdPfEbzT9kHFjy8rmuzDdYOrNZDmHla3TteGGop/X/G7jFU rSqtxhqtufItFFfXA23ZFfkQ+s4xx+nknB7jNZ030zUW0p3YE/9RlaugQrK9s67Scjic 5U1A== X-Gm-Message-State: AOJu0Yz41zzubSdCCRLRIWXREkDdeQHCHQet/DETeydW9yJONIseuHdy FPbaUyWDaVVi/R/WII03tLLVwbr/N48nZY5Vum42iBuytzCESy/uOa2pkC2ZQ4f6GUirhT5+H/Q 8YbUbPWiDIWYcQadnLNcySpAOJglBZYl3 X-Gm-Gg: ASbGncufWpLGkxlawrVf6YvV+A6or/D4tx+I2ztoKYWErapsNbC6k+xCIDAaaR6wzXf LkFptd2Ap1gPx95AyJ5euikQeYr8H3pH7r511Cuf/tbbH0O0bqCt/epTzwhFi++JpiADQn/BrvC 3ag5YJPwrYkBnYe3zKyiq18JZjSPMYT1+T09dcwp9jIQtRxBb7w7nJH0Y9gQO5dbWW5LMhy44Cw l55hNWMi/TfUG2oq31/rmbt/fHTzDmR7PaRhjUVrsIh2ymllz8bDdx1kXDiBI2kOKom9rX9PNsY CkYjniRP6/QESsUhI6G4/ptYNBIrfYSryGb1/GD2ghGk/JdXWEE0kbG+BjY= X-Google-Smtp-Source: AGHT+IHuIILQQGusloEy10mz99d0QTJ3ByAzBSqmGO8dEOAOOGHY1Uc3Tj27kNDXbqeoxbH/FU2FkG1G/ZzE X-Received: by 2002:a17:90a:ec85:b0:305:2d68:8d55 with SMTP id 98e67ed59e1d1-30b3a65ded4mr409585a91.8.1746644743403; Wed, 07 May 2025 12:05:43 -0700 (PDT) Received: from postal.iol.unh.edu (postal.iol.unh.edu. [132.177.123.84]) by smtp-relay.gmail.com with ESMTPS id 98e67ed59e1d1-30ad4d3b8d0sm43017a91.4.2025.05.07.12.05.43 (version=TLS1_2 cipher=ECDHE-ECDSA-AES128-GCM-SHA256 bits=128/128); Wed, 07 May 2025 12:05:43 -0700 (PDT) X-Relaying-Domain: iol.unh.edu Date: Wed, 07 May 2025 12:05:43 -0700 (PDT) Message-ID: <681baf07.170a0220.bae2b.2629SMTPIN_ADDED_MISSING@mx.google.com> Received: from [172.17.0.2] (unknown [172.18.0.74]) by postal.iol.unh.edu (Postfix) with ESMTP id 8BD816052471; Wed, 7 May 2025 15:05:42 -0400 (EDT) Subject: |SUCCESS| [GIT MASTER] 83a7a648344674c0269fcaeb71d8d16468421a0e From: dpdklab@iol.unh.edu To: Test Report Cc: dpdk-test-reports@iol.unh.edu, Xueming Li , Christian Ehrhardt , Kevin Traynor , Luca Boccassi Content-Type: text/plain X-BeenThere: test-report@dpdk.org X-Mailman-Version: 2.1.29 Precedence: list List-Id: automatic DPDK test reports List-Unsubscribe: , List-Archive: List-Post: List-Help: List-Subscribe: , Errors-To: test-report-bounces@dpdk.org _Testing PASS_ Branch: tags/v23.11 83a7a648344674c0269fcaeb71d8d16468421a0e --> testing pass Upstream job id: Generic-VM-Unit-Test-DPDK#28385 Test environment and result as below: +---------------------+----------------+ | Environment | dpdk_unit_test | +=====================+================+ | CentOS Stream 10 | PASS | +---------------------+----------------+ | CentOS Stream 9 | PASS | +---------------------+----------------+ | Debian 12 | PASS | +---------------------+----------------+ | Fedora 40 (Clang) | PASS | +---------------------+----------------+ | Fedora 40 | PASS | +---------------------+----------------+ | Fedora 41 | PASS | +---------------------+----------------+ | RHEL8 | PASS | +---------------------+----------------+ | Fedora 41 (Clang) | PASS | +---------------------+----------------+ | Ubuntu 20.04 | PASS | +---------------------+----------------+ | RHEL9 | PASS | +---------------------+----------------+ | Ubuntu 22.04 | PASS | +---------------------+----------------+ | Ubuntu 24.04 | PASS | +---------------------+----------------+ | Windows Server 2022 | PASS | +---------------------+----------------+ CentOS Stream 10 Kernel: Depends on container host Compiler: gcc 14.2.1 20241104 (Red Hat 14.2.1-6) CentOS Stream 9 Kernel: Depends on container host Compiler: gcc 11.5.0 20240719 (Red Hat 11.5.0-2) Debian 12 Kernel: Depends on container host Compiler: gcc (Debian 12.2.0-14) 12.2.0 Fedora 40 (Clang) Kernel: Depends on container host Compiler: clang 18.1.8 (Fedora 18.1.8-1.fc40) Fedora 40 Kernel: Depends on container host Compiler: gcc 14.2.1 20240912 (Red Hat 14.2.1-3) Fedora 41 Kernel: Depends on container host Compiler: gcc 14.2.1 20240912 (Red Hat 14.2.1-3) RHEL8 Kernel: Depends on container host Compiler: gcc 8.5.0 20210514 (Red Hat 8.5.0-22) Fedora 41 (Clang) Kernel: Depends on container host Compiler: clang 19.1.5 (Fedora 19.1.5-1.fc41) Ubuntu 20.04 Kernel: Depends on container host Compiler: gcc (Ubuntu 9.4.0-1ubuntu1~20.04.2) 9.4.0 RHEL9 Kernel: Depends on container host Compiler: gcc 11.5.0 20240719 (Red Hat 11.5.0-2) Ubuntu 22.04 Kernel: Depends on container host Compiler: gcc (Ubuntu 11.4.0-1ubuntu1~22.04) 11.4.0 Ubuntu 24.04 Kernel: Depends on container host Compiler: gcc (Ubuntu 13.3.0-6ubuntu2~24.04) 13.3.0 Windows Server 2022 Kernel: 10.0.20348.2031 Compiler: clang 15.0.7, gcc 14.1.0 (MinGW), and MSVC VS 19.39.33521 To view detailed results, visit: https://lab.dpdk.org/results/dashboard/tarballs/33463/ UNH-IOL DPDK Community Lab To manage your email subscriptions, visit: https://lab.dpdk.org/results/dashboard/preferences/subscriptions/