From mboxrd@z Thu Jan 1 00:00:00 1970 Return-Path: Received: from mails.dpdk.org (mails.dpdk.org [217.70.189.124]) by inbox.dpdk.org (Postfix) with ESMTP id 516C3466EB for ; Wed, 7 May 2025 21:07:07 +0200 (CEST) Received: from mails.dpdk.org (localhost [127.0.0.1]) by mails.dpdk.org (Postfix) with ESMTP id 4C90E4025D; Wed, 7 May 2025 21:07:07 +0200 (CEST) Received: from mail-yw1-f228.google.com (mail-yw1-f228.google.com [209.85.128.228]) by mails.dpdk.org (Postfix) with ESMTP id 85DDD4025A for ; Wed, 7 May 2025 21:07:06 +0200 (CEST) Received: by mail-yw1-f228.google.com with SMTP id 00721157ae682-70a2970cb70so2253737b3.0 for ; Wed, 07 May 2025 12:07:06 -0700 (PDT) DKIM-Signature: v=1; a=rsa-sha256; c=relaxed/relaxed; d=iol.unh.edu; s=unh-iol; t=1746644826; x=1747249626; darn=dpdk.org; h=references:in-reply-to:cc:to:from:subject:message-id:date:from:to :cc:subject:date:message-id:reply-to; bh=JN9IJek7ItFMmfRySYodF17bRvQAVuSzfF/1Ae3XRm0=; b=iXtbqzNhSoLgole+A1u9NQ5h+F18/k95Rmh9Agox1JH+uDfZlyXQXKKO3ooa49fRWx Ornl6FS+Zfr8kZHrB9qkFb+O+Eers6Ja/+ZlvHvCtkJYM4FBfS0ezTlrP2JyI8Bdq8uq zg9i5ef6txGDaNHtKFQ94IQ/lWhmzu+Q5r/QU= X-Google-DKIM-Signature: v=1; a=rsa-sha256; c=relaxed/relaxed; d=1e100.net; s=20230601; t=1746644826; x=1747249626; h=references:in-reply-to:cc:to:from:subject:message-id:date :x-gm-message-state:from:to:cc:subject:date:message-id:reply-to; bh=JN9IJek7ItFMmfRySYodF17bRvQAVuSzfF/1Ae3XRm0=; b=ouCM3CSS1ny7sQT1HyVfjLMCbSzOMAb9LXcF330IatRHPlU9Hj+JLa27xRpLpF08wn ueUCTe12MYV5Lt15B2SgoSMWkx28MyGlrjYJJkVJTdzABwuflrRYuHUjuWOV+MK+QELV ZGReNZmZLC/ur2AC+KL3+GST6n3V4+9t96x0s20xk1FXzS/wM1DQINaoqcc5BQQ6ZByn UGa5SXPcQWfIYf2Jnizg7qBekpHrbA9uzG47zixmnwlxGFRv3XrP+fUrikG5a29tPvWS XnwH2219VY9UGh3vIeXnG5/iajqH/4+BaDZxPejPXhJTKk86NCSPf0AvsdBvvE7fHlj4 QVPA== X-Gm-Message-State: AOJu0YxCRYfoEGlv4TK9b08ju8skco5Kk3eZUlBY/aqlS4q1VtnUa9lI nZUm9ZSJjRw+cH5yxRKdHoMfA7SnF9jBEORsg6Quk5qHvcq2In8krvAASqeRhojVMWWXdxiOKo+ gocT+VSFKZVIyOwIMlo0rFj4Gwc8mxC4nPZ66vAc5/L1oxf5y1rSzfthd X-Gm-Gg: ASbGncvekL2bFPSY7/Jul7mbeOdDl1C0yyUBjdfLrwuF0G39ZaXOKwd2xlUdfyCebw8 q9YX8cwiZbe3T0L34GCDUDiBmoUkg7yvmaOBg+1vzIDa3TJfsBfMEmNLjjYk2+1gJ/VpTi8pajI d77ZBcoZrLuPjFYDTpGWPX3XTXPjbSWey2AAfgIocHCd94dlVMaTB8almBp+lB0nH6OvaoikJCa kZfNgaseNP3UNNVMDB3rtyuu3l5BXTYYNWUSY43WIKKkS2gDLZ8ckQ4KLCp5Ms9w2rRcozy/urL sSvwZq3OfvyuD3xelUgNUIjKqdk/1utFEHbP X-Google-Smtp-Source: AGHT+IGGJprz/3P9+qrzPqfb4Jlmj+4fFsXLfKcDwoGMzxgB2DQRJ5PgmZF3EWX+Mya/K4oXZNaV0Ul/38rM X-Received: by 2002:a05:690c:7009:b0:703:b278:db2d with SMTP id 00721157ae682-70a2cee9898mr10108957b3.12.1746644825946; Wed, 07 May 2025 12:07:05 -0700 (PDT) Received: from postal.iol.unh.edu (postal.iol.unh.edu. [2606:4100:3880:1234::84]) by smtp-relay.gmail.com with ESMTPS id 00721157ae682-708c415f52dsm20642417b3.33.2025.05.07.12.07.05 (version=TLS1_2 cipher=ECDHE-ECDSA-AES128-GCM-SHA256 bits=128/128); Wed, 07 May 2025 12:07:05 -0700 (PDT) X-Relaying-Domain: iol.unh.edu Date: Wed, 07 May 2025 12:07:05 -0700 (PDT) Message-ID: <681baf59.050a0220.3b6559.a81dSMTPIN_ADDED_MISSING@mx.google.com> Received: from [172.17.0.2] (unknown [172.18.0.74]) by postal.iol.unh.edu (Postfix) with ESMTP id 8E8B26052471; Wed, 7 May 2025 15:07:05 -0400 (EDT) Subject: |SUCCESS| pw153309 [PATCH] dts: improve port handling From: dpdklab@iol.unh.edu To: Test Report Cc: dpdk-test-reports@iol.unh.edu In-Reply-To: <20250506131657.1576152-1-luca.vizzarro@arm.com> References: <20250506131657.1576152-1-luca.vizzarro@arm.com> Content-Type: text/plain X-BeenThere: test-report@dpdk.org X-Mailman-Version: 2.1.29 Precedence: list List-Id: automatic DPDK test reports List-Unsubscribe: , List-Archive: List-Post: List-Help: List-Subscribe: , Errors-To: test-report-bounces@dpdk.org Test-Label: iol-compile-amd64-testing Test-Status: SUCCESS http://dpdk.org/patch/153309 _Testing PASS_ Submitter: Luca Vizzarro Date: Tuesday, May 06 2025 13:16:05 DPDK git baseline: Repo:dpdk Branch: master CommitID:1aef42bc97a31906486c9d66b792208948af06f3 153309 --> testing pass Upstream job id: Windows-Compile-DPDK-Native#28269 Test environment and result as below: +-----------------------------------+--------------------+-------------------+------------------+-------------------+-------------------------+----------------------+ | Environment | dpdk_meson_compile | dpdk_compile_spdk | dpdk_compile_ovs | dpdk_msvc_compile | dpdk_llvm_clang_compile | dpdk_mingw64_compile | +===================================+====================+===================+==================+===================+=========================+======================+ | Ubuntu 20.04 | PASS | SKIPPED | SKIPPED | SKIPPED | SKIPPED | SKIPPED | +-----------------------------------+--------------------+-------------------+------------------+-------------------+-------------------------+----------------------+ | FreeBSD 13.5 | PASS | SKIPPED | SKIPPED | SKIPPED | SKIPPED | SKIPPED | +-----------------------------------+--------------------+-------------------+------------------+-------------------+-------------------------+----------------------+ | FreeBSD 14.2 | PASS | SKIPPED | SKIPPED | SKIPPED | SKIPPED | SKIPPED | +-----------------------------------+--------------------+-------------------+------------------+-------------------+-------------------------+----------------------+ | CentOS Stream 9 | PASS | PASS | SKIPPED | SKIPPED | SKIPPED | SKIPPED | +-----------------------------------+--------------------+-------------------+------------------+-------------------+-------------------------+----------------------+ | CentOS Stream 10 | PASS | SKIPPED | SKIPPED | SKIPPED | SKIPPED | SKIPPED | +-----------------------------------+--------------------+-------------------+------------------+-------------------+-------------------------+----------------------+ | Debian 12 | PASS | PASS | SKIPPED | SKIPPED | SKIPPED | SKIPPED | +-----------------------------------+--------------------+-------------------+------------------+-------------------+-------------------------+----------------------+ | Fedora 40 (Clang) | PASS | PASS | SKIPPED | SKIPPED | SKIPPED | SKIPPED | +-----------------------------------+--------------------+-------------------+------------------+-------------------+-------------------------+----------------------+ | Fedora 41 | PASS | PASS | PASS | SKIPPED | SKIPPED | SKIPPED | +-----------------------------------+--------------------+-------------------+------------------+-------------------+-------------------------+----------------------+ | openSUSE Leap 15 | PASS | SKIPPED | SKIPPED | SKIPPED | SKIPPED | SKIPPED | +-----------------------------------+--------------------+-------------------+------------------+-------------------+-------------------------+----------------------+ | RHEL8 | PASS | SKIPPED | SKIPPED | SKIPPED | SKIPPED | SKIPPED | +-----------------------------------+--------------------+-------------------+------------------+-------------------+-------------------------+----------------------+ | RHEL9 | PASS | SKIPPED | SKIPPED | SKIPPED | SKIPPED | SKIPPED | +-----------------------------------+--------------------+-------------------+------------------+-------------------+-------------------------+----------------------+ | Ubuntu 22.04 | PASS | PASS | SKIPPED | SKIPPED | SKIPPED | SKIPPED | +-----------------------------------+--------------------+-------------------+------------------+-------------------+-------------------------+----------------------+ | Ubuntu 24.04 | PASS | PASS | PASS | SKIPPED | SKIPPED | SKIPPED | +-----------------------------------+--------------------+-------------------+------------------+-------------------+-------------------------+----------------------+ | Alpine | PASS | SKIPPED | SKIPPED | SKIPPED | SKIPPED | SKIPPED | +-----------------------------------+--------------------+-------------------+------------------+-------------------+-------------------------+----------------------+ | Ubuntu 24.04 32 Bit Cross Compile | PASS | SKIPPED | SKIPPED | SKIPPED | SKIPPED | SKIPPED | +-----------------------------------+--------------------+-------------------+------------------+-------------------+-------------------------+----------------------+ | Fedora 40 | PASS | PASS | SKIPPED | SKIPPED | SKIPPED | SKIPPED | +-----------------------------------+--------------------+-------------------+------------------+-------------------+-------------------------+----------------------+ | Fedora 41 (Clang) | PASS | PASS | PASS | SKIPPED | SKIPPED | SKIPPED | +-----------------------------------+--------------------+-------------------+------------------+-------------------+-------------------------+----------------------+ | Windows Server 2022 | SKIPPED | SKIPPED | SKIPPED | PASS | PASS | PASS | +-----------------------------------+--------------------+-------------------+------------------+-------------------+-------------------------+----------------------+ Ubuntu 20.04 Kernel: 4.19.325-0419325-generic Compiler: gcc (Ubuntu 9.4.0-1ubuntu1~20.04.2) 9.4.0 FreeBSD 13.5 Kernel: 13.5-RELEASE Compiler: clang 19.1.7 FreeBSD 14.2 Kernel: 14.2-RELEASE Compiler: clang 18.1.6 CentOS Stream 9 Kernel: Depends on container host Compiler: gcc 11.5.0 20240719 (Red Hat 11.5.0-2) CentOS Stream 10 Kernel: Depends on container host Compiler: gcc 14.2.1 20241104 (Red Hat 14.2.1-6) Debian 12 Kernel: Depends on container host Compiler: gcc (Debian 12.2.0-14) 12.2.0 Fedora 40 (Clang) Kernel: Depends on container host Compiler: clang 18.1.8 (Fedora 18.1.8-1.fc40) Fedora 41 Kernel: Depends on container host Compiler: gcc 14.2.1 20240912 (Red Hat 14.2.1-3) openSUSE Leap 15 Kernel: Depends on container host Compiler: gcc (SUSE Linux) 7.5.0 RHEL8 Kernel: Depends on container host Compiler: gcc 8.5.0 20210514 (Red Hat 8.5.0-22) RHEL9 Kernel: Depends on container host Compiler: gcc 11.5.0 20240719 (Red Hat 11.5.0-2) Ubuntu 22.04 Kernel: Depends on container host Compiler: gcc (Ubuntu 11.4.0-1ubuntu1~22.04) 11.4.0 Ubuntu 24.04 Kernel: Depends on container host Compiler: gcc (Ubuntu 13.3.0-6ubuntu2~24.04) 13.3.0 Alpine Kernel: Depends on container host Compiler: gcc (Alpine 14.2.0) 14.2.0 Ubuntu 24.04 32 Bit Cross Compile Kernel: Depends on container host Compiler: gcc (Ubuntu 13.3.0-6ubuntu2~24.04) 13.3.0 Fedora 40 Kernel: Depends on container host Compiler: gcc 14.2.1 20240912 (Red Hat 14.2.1-3) Fedora 41 (Clang) Kernel: Depends on container host Compiler: clang 19.1.5 (Fedora 19.1.5-1.fc41) Windows Server 2022 Kernel: 10.0.20348.2031 Compiler: clang 15.0.7, gcc 14.1.0 (MinGW), and MSVC VS 19.39.33521 To view detailed results, visit: https://lab.dpdk.org/results/dashboard/patchsets/33121/ UNH-IOL DPDK Community Lab To manage your email subscriptions, visit: https://lab.dpdk.org/results/dashboard/preferences/subscriptions/