From mboxrd@z Thu Jan 1 00:00:00 1970 Return-Path: Received: from mails.dpdk.org (mails.dpdk.org [217.70.189.124]) by inbox.dpdk.org (Postfix) with ESMTP id E1310466EB for ; Wed, 7 May 2025 21:13:03 +0200 (CEST) Received: from mails.dpdk.org (localhost [127.0.0.1]) by mails.dpdk.org (Postfix) with ESMTP id DCB1F4025D; Wed, 7 May 2025 21:13:03 +0200 (CEST) Received: from mail-il1-f225.google.com (mail-il1-f225.google.com [209.85.166.225]) by mails.dpdk.org (Postfix) with ESMTP id 6114F4025A for ; Wed, 7 May 2025 21:13:02 +0200 (CEST) Received: by mail-il1-f225.google.com with SMTP id e9e14a558f8ab-3d818add2a3so1100865ab.1 for ; Wed, 07 May 2025 12:13:02 -0700 (PDT) DKIM-Signature: v=1; a=rsa-sha256; c=relaxed/relaxed; d=iol.unh.edu; s=unh-iol; t=1746645181; x=1747249981; darn=dpdk.org; h=cc:to:from:subject:message-id:date:from:to:cc:subject:date :message-id:reply-to; bh=hRdstAykONSHyd4emQP/plVi57X9Lpsh/pMj3yPFh54=; b=AM4frmz4cCpDW2uT5sE1yfF+Nd29S20mq8aqIf4IyPkrB9bO+5/oYoaBhCp2sC9BoK 0v/DrVwU2KiEtYuX8NI0/PVYcSC2b6mKEaVjBYS7dEmhAa0uKWT8YFdon579vU1UM44l /cu1lnywLCkZqbodA6SxCxVbSMKs9mtGivekY= X-Google-DKIM-Signature: v=1; a=rsa-sha256; c=relaxed/relaxed; d=1e100.net; s=20230601; t=1746645181; x=1747249981; h=cc:to:from:subject:message-id:date:x-gm-message-state:from:to:cc :subject:date:message-id:reply-to; bh=hRdstAykONSHyd4emQP/plVi57X9Lpsh/pMj3yPFh54=; b=X6wBIqmdPF2A4JW8iZ9DwstPI348amhuCkY8gFLPOqCVeDCqwhSpo+S1CE3mq5HBnd BJ5FLClh9oC/Qfpz+mUVRPLxIU0IsAULwybI/dDqlWVgRefYK7AmjjN1QjdRo5F/9luL cjp0Y4Fuc0ZbwGOG+JYKMXKLmRAo0/Gwpw2vI3jBRN2Gv2OmRm3f/Q0tCeJwqeaoOTXQ gFBzsyRGRtK2VStu3jicpNWNa63ltINHSnioF7rnknbyQJM8kBJT6Inwss081m+OjZVq n++xOtYAzExrBs8wUSzspXhQYrSHsAiLYEIMs1OrdSItYP0mbIzn7NQ4CFomJWh4jRvh ocNg== X-Gm-Message-State: AOJu0Ywx2p5NCoDUMJ9KhmbNXeWmM1wEe3aPtE26I4idEovYqdHnc8Cy l43DJrILHpqU3b/rYWKvUFn5z1yZbw45vx30C+yM3xVI2naA2G9+wpLyZeHUnWKbajIU8+E4aXK DkvdGwzt40LhY9JlTeTOGeZclUc8A0wWwyelFGs+ahX8yo26a X-Gm-Gg: ASbGncukGLUCqAyVvSR9CRsEL+sW63siOsH6vjfLgBQtDD0/mpLwSq1NxwmU5t8xm9K rnEJhgSJvyOkQCS1L9GT+5YrIQACXnOPIjw6jxVy+uIjZjMy+t86VDMnjXbVD/g61BsjGgdyayt vLHd8e0p2nde/8qzz0xlA/EITbxZTHzJA0XDayMzDBDcDUCsY83rpOD/BQwAWctjyhSd7GpJqHl 8wexrxI5lPq0+lYv+suAe4u1izbYN7eI1vI8VF+OqlrxqkCuc11hPTaNhWzFLLG7YJTHKiBg8me jKSUVb7hKzU5KB82bVN4snRkTp6hjiPMEF3O X-Google-Smtp-Source: AGHT+IEZ7Orls4asR2gcbFpZ35zpw/i8u68OFoGnyDy/ARi7CvxbXMqQ8sCIZGSlH+u33bRNwg62Wkth9EpT X-Received: by 2002:a92:c264:0:b0:3d9:6e2d:c7fd with SMTP id e9e14a558f8ab-3da78537ec2mr12224405ab.2.1746645181653; Wed, 07 May 2025 12:13:01 -0700 (PDT) Received: from postal.iol.unh.edu (postal.iol.unh.edu. [2606:4100:3880:1234::84]) by smtp-relay.gmail.com with ESMTPS id 8926c6da1cb9f-4f88a9401bbsm2142715173.36.2025.05.07.12.13.01 (version=TLS1_2 cipher=ECDHE-ECDSA-AES128-GCM-SHA256 bits=128/128); Wed, 07 May 2025 12:13:01 -0700 (PDT) X-Relaying-Domain: iol.unh.edu Date: Wed, 07 May 2025 12:13:01 -0700 (PDT) Message-ID: <681bb0bd.050a0220.1b7d47.ec95SMTPIN_ADDED_MISSING@mx.google.com> Received: from [172.17.0.2] (unknown [172.18.0.74]) by postal.iol.unh.edu (Postfix) with ESMTP id 4B33C6052471; Wed, 7 May 2025 15:13:01 -0400 (EDT) Subject: |SUCCESS| [GIT MASTER] 83a7a648344674c0269fcaeb71d8d16468421a0e From: dpdklab@iol.unh.edu To: Test Report Cc: dpdk-test-reports@iol.unh.edu, Xueming Li , Christian Ehrhardt , Kevin Traynor , Luca Boccassi Content-Type: text/plain X-BeenThere: test-report@dpdk.org X-Mailman-Version: 2.1.29 Precedence: list List-Id: automatic DPDK test reports List-Unsubscribe: , List-Archive: List-Post: List-Help: List-Subscribe: , Errors-To: test-report-bounces@dpdk.org _Testing PASS_ Branch: tags/v23.11 83a7a648344674c0269fcaeb71d8d16468421a0e --> testing pass Upstream job id: Generic-VM-Unit-Test-DPDK#28386 Test environment and result as below: +---------------------+----------------+ | Environment | dpdk_unit_test | +=====================+================+ | CentOS Stream 10 | PASS | +---------------------+----------------+ | CentOS Stream 9 | PASS | +---------------------+----------------+ | Debian 12 | PASS | +---------------------+----------------+ | Fedora 40 (Clang) | PASS | +---------------------+----------------+ | Fedora 40 | PASS | +---------------------+----------------+ | Fedora 41 | PASS | +---------------------+----------------+ | RHEL8 | PASS | +---------------------+----------------+ | Fedora 41 (Clang) | PASS | +---------------------+----------------+ | Ubuntu 20.04 | PASS | +---------------------+----------------+ | RHEL9 | PASS | +---------------------+----------------+ | Ubuntu 22.04 | PASS | +---------------------+----------------+ | Ubuntu 24.04 | PASS | +---------------------+----------------+ | Windows Server 2022 | PASS | +---------------------+----------------+ CentOS Stream 10 Kernel: Depends on container host Compiler: gcc 14.2.1 20241104 (Red Hat 14.2.1-6) CentOS Stream 9 Kernel: Depends on container host Compiler: gcc 11.5.0 20240719 (Red Hat 11.5.0-2) Debian 12 Kernel: Depends on container host Compiler: gcc (Debian 12.2.0-14) 12.2.0 Fedora 40 (Clang) Kernel: Depends on container host Compiler: clang 18.1.8 (Fedora 18.1.8-1.fc40) Fedora 40 Kernel: Depends on container host Compiler: gcc 14.2.1 20240912 (Red Hat 14.2.1-3) Fedora 41 Kernel: Depends on container host Compiler: gcc 14.2.1 20240912 (Red Hat 14.2.1-3) RHEL8 Kernel: Depends on container host Compiler: gcc 8.5.0 20210514 (Red Hat 8.5.0-22) Fedora 41 (Clang) Kernel: Depends on container host Compiler: clang 19.1.5 (Fedora 19.1.5-1.fc41) Ubuntu 20.04 Kernel: Depends on container host Compiler: gcc (Ubuntu 9.4.0-1ubuntu1~20.04.2) 9.4.0 RHEL9 Kernel: Depends on container host Compiler: gcc 11.5.0 20240719 (Red Hat 11.5.0-2) Ubuntu 22.04 Kernel: Depends on container host Compiler: gcc (Ubuntu 11.4.0-1ubuntu1~22.04) 11.4.0 Ubuntu 24.04 Kernel: Depends on container host Compiler: gcc (Ubuntu 13.3.0-6ubuntu2~24.04) 13.3.0 Windows Server 2022 Kernel: 10.0.20348.2031 Compiler: clang 15.0.7, gcc 14.1.0 (MinGW), and MSVC VS 19.39.33521 To view detailed results, visit: https://lab.dpdk.org/results/dashboard/tarballs/33463/ UNH-IOL DPDK Community Lab To manage your email subscriptions, visit: https://lab.dpdk.org/results/dashboard/preferences/subscriptions/