From mboxrd@z Thu Jan 1 00:00:00 1970 Return-Path: Received: from mails.dpdk.org (mails.dpdk.org [217.70.189.124]) by inbox.dpdk.org (Postfix) with ESMTP id 70027466EB for ; Wed, 7 May 2025 21:17:27 +0200 (CEST) Received: from mails.dpdk.org (localhost [127.0.0.1]) by mails.dpdk.org (Postfix) with ESMTP id 51D2D4025D; Wed, 7 May 2025 21:17:27 +0200 (CEST) Received: from mail-io1-f100.google.com (mail-io1-f100.google.com [209.85.166.100]) by mails.dpdk.org (Postfix) with ESMTP id 21D464025A for ; Wed, 7 May 2025 21:17:26 +0200 (CEST) Received: by mail-io1-f100.google.com with SMTP id ca18e2360f4ac-86142446f3fso5582839f.2 for ; Wed, 07 May 2025 12:17:26 -0700 (PDT) DKIM-Signature: v=1; a=rsa-sha256; c=relaxed/relaxed; d=iol.unh.edu; s=unh-iol; t=1746645445; x=1747250245; darn=dpdk.org; h=references:in-reply-to:cc:to:from:subject:message-id:date:from:to :cc:subject:date:message-id:reply-to; bh=U40f5RoNBWFTzLFsJDk5B0GQ1EpGEMMO3P2Hu7lfPug=; b=DCoCgQXuvwpKfnhpuV75c/jTgWsD6JXUKMP37T6ORzyyTgG6HYF32m+GLHxxziSjZP e1vrcRh0MPfAg/7crIghN02TfwcEAVuopq5vFnjjgwWBTQ9HqrLDLwGbrppu89dGoZIF YOtqMUupFtnmuP8be1PqwquhZeJjL+C3jU9s4= X-Google-DKIM-Signature: v=1; a=rsa-sha256; c=relaxed/relaxed; d=1e100.net; s=20230601; t=1746645445; x=1747250245; h=references:in-reply-to:cc:to:from:subject:message-id:date :x-gm-message-state:from:to:cc:subject:date:message-id:reply-to; bh=U40f5RoNBWFTzLFsJDk5B0GQ1EpGEMMO3P2Hu7lfPug=; b=Yns8kOev+1e/jfQoXKOJ8RocxSh3e7XBS+fnM7j++fAbZ0kounVo8eV4F/h6GsVBzR /6PmX8Mq9syT8tVqqOe3aVtanUnekaPki7Z9XOyDIZb9fmHzPggQliU8jmjsaukUwg3R FZ+30Rrpcm8hJrn12n7E3zdWxxNbnDOe5ZbayDSO4TVj8B/nz42i67XmbWybfKVpUk0K c/3QEXAlFfhwVQJO9E976O51WQYiTRdxEwkYyTgwWeNBew29PFFdXn4x2eapdQWRx6xq 75suenP10w3e2IzYTeLIkDRFFQi2LhwiHttjmjRXDnv4vFpkheZRaAamTwQzfP14ssOb sKkQ== X-Gm-Message-State: AOJu0YyUoYcLyxLBeVCti/wzJXwiW4+/OllYlwunEDkagA1XJmkMt8Fp D+/iRFJHjCu9K5NHrgCqwXFPV2Mg8Kj+Ed08dNByo+efgIMOtv/cmr6+1BnStwnu+gPEIa51CbQ K3IFI8zhE8Wv7uqRZU0+V4kDU/h2ISbcsFm8Tfm5k X-Gm-Gg: ASbGncvbxefH7xSAPYB0pS1GdC6dxOJrxPNATFev4tsQbQmcPc+JP2Y8qcJspC27zue qfWSVAY6VyNvOPruIFGWRESoMX9DRwKYbAttlq9rUAANf5VYxWywYGI3dcVU3Ixt/zPSlv7xT3H 8j3BJMMlRl0dnu2h9flmpfqcs2B1i+txn2G3pTqFAKB6eqPpsvtmNkitlGmBzQ/huie0j6atA/7 QJuujsr9lyAs/f19mV2m8zxti+RKZkioeDUQiu75LamskiJoGFI6i9+KGhSwWCC8vJ7P23v+Vf/ tJmEcKpD89rlNPT2SoCQ5b97OD8uRC258OBxR7PQ+IvmRzYo3SMTdZLX1ws= X-Google-Smtp-Source: AGHT+IEL8V7ySZKl591TuD/L85JxeXtSuRyDv+TpSDdgHkZ4pTSuhIQ5yVUISr1psj33b/sA3S4ix0dMrVEc X-Received: by 2002:a05:6602:164b:b0:864:4a9c:1bd7 with SMTP id ca18e2360f4ac-86754e0e614mr119444439f.0.1746645445379; Wed, 07 May 2025 12:17:25 -0700 (PDT) Received: from postal.iol.unh.edu (postal.iol.unh.edu. [132.177.123.84]) by smtp-relay.gmail.com with ESMTPS id 8926c6da1cb9f-4f88a8cd938sm2184782173.12.2025.05.07.12.17.25 (version=TLS1_2 cipher=ECDHE-ECDSA-AES128-GCM-SHA256 bits=128/128); Wed, 07 May 2025 12:17:25 -0700 (PDT) X-Relaying-Domain: iol.unh.edu Date: Wed, 07 May 2025 12:17:25 -0700 (PDT) Message-ID: <681bb1c5.050a0220.1ff137.e818SMTPIN_ADDED_MISSING@mx.google.com> Received: from [172.17.0.2] (unknown [172.18.0.74]) by postal.iol.unh.edu (Postfix) with ESMTP id EFB4F6052471; Wed, 7 May 2025 15:17:24 -0400 (EDT) Subject: |SUCCESS| pw153342 [PATCH] [v3,1/1] buildtools: avoid break due to f From: dpdklab@iol.unh.edu To: Test Report Cc: dpdk-test-reports@iol.unh.edu In-Reply-To: <1746627671-28659-2-git-send-email-andremue@linux.microsoft.com> References: <1746627671-28659-2-git-send-email-andremue@linux.microsoft.com> Content-Type: text/plain X-BeenThere: test-report@dpdk.org X-Mailman-Version: 2.1.29 Precedence: list List-Id: automatic DPDK test reports List-Unsubscribe: , List-Archive: List-Post: List-Help: List-Subscribe: , Errors-To: test-report-bounces@dpdk.org Test-Label: iol-compile-arm64-testing Test-Status: SUCCESS http://dpdk.org/patch/153342 _Testing PASS_ Submitter: Andre Muezerie Date: Wednesday, May 07 2025 14:21:11 DPDK git baseline: Repo:dpdk Branch: master CommitID:75f179ebe347b6098cf3af26d3d3b7168fe3fe24 153342 --> testing pass Upstream job id: Generic-DPDK-Compile-Meson#386167 Test environment and result as below: +----------------------------------------+--------------------+ | Environment | dpdk_meson_compile | +========================================+====================+ | RHEL9 (ARM) | PASS | +----------------------------------------+--------------------+ | Ubuntu 20.04 ARM GCC Cross Compile | PASS | +----------------------------------------+--------------------+ | Ubuntu 20.04 ARM SVE | PASS | +----------------------------------------+--------------------+ | Fedora 40 (ARM) | PASS | +----------------------------------------+--------------------+ | Debian 12 with MUSDK | PASS | +----------------------------------------+--------------------+ | CentOS Stream 9 (ARM) | PASS | +----------------------------------------+--------------------+ | Ubuntu 20.04 (ARM) | PASS | +----------------------------------------+--------------------+ | Fedora 41 (ARM) | PASS | +----------------------------------------+--------------------+ | Ubuntu 22.04 (ARM) | PASS | +----------------------------------------+--------------------+ | Fedora 41 (ARM Clang) | PASS | +----------------------------------------+--------------------+ | Ubuntu 24.04 (ARM) | PASS | +----------------------------------------+--------------------+ | Debian 12 (arm) | PASS | +----------------------------------------+--------------------+ | Ubuntu 20.04 ARM Clang Cross Compile | PASS | +----------------------------------------+--------------------+ | CentOS Stream 10 (ARM) | PASS | +----------------------------------------+--------------------+ | Ubuntu 20.04 aarch32 GCC Cross Compile | PASS | +----------------------------------------+--------------------+ | Fedora 40 (ARM Clang) | PASS | +----------------------------------------+--------------------+ RHEL9 (ARM) Kernel: Depends on container host Compiler: gcc 11.5.0 20240719 (Red Hat 11.5.0-2) Ubuntu 20.04 ARM GCC Cross Compile Kernel: Depends on container host Compiler: aarch64-linux-gnu-gcc (Ubuntu 9.4.0-1ubuntu1~20.04.2) 9.4.0 Ubuntu 20.04 ARM SVE Kernel: Depends on container host Compiler: gcc (Ubuntu 10.5.0-1ubuntu1~20.04) 10.5.0 Fedora 40 (ARM) Kernel: Depends on container host Compiler: gcc 14.2.1 20240912 (Red Hat 14.2.1-3) Debian 12 with MUSDK Kernel: Depends on container host Compiler: gcc (Debian 12.2.0-14) 12.2.0 CentOS Stream 9 (ARM) Kernel: Depends on container host Compiler: gcc 11.5.0 20240719 (Red Hat 11.5.0-2) Ubuntu 20.04 (ARM) Kernel: Depends on container host Compiler: gcc (Ubuntu 9.4.0-1ubuntu1~20.04.2) 9.4.0 Fedora 41 (ARM) Kernel: Depends on container host Compiler: gcc 14.2.1 20240912 (Red Hat 14.2.1-3) Ubuntu 22.04 (ARM) Kernel: Depends on container host Compiler: gcc (Ubuntu 11.4.0-1ubuntu1~22.04) 11.4.0 Fedora 41 (ARM Clang) Kernel: Depends on container host Compiler: clang 19.1.5 (Fedora 19.1.5-1.fc41) Ubuntu 24.04 (ARM) Kernel: Depends on container host Compiler: gcc (Ubuntu 13.3.0-6ubuntu2~24.04) 13.3.0 Debian 12 (arm) Kernel: Depends on container host Compiler: gcc (Debian 12.2.0-14) 12.2.0 Ubuntu 20.04 ARM Clang Cross Compile Kernel: Depends on container host Compiler: clang 10.0.0-4ubuntu1 CentOS Stream 10 (ARM) Kernel: Depends on container host Compiler: gcc 14.2.1 20241104 (Red Hat 14.2.1-6) Ubuntu 20.04 aarch32 GCC Cross Compile Kernel: Depends on container host Compiler: gcc 9.4.0 Fedora 40 (ARM Clang) Kernel: Depends on container host Compiler: clang 18.1.8 (Fedora 18.1.8-1.fc40) To view detailed results, visit: https://lab.dpdk.org/results/dashboard/patchsets/33133/ UNH-IOL DPDK Community Lab To manage your email subscriptions, visit: https://lab.dpdk.org/results/dashboard/preferences/subscriptions/