From mboxrd@z Thu Jan 1 00:00:00 1970 Return-Path: Received: from mails.dpdk.org (mails.dpdk.org [217.70.189.124]) by inbox.dpdk.org (Postfix) with ESMTP id E50A3466EB for ; Wed, 7 May 2025 21:21:41 +0200 (CEST) Received: from mails.dpdk.org (localhost [127.0.0.1]) by mails.dpdk.org (Postfix) with ESMTP id B13224025D; Wed, 7 May 2025 21:21:41 +0200 (CEST) Received: from mail-yw1-f226.google.com (mail-yw1-f226.google.com [209.85.128.226]) by mails.dpdk.org (Postfix) with ESMTP id 9F6724025A for ; Wed, 7 May 2025 21:21:40 +0200 (CEST) Received: by mail-yw1-f226.google.com with SMTP id 00721157ae682-702628e34f2so3413517b3.0 for ; Wed, 07 May 2025 12:21:40 -0700 (PDT) DKIM-Signature: v=1; a=rsa-sha256; c=relaxed/relaxed; d=iol.unh.edu; s=unh-iol; t=1746645700; x=1747250500; darn=dpdk.org; h=references:in-reply-to:cc:to:from:subject:message-id:date:from:to :cc:subject:date:message-id:reply-to; bh=Ya4feXq1zB+2PWZ+c0ad6WsPyqmZbMStm4fJ5qCgNug=; b=MzpUGXiUoRBGu67/815sRb0/U9sQ3mjScHB77FyPN0lebkFFAM/RD0JOmIOWhzo9bb Sfh0ns66ut3lS3M3qv3HseXYsh4h1QhHSRHbTaGAIGQNjJIg22LgFY3ooA9S/mBmC3hq BkRRLK0iFwoqIGK0CTkDm2qXvYs2FFWTSE4fE= X-Google-DKIM-Signature: v=1; a=rsa-sha256; c=relaxed/relaxed; d=1e100.net; s=20230601; t=1746645700; x=1747250500; h=references:in-reply-to:cc:to:from:subject:message-id:date :x-gm-message-state:from:to:cc:subject:date:message-id:reply-to; bh=Ya4feXq1zB+2PWZ+c0ad6WsPyqmZbMStm4fJ5qCgNug=; b=hx2n6DYAtTdwWH8K18oeXtnzM7Q17Epf3TbcvgV6EdxVGj7BLtz9GrBtLF35pI5k6L nkXA+Q35cWLBRGOB43jjz2VYL+wele9CKH7+nfwRqjxFQNMGHFmoz+hzhAuMeos7Ndyz YF6C1d88p/xvFcxme18LW78/JMRTawZeQSu01rE8Xfl77G//Y3Q7zGpIP4Sksv9ufidK MfRxrtO3QcazfFGVz/9soRud75XXgnIAQLdI39kW60IJVWTCAs8mp3MPyVNs5UCVIs0D Lnisc8UFstB0S5qew+koFPi+S1/6skZr8miiyjhu3wTmRf6lT7y9OJC/aYkE9ydI2/yI +Z+g== X-Gm-Message-State: AOJu0YyR4QpxFXysNCxu/egA8VKAi812V6n2hkGFVmZY4iBE5CtsoBNX V5uXk0r6vnHEWRXN7kYdH9pFfXGPg9k074iY5NPZOq4OZ17C7brHAqj+Esy8pTmaaSG3OO9GO88 j8DPdS3kXjk4Xg22IWaOYV5ZXQ96SnHGt0jHfmMLm X-Gm-Gg: ASbGncvgjzjZmRQHLw8xMuizm5yWs/lY7+Pvx9Ll1MGUihKcxt4DWV8AG006f+FHb/U cb9jKd1o675cqs0FadEC6itmkKDlP1DBzVJXn8IHlFplE5goAySGB0JEycNpKh2Un3dbNe3yWiu 5ZoHXXEObQUWp6KBlIT/VAMleyO6asqdcnWTqL+WKDoThv66lZaFqyPYtZxksAHLJ//L8aFntTu qHF4Nu7/2w5nl3lFUkSo7QfQZ0qSxsx48buo+tF6Bx8P4XeeJG4w7Ck9RK/skp1iywvyy7suquh 6JKHdbgK+LPjOB4lQKeQyIadOUmW+EAI8eA0WWrRciDHDYcvUvzJQ8uWaVs= X-Google-Smtp-Source: AGHT+IGcAtn8uCoCYeHE7/jfcnRDFgTD8NEQxWD8e6NzaOpwM71myVxIq1tmByzav+tzAORzMTMUivSGBW68 X-Received: by 2002:a05:690c:4d0a:b0:70a:2c8a:ceb6 with SMTP id 00721157ae682-70a2caaff6dmr11831337b3.8.1746645699983; Wed, 07 May 2025 12:21:39 -0700 (PDT) Received: from postal.iol.unh.edu (postal.iol.unh.edu. [132.177.123.84]) by smtp-relay.gmail.com with ESMTPS id 00721157ae682-708c47017a4sm21131947b3.61.2025.05.07.12.21.39 (version=TLS1_2 cipher=ECDHE-ECDSA-AES128-GCM-SHA256 bits=128/128); Wed, 07 May 2025 12:21:39 -0700 (PDT) X-Relaying-Domain: iol.unh.edu Date: Wed, 07 May 2025 12:21:39 -0700 (PDT) Message-ID: <681bb2c3.050a0220.2d6325.adf2SMTPIN_ADDED_MISSING@mx.google.com> Received: from [172.17.0.2] (unknown [172.18.0.74]) by postal.iol.unh.edu (Postfix) with ESMTP id 9D4036052471; Wed, 7 May 2025 15:21:39 -0400 (EDT) Subject: |SUCCESS| pw153307-153308 [PATCH] [v2,2/2] app/testpmd: add sleep co From: dpdklab@iol.unh.edu To: Test Report Cc: dpdk-test-reports@iol.unh.edu In-Reply-To: References: Content-Type: text/plain X-BeenThere: test-report@dpdk.org X-Mailman-Version: 2.1.29 Precedence: list List-Id: automatic DPDK test reports List-Unsubscribe: , List-Archive: List-Post: List-Help: List-Subscribe: , Errors-To: test-report-bounces@dpdk.org Test-Label: iol-compile-amd64-testing Test-Status: SUCCESS http://dpdk.org/patch/153308 _Testing PASS_ Submitter: Anatoly Burakov Date: Tuesday, May 06 2025 13:08:19 DPDK git baseline: Repo:dpdk Branch: master CommitID:ff05ee3e3f8fb4ce958a2ce6461e8141aea959c6 153307-153308 --> testing pass Upstream job id: Windows-Compile-DPDK-Native#28272 Test environment and result as below: +-----------------------------------+--------------------+-------------------+------------------+-------------------+-------------------------+ | Environment | dpdk_meson_compile | dpdk_compile_spdk | dpdk_compile_ovs | dpdk_msvc_compile | dpdk_llvm_clang_compile | +===================================+====================+===================+==================+===================+=========================+ | CentOS Stream 10 | PASS | SKIPPED | SKIPPED | SKIPPED | SKIPPED | +-----------------------------------+--------------------+-------------------+------------------+-------------------+-------------------------+ | CentOS Stream 9 | PASS | PASS | SKIPPED | SKIPPED | SKIPPED | +-----------------------------------+--------------------+-------------------+------------------+-------------------+-------------------------+ | Debian 12 | PASS | PASS | SKIPPED | SKIPPED | SKIPPED | +-----------------------------------+--------------------+-------------------+------------------+-------------------+-------------------------+ | Fedora 40 (Clang) | PASS | PASS | SKIPPED | SKIPPED | SKIPPED | +-----------------------------------+--------------------+-------------------+------------------+-------------------+-------------------------+ | Fedora 40 | PASS | PASS | SKIPPED | SKIPPED | SKIPPED | +-----------------------------------+--------------------+-------------------+------------------+-------------------+-------------------------+ | Fedora 41 (Clang) | PASS | PASS | PASS | SKIPPED | SKIPPED | +-----------------------------------+--------------------+-------------------+------------------+-------------------+-------------------------+ | Fedora 41 | PASS | PASS | PASS | SKIPPED | SKIPPED | +-----------------------------------+--------------------+-------------------+------------------+-------------------+-------------------------+ | openSUSE Leap 15 | PASS | SKIPPED | SKIPPED | SKIPPED | SKIPPED | +-----------------------------------+--------------------+-------------------+------------------+-------------------+-------------------------+ | RHEL8 | PASS | SKIPPED | SKIPPED | SKIPPED | SKIPPED | +-----------------------------------+--------------------+-------------------+------------------+-------------------+-------------------------+ | Ubuntu 20.04 | PASS | SKIPPED | SKIPPED | SKIPPED | SKIPPED | +-----------------------------------+--------------------+-------------------+------------------+-------------------+-------------------------+ | RHEL9 | PASS | SKIPPED | SKIPPED | SKIPPED | SKIPPED | +-----------------------------------+--------------------+-------------------+------------------+-------------------+-------------------------+ | Ubuntu 22.04 | PASS | PASS | SKIPPED | SKIPPED | SKIPPED | +-----------------------------------+--------------------+-------------------+------------------+-------------------+-------------------------+ | Alpine | PASS | SKIPPED | SKIPPED | SKIPPED | SKIPPED | +-----------------------------------+--------------------+-------------------+------------------+-------------------+-------------------------+ | Ubuntu 24.04 32 Bit Cross Compile | PASS | SKIPPED | SKIPPED | SKIPPED | SKIPPED | +-----------------------------------+--------------------+-------------------+------------------+-------------------+-------------------------+ | FreeBSD 13.5 | PASS | SKIPPED | SKIPPED | SKIPPED | SKIPPED | +-----------------------------------+--------------------+-------------------+------------------+-------------------+-------------------------+ | FreeBSD 14.2 | PASS | SKIPPED | SKIPPED | SKIPPED | SKIPPED | +-----------------------------------+--------------------+-------------------+------------------+-------------------+-------------------------+ | Ubuntu 24.04 | PASS | PASS | PASS | SKIPPED | SKIPPED | +-----------------------------------+--------------------+-------------------+------------------+-------------------+-------------------------+ | Windows Server 2022 | SKIPPED | SKIPPED | SKIPPED | PASS | PASS | +-----------------------------------+--------------------+-------------------+------------------+-------------------+-------------------------+ CentOS Stream 10 Kernel: Depends on container host Compiler: gcc 14.2.1 20241104 (Red Hat 14.2.1-6) CentOS Stream 9 Kernel: Depends on container host Compiler: gcc 11.5.0 20240719 (Red Hat 11.5.0-2) Debian 12 Kernel: Depends on container host Compiler: gcc (Debian 12.2.0-14) 12.2.0 Fedora 40 (Clang) Kernel: Depends on container host Compiler: clang 18.1.8 (Fedora 18.1.8-1.fc40) Fedora 40 Kernel: Depends on container host Compiler: gcc 14.2.1 20240912 (Red Hat 14.2.1-3) Fedora 41 (Clang) Kernel: Depends on container host Compiler: clang 19.1.5 (Fedora 19.1.5-1.fc41) Fedora 41 Kernel: Depends on container host Compiler: gcc 14.2.1 20240912 (Red Hat 14.2.1-3) openSUSE Leap 15 Kernel: Depends on container host Compiler: gcc (SUSE Linux) 7.5.0 RHEL8 Kernel: Depends on container host Compiler: gcc 8.5.0 20210514 (Red Hat 8.5.0-22) Ubuntu 20.04 Kernel: 4.19.325-0419325-generic Compiler: gcc (Ubuntu 9.4.0-1ubuntu1~20.04.2) 9.4.0 RHEL9 Kernel: Depends on container host Compiler: gcc 11.5.0 20240719 (Red Hat 11.5.0-2) Ubuntu 22.04 Kernel: Depends on container host Compiler: gcc (Ubuntu 11.4.0-1ubuntu1~22.04) 11.4.0 Alpine Kernel: Depends on container host Compiler: gcc (Alpine 14.2.0) 14.2.0 Ubuntu 24.04 32 Bit Cross Compile Kernel: Depends on container host Compiler: gcc (Ubuntu 13.3.0-6ubuntu2~24.04) 13.3.0 FreeBSD 13.5 Kernel: 13.5-RELEASE Compiler: clang 19.1.7 FreeBSD 14.2 Kernel: 14.2-RELEASE Compiler: clang 18.1.6 Ubuntu 24.04 Kernel: Depends on container host Compiler: gcc (Ubuntu 13.3.0-6ubuntu2~24.04) 13.3.0 Windows Server 2022 Kernel: 10.0.20348.2031 Compiler: clang 15.0.7, gcc 14.1.0 (MinGW), and MSVC VS 19.39.33521 To view detailed results, visit: https://lab.dpdk.org/results/dashboard/patchsets/33120/ UNH-IOL DPDK Community Lab To manage your email subscriptions, visit: https://lab.dpdk.org/results/dashboard/preferences/subscriptions/