From mboxrd@z Thu Jan 1 00:00:00 1970 Return-Path: Received: from mails.dpdk.org (mails.dpdk.org [217.70.189.124]) by inbox.dpdk.org (Postfix) with ESMTP id 32104466EB for ; Wed, 7 May 2025 21:35:36 +0200 (CEST) Received: from mails.dpdk.org (localhost [127.0.0.1]) by mails.dpdk.org (Postfix) with ESMTP id 09A344025D; Wed, 7 May 2025 21:35:36 +0200 (CEST) Received: from mail-ua1-f100.google.com (mail-ua1-f100.google.com [209.85.222.100]) by mails.dpdk.org (Postfix) with ESMTP id A67D04025A for ; Wed, 7 May 2025 21:35:34 +0200 (CEST) Received: by mail-ua1-f100.google.com with SMTP id a1e0cc1a2514c-86d6fd581f4so734480241.1 for ; Wed, 07 May 2025 12:35:34 -0700 (PDT) DKIM-Signature: v=1; a=rsa-sha256; c=relaxed/relaxed; d=iol.unh.edu; s=unh-iol; t=1746646534; x=1747251334; darn=dpdk.org; h=cc:to:from:subject:message-id:date:from:to:cc:subject:date :message-id:reply-to; bh=iZPCVRMZjJfjElABX/A3LBudMw44YjSZ3KL8e4RmKjY=; b=W7n5kc7PCns09E8bV9O0DytMj/yGU9vWXsRdwgT2Sy6e2J2Qku+DGkaAmz5xYZMeg0 9QUWmidVriamyEE9Jnlvr9F4nLuVxnHyil+sq2Mg0Q+hqAEsC92zkZCHVK8vFIBDZfpD 3dwm5eJdM9ZkGTAfQWNf6YsSIvwBLMW26kSnU= X-Google-DKIM-Signature: v=1; a=rsa-sha256; c=relaxed/relaxed; d=1e100.net; s=20230601; t=1746646534; x=1747251334; h=cc:to:from:subject:message-id:date:x-gm-message-state:from:to:cc :subject:date:message-id:reply-to; bh=iZPCVRMZjJfjElABX/A3LBudMw44YjSZ3KL8e4RmKjY=; b=Ch7fo+XRJRJMRLHbTjMyY2Itqun9aPfgohVmyByU4e9oj66sM3o97pFA8hYvWmPrrm 1q22oN4s1waKtcCG6Ilm9FbVuTqRcXKvuykhPjS3PjffY98Q3TToiR0i/en38sUfq/a2 MlDSo5Y/O37QZov12U3u8dCqID5lSVotng6X+BSdWVMwxi/GriBIjV3tcjzHjq8UbOQW TgwCT4hmjmO8b5iKdwCloraFvodNAAD4xEGVdLF0xe3AW7QWP7ZNhLzwaBYXD11yskgq J1C0rzD5jx4bM/vkUKIbCJBTWdpApafikyV/jtgR/uscleJbk68lAU3TnD+ql3vs7HlY 7hsA== X-Gm-Message-State: AOJu0YwVtMQLvGfLuFaPwpBem/71xTyHndXhm53PI2AeTj+84+GvRO/f p/qaejaexRBn0liXqD3SUfrqOaTmZye8Z3nayTZuUGEr4/g6s8tqxNxdcZS/3h6bWcS8FqPAjH9 391caM4xinzKeQpO4Hi3VSd/h8rv2gxnksOmhvtrp X-Gm-Gg: ASbGncva5mLzNNBYxR+qzaaXtLruxPEudKFfSLh7RWdMitnUDvP8/4DLDaFTfZkghxU GfDD64XWbTg9+AoFedS9pb0QgRmNQ2zNrPTwc1Nu5271K+XSJTyBmTSfMOFswY6Xz0aGZa73zux KJxFrPQ9CdAHF0rZYiR0gfZnqS92I2xJ2b9pbQHrAwigEK49st0rI4+vzGzv7kDXakHWUuRpIsL 7CRjxC5Me+uNiq5Ml++WuRr/CBpAUiCRzZ21rniWYu7H4W8Qybm8pDbSe8HsSA/kF6UlGbP47II O5CMTj4hpcwdw0iuCU0gVdswuCHwLTevMdu1xj7B5MAS6KxTO8O7W6dqp64= X-Google-Smtp-Source: AGHT+IFeuAOXW+RA1gOne8KpS1v4xyVe8x6rzdSDvaKQhGwM0taNUwCDweFjO5kFFrDssRhu5QOs+Fg7ukUC X-Received: by 2002:a05:6122:4585:b0:50d:39aa:7881 with SMTP id 71dfb90a1353d-52c43aa87dcmr1070269e0c.0.1746646533896; Wed, 07 May 2025 12:35:33 -0700 (PDT) Received: from postal.iol.unh.edu (postal.iol.unh.edu. [132.177.123.84]) by smtp-relay.gmail.com with ESMTPS id 71dfb90a1353d-52ae41343d3sm2210012e0c.9.2025.05.07.12.35.33 (version=TLS1_2 cipher=ECDHE-ECDSA-AES128-GCM-SHA256 bits=128/128); Wed, 07 May 2025 12:35:33 -0700 (PDT) X-Relaying-Domain: iol.unh.edu Date: Wed, 07 May 2025 12:35:33 -0700 (PDT) Message-ID: <681bb605.050a0220.3959c8.dfdeSMTPIN_ADDED_MISSING@mx.google.com> Received: from [172.17.0.2] (unknown [172.18.0.74]) by postal.iol.unh.edu (Postfix) with ESMTP id 8AA6D6052471; Wed, 7 May 2025 15:35:33 -0400 (EDT) Subject: |SUCCESS| [GIT MASTER] 7cf0355db9fdab5648b05fd787356c391c510534 From: dpdklab@iol.unh.edu To: Test Report Cc: dpdk-test-reports@iol.unh.edu, Bruce Richardson Content-Type: text/plain X-BeenThere: test-report@dpdk.org X-Mailman-Version: 2.1.29 Precedence: list List-Id: automatic DPDK test reports List-Unsubscribe: , List-Archive: List-Post: List-Help: List-Subscribe: , Errors-To: test-report-bounces@dpdk.org _Testing PASS_ Branch: dpdk-next-net-intel 7cf0355db9fdab5648b05fd787356c391c510534 --> testing pass Upstream job id: Windows-Compile-DPDK-Native#28274 Test environment and result as below: +-----------------------------------+--------------------+-------------------+------------------+-------------------+-------------------------+ | Environment | dpdk_meson_compile | dpdk_compile_spdk | dpdk_compile_ovs | dpdk_msvc_compile | dpdk_llvm_clang_compile | +===================================+====================+===================+==================+===================+=========================+ | CentOS Stream 9 | PASS | PASS | SKIPPED | SKIPPED | SKIPPED | +-----------------------------------+--------------------+-------------------+------------------+-------------------+-------------------------+ | CentOS Stream 10 | PASS | SKIPPED | SKIPPED | SKIPPED | SKIPPED | +-----------------------------------+--------------------+-------------------+------------------+-------------------+-------------------------+ | Debian 12 | PASS | PASS | SKIPPED | SKIPPED | SKIPPED | +-----------------------------------+--------------------+-------------------+------------------+-------------------+-------------------------+ | Fedora 40 (Clang) | PASS | PASS | SKIPPED | SKIPPED | SKIPPED | +-----------------------------------+--------------------+-------------------+------------------+-------------------+-------------------------+ | Fedora 41 | PASS | PASS | PASS | SKIPPED | SKIPPED | +-----------------------------------+--------------------+-------------------+------------------+-------------------+-------------------------+ | Fedora 40 | PASS | PASS | SKIPPED | SKIPPED | SKIPPED | +-----------------------------------+--------------------+-------------------+------------------+-------------------+-------------------------+ | openSUSE Leap 15 | PASS | SKIPPED | SKIPPED | SKIPPED | SKIPPED | +-----------------------------------+--------------------+-------------------+------------------+-------------------+-------------------------+ | RHEL8 | PASS | SKIPPED | SKIPPED | SKIPPED | SKIPPED | +-----------------------------------+--------------------+-------------------+------------------+-------------------+-------------------------+ | Fedora 41 (Clang) | PASS | PASS | PASS | SKIPPED | SKIPPED | +-----------------------------------+--------------------+-------------------+------------------+-------------------+-------------------------+ | RHEL9 | PASS | SKIPPED | SKIPPED | SKIPPED | SKIPPED | +-----------------------------------+--------------------+-------------------+------------------+-------------------+-------------------------+ | Ubuntu 20.04 | PASS | SKIPPED | SKIPPED | SKIPPED | SKIPPED | +-----------------------------------+--------------------+-------------------+------------------+-------------------+-------------------------+ | Ubuntu 22.04 | PASS | PASS | SKIPPED | SKIPPED | SKIPPED | +-----------------------------------+--------------------+-------------------+------------------+-------------------+-------------------------+ | Ubuntu 24.04 | PASS | PASS | PASS | SKIPPED | SKIPPED | +-----------------------------------+--------------------+-------------------+------------------+-------------------+-------------------------+ | Alpine | PASS | SKIPPED | SKIPPED | SKIPPED | SKIPPED | +-----------------------------------+--------------------+-------------------+------------------+-------------------+-------------------------+ | Ubuntu 24.04 32 Bit Cross Compile | PASS | SKIPPED | SKIPPED | SKIPPED | SKIPPED | +-----------------------------------+--------------------+-------------------+------------------+-------------------+-------------------------+ | FreeBSD 13.5 | PASS | SKIPPED | SKIPPED | SKIPPED | SKIPPED | +-----------------------------------+--------------------+-------------------+------------------+-------------------+-------------------------+ | FreeBSD 14.2 | PASS | SKIPPED | SKIPPED | SKIPPED | SKIPPED | +-----------------------------------+--------------------+-------------------+------------------+-------------------+-------------------------+ | Windows Server 2022 | SKIPPED | SKIPPED | SKIPPED | PASS | PASS | +-----------------------------------+--------------------+-------------------+------------------+-------------------+-------------------------+ CentOS Stream 9 Kernel: Depends on container host Compiler: gcc 11.5.0 20240719 (Red Hat 11.5.0-2) CentOS Stream 10 Kernel: Depends on container host Compiler: gcc 14.2.1 20241104 (Red Hat 14.2.1-6) Debian 12 Kernel: Depends on container host Compiler: gcc (Debian 12.2.0-14) 12.2.0 Fedora 40 (Clang) Kernel: Depends on container host Compiler: clang 18.1.8 (Fedora 18.1.8-1.fc40) Fedora 41 Kernel: Depends on container host Compiler: gcc 14.2.1 20240912 (Red Hat 14.2.1-3) Fedora 40 Kernel: Depends on container host Compiler: gcc 14.2.1 20240912 (Red Hat 14.2.1-3) openSUSE Leap 15 Kernel: Depends on container host Compiler: gcc (SUSE Linux) 7.5.0 RHEL8 Kernel: Depends on container host Compiler: gcc 8.5.0 20210514 (Red Hat 8.5.0-22) Fedora 41 (Clang) Kernel: Depends on container host Compiler: clang 19.1.5 (Fedora 19.1.5-1.fc41) RHEL9 Kernel: Depends on container host Compiler: gcc 11.5.0 20240719 (Red Hat 11.5.0-2) Ubuntu 20.04 Kernel: Depends on container host Compiler: gcc (Ubuntu 9.4.0-1ubuntu1~20.04.2) 9.4.0 Ubuntu 22.04 Kernel: Depends on container host Compiler: gcc (Ubuntu 11.4.0-1ubuntu1~22.04) 11.4.0 Ubuntu 24.04 Kernel: Depends on container host Compiler: gcc (Ubuntu 13.3.0-6ubuntu2~24.04) 13.3.0 Alpine Kernel: Depends on container host Compiler: gcc (Alpine 14.2.0) 14.2.0 Ubuntu 24.04 32 Bit Cross Compile Kernel: Depends on container host Compiler: gcc (Ubuntu 13.3.0-6ubuntu2~24.04) 13.3.0 FreeBSD 13.5 Kernel: 13.5-RELEASE Compiler: clang 19.1.7 FreeBSD 14.2 Kernel: 14.2-RELEASE Compiler: clang 18.1.6 Windows Server 2022 Kernel: 10.0.20348.2031 Compiler: clang 15.0.7, gcc 14.1.0 (MinGW), and MSVC VS 19.39.33521 To view detailed results, visit: https://lab.dpdk.org/results/dashboard/tarballs/33467/ UNH-IOL DPDK Community Lab To manage your email subscriptions, visit: https://lab.dpdk.org/results/dashboard/preferences/subscriptions/