From mboxrd@z Thu Jan 1 00:00:00 1970 Return-Path: Received: from mails.dpdk.org (mails.dpdk.org [217.70.189.124]) by inbox.dpdk.org (Postfix) with ESMTP id 60422466EB for ; Wed, 7 May 2025 21:37:50 +0200 (CEST) Received: from mails.dpdk.org (localhost [127.0.0.1]) by mails.dpdk.org (Postfix) with ESMTP id 476904025D; Wed, 7 May 2025 21:37:50 +0200 (CEST) Received: from mail-pl1-f227.google.com (mail-pl1-f227.google.com [209.85.214.227]) by mails.dpdk.org (Postfix) with ESMTP id A770A4025A for ; Wed, 7 May 2025 21:37:48 +0200 (CEST) Received: by mail-pl1-f227.google.com with SMTP id d9443c01a7336-22e45088d6eso4381105ad.0 for ; Wed, 07 May 2025 12:37:48 -0700 (PDT) DKIM-Signature: v=1; a=rsa-sha256; c=relaxed/relaxed; d=iol.unh.edu; s=unh-iol; t=1746646667; x=1747251467; darn=dpdk.org; h=cc:to:from:subject:message-id:date:from:to:cc:subject:date :message-id:reply-to; bh=fsd3mPrkUeho12gQZz4NqJrugp4GUqIq5JTiSZoJKUA=; b=Y72w/c/jyopIvYpQWaGJzmbP7Af45+mBMErh2yGTYmJmMiv1x1EKzJTkVvzP3PU3lV 5U7Tmv69dgQysQ6b2saNSj1YHKL2kMDffPyGWJ5HcGh432S0lkZYDJWGSyV92K7VQMVk nD91v4V90xmyTIncNGik+f/dsa94pKIni46DY= X-Google-DKIM-Signature: v=1; a=rsa-sha256; c=relaxed/relaxed; d=1e100.net; s=20230601; t=1746646667; x=1747251467; h=cc:to:from:subject:message-id:date:x-gm-message-state:from:to:cc :subject:date:message-id:reply-to; bh=fsd3mPrkUeho12gQZz4NqJrugp4GUqIq5JTiSZoJKUA=; b=dUJWK2xE2DFBQDnJ6bVDGjT22WFsLtdeH/ob32Ey9ggnjSxcHI+5efce3F3aLzzpPT /1dP6NHIO36BkO3wDCtyUxkEwh5Z9LK+Lz3cF7hz9Mb5pOsKZ4vQVvAGkLq+XTmHRMzK zndsjFP/fIDe4hl3+jmajlETf79/FH1myCpEtF5naNjSttdDzfHFF0Mf94Hhotkq86AE zHgL2eGd5HjBcaysdqhtTMzAtdNH25iJYPH9/WZITLz0JluktllymOIGifKgm6rADxFM VihwTJnAa5SGIFP0nd0HO0TZfolt/W7ebM16ddclyNKGMm23qrJ0kbuVeOLYFZAiPmpD /TTQ== X-Gm-Message-State: AOJu0YyP2L25fzqo/+DV2UC7Rp7y+3PMwjXA4nQUmK3xMMsHEVtyE47H VXHQTpZq7OU/Of1JBsOLnJsSwE4mz4n8eCUjg24vH5shSyh9KJKoAHK22GQMUgDzZtRu+f2b5uZ 2uxaj54VTm4dGe4kB2vsflEPHRuELl6VHMvx27fwz X-Gm-Gg: ASbGncubwiyn6TZ4nqXdU/PIc71LhiHO/pgKryCWWkuW/nDhxVCTJQ8cFIa9Dkj7BFE UR2ydUt1W6xyUXPHEtgZYC0CmUWZy/kLEBM6lSp5+GxzD1GFqq1DsBhla+lUSA0B6yAWDmo1w6M EAbfMYa+FJMxRvWAkeHWLzjRqGk0YZayQDmU9jDmEB/mR/sq9w3E9N3cGb2UDJaEfgVxA74kxAV V0XjmMW7c0D6t0iSmipY9hmm5UW9a59Sb79vKL348B1q+ar9WG4J2/42XEez6cFTc/dvQ1ukIUC fj59l26skRGGIgCVUeiys4kTnoXXTqwXFh3WWOfOrDbslelQS2Tj8UpthC0= X-Google-Smtp-Source: AGHT+IGr5AhNltiu8Z1QDfD0PxohMq22/POUuwxLDuXAZr6vPihVwjfAa84yloIVdAsA4D3Ro7lZ1FAKPKf7 X-Received: by 2002:a17:902:d54f:b0:223:635d:3e38 with SMTP id d9443c01a7336-22e5ea6ba5amr65683095ad.15.1746646667615; Wed, 07 May 2025 12:37:47 -0700 (PDT) Received: from postal.iol.unh.edu (postal.iol.unh.edu. [132.177.123.84]) by smtp-relay.gmail.com with ESMTPS id d9443c01a7336-22e72d5b91asm597985ad.12.2025.05.07.12.37.47 (version=TLS1_2 cipher=ECDHE-ECDSA-AES128-GCM-SHA256 bits=128/128); Wed, 07 May 2025 12:37:47 -0700 (PDT) X-Relaying-Domain: iol.unh.edu Date: Wed, 07 May 2025 12:37:47 -0700 (PDT) Message-ID: <681bb68b.170a0220.b73c3.32b3SMTPIN_ADDED_MISSING@mx.google.com> Received: from [172.17.0.2] (unknown [172.18.0.74]) by postal.iol.unh.edu (Postfix) with ESMTP id C30E36052471; Wed, 7 May 2025 15:37:46 -0400 (EDT) Subject: |SUCCESS| [GIT MASTER] 7cf0355db9fdab5648b05fd787356c391c510534 From: dpdklab@iol.unh.edu To: Test Report Cc: dpdk-test-reports@iol.unh.edu, Bruce Richardson Content-Type: text/plain X-BeenThere: test-report@dpdk.org X-Mailman-Version: 2.1.29 Precedence: list List-Id: automatic DPDK test reports List-Unsubscribe: , List-Archive: List-Post: List-Help: List-Subscribe: , Errors-To: test-report-bounces@dpdk.org _Testing PASS_ Branch: dpdk-next-net-intel 7cf0355db9fdab5648b05fd787356c391c510534 --> testing pass Upstream job id: Windows-Compile-DPDK-Native#28275 Test environment and result as below: +-----------------------------------+--------------------+-------------------+------------------+-------------------+-------------------------+----------------------+ | Environment | dpdk_meson_compile | dpdk_compile_spdk | dpdk_compile_ovs | dpdk_msvc_compile | dpdk_llvm_clang_compile | dpdk_mingw64_compile | +===================================+====================+===================+==================+===================+=========================+======================+ | CentOS Stream 9 | PASS | PASS | SKIPPED | SKIPPED | SKIPPED | SKIPPED | +-----------------------------------+--------------------+-------------------+------------------+-------------------+-------------------------+----------------------+ | CentOS Stream 10 | PASS | SKIPPED | SKIPPED | SKIPPED | SKIPPED | SKIPPED | +-----------------------------------+--------------------+-------------------+------------------+-------------------+-------------------------+----------------------+ | Debian 12 | PASS | PASS | SKIPPED | SKIPPED | SKIPPED | SKIPPED | +-----------------------------------+--------------------+-------------------+------------------+-------------------+-------------------------+----------------------+ | Fedora 40 (Clang) | PASS | PASS | SKIPPED | SKIPPED | SKIPPED | SKIPPED | +-----------------------------------+--------------------+-------------------+------------------+-------------------+-------------------------+----------------------+ | Fedora 41 | PASS | PASS | PASS | SKIPPED | SKIPPED | SKIPPED | +-----------------------------------+--------------------+-------------------+------------------+-------------------+-------------------------+----------------------+ | Fedora 40 | PASS | PASS | SKIPPED | SKIPPED | SKIPPED | SKIPPED | +-----------------------------------+--------------------+-------------------+------------------+-------------------+-------------------------+----------------------+ | openSUSE Leap 15 | PASS | SKIPPED | SKIPPED | SKIPPED | SKIPPED | SKIPPED | +-----------------------------------+--------------------+-------------------+------------------+-------------------+-------------------------+----------------------+ | RHEL8 | PASS | SKIPPED | SKIPPED | SKIPPED | SKIPPED | SKIPPED | +-----------------------------------+--------------------+-------------------+------------------+-------------------+-------------------------+----------------------+ | Fedora 41 (Clang) | PASS | PASS | PASS | SKIPPED | SKIPPED | SKIPPED | +-----------------------------------+--------------------+-------------------+------------------+-------------------+-------------------------+----------------------+ | RHEL9 | PASS | SKIPPED | SKIPPED | SKIPPED | SKIPPED | SKIPPED | +-----------------------------------+--------------------+-------------------+------------------+-------------------+-------------------------+----------------------+ | Ubuntu 20.04 | PASS | SKIPPED | SKIPPED | SKIPPED | SKIPPED | SKIPPED | +-----------------------------------+--------------------+-------------------+------------------+-------------------+-------------------------+----------------------+ | Ubuntu 22.04 | PASS | PASS | SKIPPED | SKIPPED | SKIPPED | SKIPPED | +-----------------------------------+--------------------+-------------------+------------------+-------------------+-------------------------+----------------------+ | Ubuntu 24.04 | PASS | PASS | PASS | SKIPPED | SKIPPED | SKIPPED | +-----------------------------------+--------------------+-------------------+------------------+-------------------+-------------------------+----------------------+ | Alpine | PASS | SKIPPED | SKIPPED | SKIPPED | SKIPPED | SKIPPED | +-----------------------------------+--------------------+-------------------+------------------+-------------------+-------------------------+----------------------+ | Ubuntu 24.04 32 Bit Cross Compile | PASS | SKIPPED | SKIPPED | SKIPPED | SKIPPED | SKIPPED | +-----------------------------------+--------------------+-------------------+------------------+-------------------+-------------------------+----------------------+ | FreeBSD 13.5 | PASS | SKIPPED | SKIPPED | SKIPPED | SKIPPED | SKIPPED | +-----------------------------------+--------------------+-------------------+------------------+-------------------+-------------------------+----------------------+ | FreeBSD 14.2 | PASS | SKIPPED | SKIPPED | SKIPPED | SKIPPED | SKIPPED | +-----------------------------------+--------------------+-------------------+------------------+-------------------+-------------------------+----------------------+ | Windows Server 2022 | SKIPPED | SKIPPED | SKIPPED | PASS | PASS | PASS | +-----------------------------------+--------------------+-------------------+------------------+-------------------+-------------------------+----------------------+ CentOS Stream 9 Kernel: Depends on container host Compiler: gcc 11.5.0 20240719 (Red Hat 11.5.0-2) CentOS Stream 10 Kernel: Depends on container host Compiler: gcc 14.2.1 20241104 (Red Hat 14.2.1-6) Debian 12 Kernel: Depends on container host Compiler: gcc (Debian 12.2.0-14) 12.2.0 Fedora 40 (Clang) Kernel: Depends on container host Compiler: clang 18.1.8 (Fedora 18.1.8-1.fc40) Fedora 41 Kernel: Depends on container host Compiler: gcc 14.2.1 20240912 (Red Hat 14.2.1-3) Fedora 40 Kernel: Depends on container host Compiler: gcc 14.2.1 20240912 (Red Hat 14.2.1-3) openSUSE Leap 15 Kernel: Depends on container host Compiler: gcc (SUSE Linux) 7.5.0 RHEL8 Kernel: Depends on container host Compiler: gcc 8.5.0 20210514 (Red Hat 8.5.0-22) Fedora 41 (Clang) Kernel: Depends on container host Compiler: clang 19.1.5 (Fedora 19.1.5-1.fc41) RHEL9 Kernel: Depends on container host Compiler: gcc 11.5.0 20240719 (Red Hat 11.5.0-2) Ubuntu 20.04 Kernel: Depends on container host Compiler: gcc (Ubuntu 9.4.0-1ubuntu1~20.04.2) 9.4.0 Ubuntu 22.04 Kernel: Depends on container host Compiler: gcc (Ubuntu 11.4.0-1ubuntu1~22.04) 11.4.0 Ubuntu 24.04 Kernel: Depends on container host Compiler: gcc (Ubuntu 13.3.0-6ubuntu2~24.04) 13.3.0 Alpine Kernel: Depends on container host Compiler: gcc (Alpine 14.2.0) 14.2.0 Ubuntu 24.04 32 Bit Cross Compile Kernel: Depends on container host Compiler: gcc (Ubuntu 13.3.0-6ubuntu2~24.04) 13.3.0 FreeBSD 13.5 Kernel: 13.5-RELEASE Compiler: clang 19.1.7 FreeBSD 14.2 Kernel: 14.2-RELEASE Compiler: clang 18.1.6 Windows Server 2022 Kernel: 10.0.20348.2031 Compiler: clang 15.0.7, gcc 14.1.0 (MinGW), and MSVC VS 19.39.33521 To view detailed results, visit: https://lab.dpdk.org/results/dashboard/tarballs/33467/ UNH-IOL DPDK Community Lab To manage your email subscriptions, visit: https://lab.dpdk.org/results/dashboard/preferences/subscriptions/