From mboxrd@z Thu Jan 1 00:00:00 1970 Return-Path: Received: from mails.dpdk.org (mails.dpdk.org [217.70.189.124]) by inbox.dpdk.org (Postfix) with ESMTP id C1E75466EB for ; Wed, 7 May 2025 21:53:12 +0200 (CEST) Received: from mails.dpdk.org (localhost [127.0.0.1]) by mails.dpdk.org (Postfix) with ESMTP id 843C54025D; Wed, 7 May 2025 21:53:12 +0200 (CEST) Received: from mail-pl1-f228.google.com (mail-pl1-f228.google.com [209.85.214.228]) by mails.dpdk.org (Postfix) with ESMTP id 29D9B4025A for ; Wed, 7 May 2025 21:53:11 +0200 (CEST) Received: by mail-pl1-f228.google.com with SMTP id d9443c01a7336-22e45088d6eso4555285ad.0 for ; Wed, 07 May 2025 12:53:11 -0700 (PDT) DKIM-Signature: v=1; a=rsa-sha256; c=relaxed/relaxed; d=iol.unh.edu; s=unh-iol; t=1746647590; x=1747252390; darn=dpdk.org; h=references:in-reply-to:cc:to:from:subject:message-id:date:from:to :cc:subject:date:message-id:reply-to; bh=8gSjAtHC32DpdQd+BWL44m+RG8WJ1dYwwMwLAcg29y8=; b=PgFhITqs5iwdf3ic0W6oEiCDfhn3kAb7v3jA2LIRUz4ScDBQB9mWpi6yifDFeufCwA 5N33zRTxgmxUoPe2t51onHbhjqoqGzqaFRvej0+/TUURd/w+3IKH8dAYtZTmPZacnZOm J7+ytz52eM5u7P4DYTq5syWc925RWcqog+FjE= X-Google-DKIM-Signature: v=1; a=rsa-sha256; c=relaxed/relaxed; d=1e100.net; s=20230601; t=1746647590; x=1747252390; h=references:in-reply-to:cc:to:from:subject:message-id:date :x-gm-message-state:from:to:cc:subject:date:message-id:reply-to; bh=8gSjAtHC32DpdQd+BWL44m+RG8WJ1dYwwMwLAcg29y8=; b=qdzIdcovFIKkmRk6t0mAJStxMwZexzRI0MYJ9FPn8Vdk7vboyEhbvq8oCqU88sItyh uQierOHSsX5d9rfhhdWZt1l7c0ftWYw4wcoG5/cvGsS/Yi1syImb7mcL2pD2bZ7He7Lc 8itXkbFyo//3jYqNvj74X18eIgcmAIzXs8Wj86fg63YaBFJOHnj2pNi9RRzhr2B4aITS GskwvkVBNipj9Z8zehsiW7wE6A2vInrtsdGHSONKUk6U24FKDHhcmjtdrI451xUqMaZ8 JqOWXtVA9iaMbFso4pqicW9J4aVfe0lUOTasvvb2Cc2hs2KfOUC2xdFq7kIsnrGi2xu8 2VMw== X-Gm-Message-State: AOJu0YzswV5olSx3hB7p1fk/ocU9Prj6ZX4aIJf+UZq3R0Jd+I+9Pgxa +eCNe/Z/L8dC7DwAmSn6zwcApt71eDqVs/beTk4X0znxNGThdRTAiAxIMegX0z8WLmeYX8dyvwx LeLGnckatMzvbafoXyAgLDD3YTneAyX2TM8jipFTO X-Gm-Gg: ASbGncsxh7fod7ii8PDtaQw2417guMvq1tgEq0A/VVq6Ttc09Ea6sGQk90AGbX5tMqw N1Y9SriNqZLnb0ZmN3lncIyBhBl7UjvmlBOt0F9+ySki1EIDNFY03C3Hy87zO0jPObm5Ut1+DEV 6487uTYOcyX3cpv4navv8TYlm918YLlmevhscTWL7OF8iHDACIqvnzvH9KLXttOV233/Bhj5cyp 5VNveWbyhBT7DWuitR5VCGt27ARu73Ff7M0tWNYFWT+XX5ArmUEnY1x+PMyRkStBHBY2liW79vR zPW8Qe5q4AqZ5Js+l7PE9milfQ72ZEnFI+NknrRmN2rJ+JPo154gaJPnv2M= X-Google-Smtp-Source: AGHT+IHOfw6v4QV1mD8mwu4ZV3xHp/+QK3MOfqPrk0jD5II9BLQRsT/OGFbxl1bV6hZm0O32dftuku8uIBhJ X-Received: by 2002:a17:902:cf01:b0:224:8bf:6d81 with SMTP id d9443c01a7336-22e5ede6e36mr67371045ad.46.1746647590083; Wed, 07 May 2025 12:53:10 -0700 (PDT) Received: from postal.iol.unh.edu (postal.iol.unh.edu. [132.177.123.84]) by smtp-relay.gmail.com with ESMTPS id d9443c01a7336-22e151e9e58sm18874745ad.52.2025.05.07.12.53.09 (version=TLS1_2 cipher=ECDHE-ECDSA-AES128-GCM-SHA256 bits=128/128); Wed, 07 May 2025 12:53:10 -0700 (PDT) X-Relaying-Domain: iol.unh.edu Date: Wed, 07 May 2025 12:53:10 -0700 (PDT) Message-ID: <681bba26.170a0220.345129.ce22SMTPIN_ADDED_MISSING@mx.google.com> Received: from [172.17.0.2] (unknown [172.18.0.74]) by postal.iol.unh.edu (Postfix) with ESMTP id 8A3E16052471; Wed, 7 May 2025 15:53:09 -0400 (EDT) Subject: |SUCCESS| pw153307-153308 [PATCH] [v2,2/2] app/testpmd: add sleep co From: dpdklab@iol.unh.edu To: Test Report Cc: dpdk-test-reports@iol.unh.edu In-Reply-To: References: Content-Type: text/plain X-BeenThere: test-report@dpdk.org X-Mailman-Version: 2.1.29 Precedence: list List-Id: automatic DPDK test reports List-Unsubscribe: , List-Archive: List-Post: List-Help: List-Subscribe: , Errors-To: test-report-bounces@dpdk.org Test-Label: iol-unit-amd64-testing Test-Status: SUCCESS http://dpdk.org/patch/153308 _Testing PASS_ Submitter: Anatoly Burakov Date: Tuesday, May 06 2025 13:08:19 DPDK git baseline: Repo:dpdk Branch: master CommitID:ff05ee3e3f8fb4ce958a2ce6461e8141aea959c6 153307-153308 --> testing pass Upstream job id: Generic-VM-Unit-Test-DPDK#28389 Test environment and result as below: +---------------------+----------------+ | Environment | dpdk_unit_test | +=====================+================+ | CentOS Stream 10 | PASS | +---------------------+----------------+ | CentOS Stream 9 | PASS | +---------------------+----------------+ | Fedora 40 (Clang) | PASS | +---------------------+----------------+ | Fedora 40 | PASS | +---------------------+----------------+ | Fedora 41 | PASS | +---------------------+----------------+ | Debian 12 | PASS | +---------------------+----------------+ | Fedora 41 (Clang) | PASS | +---------------------+----------------+ | Ubuntu 22.04 | PASS | +---------------------+----------------+ | Ubuntu 20.04 | PASS | +---------------------+----------------+ | RHEL9 | PASS | +---------------------+----------------+ | RHEL8 | PASS | +---------------------+----------------+ | Ubuntu 24.04 | PASS | +---------------------+----------------+ | Windows Server 2022 | PASS | +---------------------+----------------+ CentOS Stream 10 Kernel: Depends on container host Compiler: gcc 14.2.1 20241104 (Red Hat 14.2.1-6) CentOS Stream 9 Kernel: Depends on container host Compiler: gcc 11.5.0 20240719 (Red Hat 11.5.0-2) Fedora 40 (Clang) Kernel: Depends on container host Compiler: clang 18.1.8 (Fedora 18.1.8-1.fc40) Fedora 40 Kernel: Depends on container host Compiler: gcc 14.2.1 20240912 (Red Hat 14.2.1-3) Fedora 41 Kernel: Depends on container host Compiler: gcc 14.2.1 20240912 (Red Hat 14.2.1-3) Debian 12 Kernel: Depends on container host Compiler: gcc (Debian 12.2.0-14) 12.2.0 Fedora 41 (Clang) Kernel: Depends on container host Compiler: clang 19.1.5 (Fedora 19.1.5-1.fc41) Ubuntu 22.04 Kernel: Depends on container host Compiler: gcc (Ubuntu 11.4.0-1ubuntu1~22.04) 11.4.0 Ubuntu 20.04 Kernel: Depends on container host Compiler: gcc (Ubuntu 9.4.0-1ubuntu1~20.04.2) 9.4.0 RHEL9 Kernel: Depends on container host Compiler: gcc 11.5.0 20240719 (Red Hat 11.5.0-2) RHEL8 Kernel: Depends on container host Compiler: gcc 8.5.0 20210514 (Red Hat 8.5.0-22) Ubuntu 24.04 Kernel: Depends on container host Compiler: gcc (Ubuntu 13.3.0-6ubuntu2~24.04) 13.3.0 Windows Server 2022 Kernel: 10.0.20348.2031 Compiler: clang 15.0.7, gcc 14.1.0 (MinGW), and MSVC VS 19.39.33521 To view detailed results, visit: https://lab.dpdk.org/results/dashboard/patchsets/33120/ UNH-IOL DPDK Community Lab To manage your email subscriptions, visit: https://lab.dpdk.org/results/dashboard/preferences/subscriptions/