From mboxrd@z Thu Jan 1 00:00:00 1970 Return-Path: Received: from mails.dpdk.org (mails.dpdk.org [217.70.189.124]) by inbox.dpdk.org (Postfix) with ESMTP id 33263466EB for ; Wed, 7 May 2025 21:58:25 +0200 (CEST) Received: from mails.dpdk.org (localhost [127.0.0.1]) by mails.dpdk.org (Postfix) with ESMTP id F41624025D; Wed, 7 May 2025 21:58:24 +0200 (CEST) Received: from mail-pg1-f228.google.com (mail-pg1-f228.google.com [209.85.215.228]) by mails.dpdk.org (Postfix) with ESMTP id 21F0C4025A for ; Wed, 7 May 2025 21:58:23 +0200 (CEST) Received: by mail-pg1-f228.google.com with SMTP id 41be03b00d2f7-b1fcb97d209so1310423a12.1 for ; Wed, 07 May 2025 12:58:23 -0700 (PDT) DKIM-Signature: v=1; a=rsa-sha256; c=relaxed/relaxed; d=iol.unh.edu; s=unh-iol; t=1746647902; x=1747252702; darn=dpdk.org; h=references:in-reply-to:cc:to:from:subject:message-id:date:from:to :cc:subject:date:message-id:reply-to; bh=leH2D+OjjV8M6RYCcIjRj6rOuuuxjSfsAAnvxm0enqM=; b=azaNiOUehITviUQt+wdnHYA7c7j3p/9NYbNPjx/SZVtSehR64XF65tj46mMlERtlNw 1kq/zNbjeqCflNx9rOQMAK24aEsZg+OaaMNB1bvzlCRfTU13GEabNvgyMUA4N9bIKgbW LCACGFV8dK148G2OHdN6T2ku3OePQqq8n4JwM= X-Google-DKIM-Signature: v=1; a=rsa-sha256; c=relaxed/relaxed; d=1e100.net; s=20230601; t=1746647902; x=1747252702; h=references:in-reply-to:cc:to:from:subject:message-id:date :x-gm-message-state:from:to:cc:subject:date:message-id:reply-to; bh=leH2D+OjjV8M6RYCcIjRj6rOuuuxjSfsAAnvxm0enqM=; b=eHFP6IugIqPAhS6o1gxv83jNQXjX6Zu4MLUbn93yLOZWb8o+NEixZbUBQHkpUa5n4I sUNybt8uE8c319+YJUvewz+HsFgkVNMd8IAfoCddH5sAJMjeZJIwYaebx1TErZ8cHpyd amc1ZUQMa5LYKI2iP/28/5AxXjqy8rt5oVK3ugXTCYuVrV0vSRPISi18USX/jzcHGaNF x51j0NGd/+uSFX26RdbNQJzASb01AuTtbVug2RXWd/nmVmk3E9tKyYCzn6dWdrkNakMU RKxpvdZJ5qay8UHsA8O1txuvOxukUnc2MmgZ/Hg22l2xQarN3iNUzwczsIwwmS4fHPjc yFig== X-Gm-Message-State: AOJu0Yy/740iABzacBAgoFcOcU4KyselUFQ0KkzwALmhYa7wOAuvsnzj 1w2WWod59QW/kzUpblCsRh6a5ndotNQhFczocc7BLteB9J1DrmQuAi4XLTSHpl1kzVzlZPYL922 B/b8GZ1JcY/SnOTdvdK/FoVGbOYZV9RQlArFVxz1WW4Q5kvB1i/Z5PYHA X-Gm-Gg: ASbGnct5iqSKJtw+1tBk/Iu01RK1oRWoKCZvKCAFH7mOCApoKsz0eI04Lyv1XwOj5iF pPyIx8Leil0g/kclnbUosHriKECILkHVCIdBbBswfJfp6vyfCE/3DXReSfkWv5FXmPA4Nv5B/nE GagIJgEFBGMzyS5OEiop8YnIvF+lK4cRQFrxr45B7XdTIafwIUzLGAAwoLLhQIAqR/keqWsw2Ov o+guugbG0TD0ogLrkY0M/MFCAoUaYiQ14gIjzzeMqswi2Lg5fthuq9t4J26qddYgtlAQdOs+9fZ /LjwIF+x8Bzpe70BkxvfoyqfurHHI2nP9oI5 X-Google-Smtp-Source: AGHT+IG11z2LvWgYyNvgZyktfWC+K4PhZK1FW+J27GLerY1YxXAz8j/EJkl+o/LizASQkgckBBDrA8JOA4bO X-Received: by 2002:a17:90b:2b4d:b0:2fa:2268:1af4 with SMTP id 98e67ed59e1d1-30adbf1163emr1152227a91.7.1746647901802; Wed, 07 May 2025 12:58:21 -0700 (PDT) Received: from postal.iol.unh.edu (postal.iol.unh.edu. [2606:4100:3880:1234::84]) by smtp-relay.gmail.com with ESMTPS id d9443c01a7336-22e62c38d62sm857135ad.2.2025.05.07.12.58.21 (version=TLS1_2 cipher=ECDHE-ECDSA-AES128-GCM-SHA256 bits=128/128); Wed, 07 May 2025 12:58:21 -0700 (PDT) X-Relaying-Domain: iol.unh.edu Date: Wed, 07 May 2025 12:58:21 -0700 (PDT) Message-ID: <681bbb5d.170a0220.134a51.4b62SMTPIN_ADDED_MISSING@mx.google.com> Received: from [172.17.0.2] (unknown [172.18.0.74]) by postal.iol.unh.edu (Postfix) with ESMTP id 01FA96052471; Wed, 7 May 2025 15:58:21 -0400 (EDT) Subject: |SUCCESS| pw153307-153308 [PATCH] [v2,2/2] app/testpmd: add sleep co From: dpdklab@iol.unh.edu To: Test Report Cc: dpdk-test-reports@iol.unh.edu In-Reply-To: References: Content-Type: text/plain X-BeenThere: test-report@dpdk.org X-Mailman-Version: 2.1.29 Precedence: list List-Id: automatic DPDK test reports List-Unsubscribe: , List-Archive: List-Post: List-Help: List-Subscribe: , Errors-To: test-report-bounces@dpdk.org Test-Label: iol-unit-amd64-testing Test-Status: SUCCESS http://dpdk.org/patch/153308 _Testing PASS_ Submitter: Anatoly Burakov Date: Tuesday, May 06 2025 13:08:19 DPDK git baseline: Repo:dpdk Branch: master CommitID:ff05ee3e3f8fb4ce958a2ce6461e8141aea959c6 153307-153308 --> testing pass Upstream job id: Generic-VM-Unit-Test-DPDK#28390 Test environment and result as below: +---------------------+----------------+ | Environment | dpdk_unit_test | +=====================+================+ | CentOS Stream 10 | PASS | +---------------------+----------------+ | CentOS Stream 9 | PASS | +---------------------+----------------+ | Fedora 40 (Clang) | PASS | +---------------------+----------------+ | Fedora 40 | PASS | +---------------------+----------------+ | Fedora 41 | PASS | +---------------------+----------------+ | Debian 12 | PASS | +---------------------+----------------+ | Fedora 41 (Clang) | PASS | +---------------------+----------------+ | Ubuntu 22.04 | PASS | +---------------------+----------------+ | Ubuntu 20.04 | PASS | +---------------------+----------------+ | RHEL9 | PASS | +---------------------+----------------+ | RHEL8 | PASS | +---------------------+----------------+ | Ubuntu 24.04 | PASS | +---------------------+----------------+ | Windows Server 2022 | PASS | +---------------------+----------------+ CentOS Stream 10 Kernel: Depends on container host Compiler: gcc 14.2.1 20241104 (Red Hat 14.2.1-6) CentOS Stream 9 Kernel: Depends on container host Compiler: gcc 11.5.0 20240719 (Red Hat 11.5.0-2) Fedora 40 (Clang) Kernel: Depends on container host Compiler: clang 18.1.8 (Fedora 18.1.8-1.fc40) Fedora 40 Kernel: Depends on container host Compiler: gcc 14.2.1 20240912 (Red Hat 14.2.1-3) Fedora 41 Kernel: Depends on container host Compiler: gcc 14.2.1 20240912 (Red Hat 14.2.1-3) Debian 12 Kernel: Depends on container host Compiler: gcc (Debian 12.2.0-14) 12.2.0 Fedora 41 (Clang) Kernel: Depends on container host Compiler: clang 19.1.5 (Fedora 19.1.5-1.fc41) Ubuntu 22.04 Kernel: Depends on container host Compiler: gcc (Ubuntu 11.4.0-1ubuntu1~22.04) 11.4.0 Ubuntu 20.04 Kernel: Depends on container host Compiler: gcc (Ubuntu 9.4.0-1ubuntu1~20.04.2) 9.4.0 RHEL9 Kernel: Depends on container host Compiler: gcc 11.5.0 20240719 (Red Hat 11.5.0-2) RHEL8 Kernel: Depends on container host Compiler: gcc 8.5.0 20210514 (Red Hat 8.5.0-22) Ubuntu 24.04 Kernel: Depends on container host Compiler: gcc (Ubuntu 13.3.0-6ubuntu2~24.04) 13.3.0 Windows Server 2022 Kernel: 10.0.20348.2031 Compiler: clang 15.0.7, gcc 14.1.0 (MinGW), and MSVC VS 19.39.33521 To view detailed results, visit: https://lab.dpdk.org/results/dashboard/patchsets/33120/ UNH-IOL DPDK Community Lab To manage your email subscriptions, visit: https://lab.dpdk.org/results/dashboard/preferences/subscriptions/