From mboxrd@z Thu Jan 1 00:00:00 1970 Return-Path: Received: from mails.dpdk.org (mails.dpdk.org [217.70.189.124]) by inbox.dpdk.org (Postfix) with ESMTP id 6E2B8466EC for ; Wed, 7 May 2025 22:14:22 +0200 (CEST) Received: from mails.dpdk.org (localhost [127.0.0.1]) by mails.dpdk.org (Postfix) with ESMTP id 6A2594025D; Wed, 7 May 2025 22:14:22 +0200 (CEST) Received: from mail-qt1-f228.google.com (mail-qt1-f228.google.com [209.85.160.228]) by mails.dpdk.org (Postfix) with ESMTP id 7FEEF4025A for ; Wed, 7 May 2025 22:14:21 +0200 (CEST) Received: by mail-qt1-f228.google.com with SMTP id d75a77b69052e-4772f48f516so15222431cf.1 for ; Wed, 07 May 2025 13:14:21 -0700 (PDT) DKIM-Signature: v=1; a=rsa-sha256; c=relaxed/relaxed; d=iol.unh.edu; s=unh-iol; t=1746648861; x=1747253661; darn=dpdk.org; h=references:in-reply-to:cc:to:from:subject:message-id:date:from:to :cc:subject:date:message-id:reply-to; bh=m9dmWrvoEwFx6EkGohE57AzX31mt4B/HezdJHwGWe28=; b=Z3JHf/1d8PRbkJs2iKQPX25CO1tBvWNS2yfC6V53qnYAFJ7CmBKtg9Y3fbKlWRK7XY BiYzk4xTLptONG+FVko9Y3ukI7NdQqpllpjVyFmvcgFY+83ghflSwcResHZRJkMOKNcs 8id/B+jsINAGVUkfpfa9kj6w4uVvdapMUQnEA= X-Google-DKIM-Signature: v=1; a=rsa-sha256; c=relaxed/relaxed; d=1e100.net; s=20230601; t=1746648861; x=1747253661; h=references:in-reply-to:cc:to:from:subject:message-id:date :x-gm-message-state:from:to:cc:subject:date:message-id:reply-to; bh=m9dmWrvoEwFx6EkGohE57AzX31mt4B/HezdJHwGWe28=; b=hycZmlfHWrt/BO4OXK7OZFqVTB72eOGczBlNuEJLj6PC99DyWFrORnUQcZ6VjU4hBC +NMmwuJUYFJtbCEpgjvnLQZS9uhaSl85bx5zhi5KJnC9gm4wrnYT+D6vPpVr1v0/WAXB DCY+WAQUD416wq32MctxzszkvEkA/w4x8gr3AF5fwguIn/HkhyJ+OFGkXgsQr3vstzHc raa7JwQAL7aSPI1dx35AigU6GJm/iXZMfJU50HWYO7aiWFXX1u4Q1KdDTEcYzV4ukfIB LL4HS9qXGOtkDp8ikHkOZZa6FWzaqaYKNWUt0X4Q6spfsdTCdoNJXel9NY8w3X7gpdFN cBNA== X-Gm-Message-State: AOJu0YzVs+go5JvqkgGpPsMFp0baDF8un66t8gwNgIkQeN6GYeSL1o/S Ag7e5q5ODhpGqz1hIviR2SmmrQnx7soByXMh5WJPRDPWbG91lmcXarNt2vDN2+ZHEvyzvdA9/Q4 jNVTmLUjHO8yKUEGlpLPIqMqxz1j0j8W/sTVUqFXM X-Gm-Gg: ASbGncuA1lcM2dRnbtSKK45/MIZSPZDakPIuhSN+hfQIULfKWsPJ662i5mRQkE/ARgn ThY8Hl0Bcdn+skZsKn7tdFEI6PWarz4Zj72g7BQD6vZE/Jf5xS6Rz8JEtHM+qtI6nIYW03rxh/M Zkl38IvicrSqBQ7CoLsqqfOsw0upuLat4W0RCfv+U0Jz7BRBfPEXTZEjD5u2CTR4btoVwcT400Q FAFZ/qS31V06l2ICo0mQXDxU7zOGKwykw3Rjwv5DIZcd5voe1Jo9pH8FsJxfpA6kt/SxJuFY/Eg yDUd++BoK27LiYVdd9N8S7BM5OfUweHFE0K8xT+lnhfslncV77CwL09OPCs= X-Google-Smtp-Source: AGHT+IEs0aJH+XgZlg4MWO4Q6d6bSIeFz+ZMgqCLbefNOC3hbBfO7b4GW+WMWeD9ciK+hTVv5Jto6SotW91P X-Received: by 2002:a05:6102:189a:b0:4c1:8ded:2d66 with SMTP id ada2fe7eead31-4ddac96e057mr734158137.12.1746648849853; Wed, 07 May 2025 13:14:09 -0700 (PDT) Received: from postal.iol.unh.edu (postal.iol.unh.edu. [132.177.123.84]) by smtp-relay.gmail.com with ESMTPS id a1e0cc1a2514c-8783f019d98sm76981241.14.2025.05.07.13.14.09 (version=TLS1_2 cipher=ECDHE-ECDSA-AES128-GCM-SHA256 bits=128/128); Wed, 07 May 2025 13:14:09 -0700 (PDT) X-Relaying-Domain: iol.unh.edu Date: Wed, 07 May 2025 13:14:09 -0700 (PDT) Message-ID: <681bbf11.050a0220.2699fb.42f8SMTPIN_ADDED_MISSING@mx.google.com> Received: from [172.17.0.2] (unknown [172.18.0.74]) by postal.iol.unh.edu (Postfix) with ESMTP id 75A416052471; Wed, 7 May 2025 16:14:09 -0400 (EDT) Subject: |SUCCESS| pw153307-153308 [PATCH] [v2,2/2] app/testpmd: add sleep co From: dpdklab@iol.unh.edu To: Test Report Cc: dpdk-test-reports@iol.unh.edu In-Reply-To: References: Content-Type: text/plain X-BeenThere: test-report@dpdk.org X-Mailman-Version: 2.1.29 Precedence: list List-Id: automatic DPDK test reports List-Unsubscribe: , List-Archive: List-Post: List-Help: List-Subscribe: , Errors-To: test-report-bounces@dpdk.org Test-Label: iol-unit-amd64-testing Test-Status: SUCCESS http://dpdk.org/patch/153308 _Testing PASS_ Submitter: Anatoly Burakov Date: Tuesday, May 06 2025 13:08:19 DPDK git baseline: Repo:dpdk Branch: master CommitID:ff05ee3e3f8fb4ce958a2ce6461e8141aea959c6 153307-153308 --> testing pass Upstream job id: Generic-VM-Unit-Test-DPDK#28392 Test environment and result as below: +---------------------+----------------+ | Environment | dpdk_unit_test | +=====================+================+ | CentOS Stream 9 | PASS | +---------------------+----------------+ | Fedora 40 | PASS | +---------------------+----------------+ | CentOS Stream 10 | PASS | +---------------------+----------------+ | Fedora 40 (Clang) | PASS | +---------------------+----------------+ | Debian 12 | PASS | +---------------------+----------------+ | RHEL8 | PASS | +---------------------+----------------+ | Fedora 41 | PASS | +---------------------+----------------+ | Fedora 41 (Clang) | PASS | +---------------------+----------------+ | Ubuntu 20.04 | PASS | +---------------------+----------------+ | RHEL9 | PASS | +---------------------+----------------+ | Ubuntu 24.04 | PASS | +---------------------+----------------+ | Ubuntu 22.04 | PASS | +---------------------+----------------+ | Windows Server 2022 | PASS | +---------------------+----------------+ CentOS Stream 9 Kernel: Depends on container host Compiler: gcc 11.5.0 20240719 (Red Hat 11.5.0-2) Fedora 40 Kernel: Depends on container host Compiler: gcc 14.2.1 20240912 (Red Hat 14.2.1-3) CentOS Stream 10 Kernel: Depends on container host Compiler: gcc 14.2.1 20241104 (Red Hat 14.2.1-6) Fedora 40 (Clang) Kernel: Depends on container host Compiler: clang 18.1.8 (Fedora 18.1.8-1.fc40) Debian 12 Kernel: Depends on container host Compiler: gcc (Debian 12.2.0-14) 12.2.0 RHEL8 Kernel: Depends on container host Compiler: gcc 8.5.0 20210514 (Red Hat 8.5.0-22) Fedora 41 Kernel: Depends on container host Compiler: gcc 14.2.1 20240912 (Red Hat 14.2.1-3) Fedora 41 (Clang) Kernel: Depends on container host Compiler: clang 19.1.5 (Fedora 19.1.5-1.fc41) Ubuntu 20.04 Kernel: Depends on container host Compiler: gcc (Ubuntu 9.4.0-1ubuntu1~20.04.2) 9.4.0 RHEL9 Kernel: Depends on container host Compiler: gcc 11.5.0 20240719 (Red Hat 11.5.0-2) Ubuntu 24.04 Kernel: Depends on container host Compiler: gcc (Ubuntu 13.3.0-6ubuntu2~24.04) 13.3.0 Ubuntu 22.04 Kernel: Depends on container host Compiler: gcc (Ubuntu 11.4.0-1ubuntu1~22.04) 11.4.0 Windows Server 2022 Kernel: 10.0.20348.2031 Compiler: clang 15.0.7, gcc 14.1.0 (MinGW), and MSVC VS 19.39.33521 To view detailed results, visit: https://lab.dpdk.org/results/dashboard/patchsets/33120/ UNH-IOL DPDK Community Lab To manage your email subscriptions, visit: https://lab.dpdk.org/results/dashboard/preferences/subscriptions/