From mboxrd@z Thu Jan 1 00:00:00 1970 Return-Path: Received: from mails.dpdk.org (mails.dpdk.org [217.70.189.124]) by inbox.dpdk.org (Postfix) with ESMTP id 2F3EE466EC for ; Wed, 7 May 2025 22:22:07 +0200 (CEST) Received: from mails.dpdk.org (localhost [127.0.0.1]) by mails.dpdk.org (Postfix) with ESMTP id 1649C4025D; Wed, 7 May 2025 22:22:07 +0200 (CEST) Received: from mail-vk1-f225.google.com (mail-vk1-f225.google.com [209.85.221.225]) by mails.dpdk.org (Postfix) with ESMTP id 37C5D4025A for ; Wed, 7 May 2025 22:22:06 +0200 (CEST) Received: by mail-vk1-f225.google.com with SMTP id 71dfb90a1353d-524038ba657so190409e0c.0 for ; Wed, 07 May 2025 13:22:06 -0700 (PDT) DKIM-Signature: v=1; a=rsa-sha256; c=relaxed/relaxed; d=iol.unh.edu; s=unh-iol; t=1746649325; x=1747254125; darn=dpdk.org; h=references:in-reply-to:cc:to:from:subject:message-id:date:from:to :cc:subject:date:message-id:reply-to; bh=zsXiPFBbHGPsxl0ScMBoKwwjuItQgJqCuE2hjpbPctk=; b=PTmbTdK3J55Eq4ezcMpanR4Ld1bBeouU7mc1EHwXs4eP/LxXXXP98PLSdyZRgvpMHg w9QYfu6CU1atzX6+xyUXvQWBmekgnt8ky/cdsoodVM+88c7o75IKCluIOOwngEOfewma V/DpKizu/3/OvuKDzXO1B0WgQhyq7/Y+npYRk= X-Google-DKIM-Signature: v=1; a=rsa-sha256; c=relaxed/relaxed; d=1e100.net; s=20230601; t=1746649325; x=1747254125; h=references:in-reply-to:cc:to:from:subject:message-id:date :x-gm-message-state:from:to:cc:subject:date:message-id:reply-to; bh=zsXiPFBbHGPsxl0ScMBoKwwjuItQgJqCuE2hjpbPctk=; b=vpsk1RotCQFKmAB93nSsYqHHmvRxEJh34y1bMhF5oRNdoW+t4keTWLmwtFN92yrM5N RoQn0TXz3dgjIgCmhgk/8P+ouukkTtDvdJ96G+y3NNqbCnJ7vsijlxCQR7sIK57UM3Sz wp38qOJAGthuMe7ZLPjrox5a/27UEft9koHe+nc1xbJxNbebwb9n7uNE9I3ahPnTuMoN vapihIoEY8h34d/QNuJcbqPyV7mAvO+DDhZPwLYEgr4HVsVZ2PEq3tGMea6E6QXHEjEX srKBDe10pxvxdYLMoQx735bVpSVEyXN5t45NZqWc/54HZsqj1/bEKW+BMLzDHMEul5a2 Hqtw== X-Gm-Message-State: AOJu0YzS2Yg/1Peilj71DyI8ZR1qjl6hsa/K1+H3R6pIk+gWeSn0ysru id1/2F/usoreGheuUIBU0atsSNW/mlkodm/n9v8oZuwAtXUEQG9cm8ukS+wvGzrDHqbEGJe2GBM JpvUzNQAxDj0escXEeMFQx/jlHIsy1yU8Sogekt1j X-Gm-Gg: ASbGncsncYtx+54XhW0tofYbtGVV8Q3LbmSUKVotoF7FfhCGVPeG3Cqxdl6Mn27VugA dkiV1aDtQAV0C1J5qIDy5GYrvTVYFaStXEkzm1PhgwOre/Y9jljt86dEAuatGs1j1JvVxP4/Kim IWzxnHUiDF7YUetAYPxugosqaub2wB0YLUseIp4zUnhvugSiEU7A8DiUrVHcld6VdfhPCyqibZw vsgA3X0/E6LhIF3MegYWVSFTtfnwl8ypdsdRdLvWLdtmZQfE9UVY8a8wRGWexYQn6QiFKJorZZZ pQRjF+4ON5gmxPYT93WHa5QUPw2nyWr6K3futHiy/zvw/LeJP4NWM2wU0zw= X-Google-Smtp-Source: AGHT+IHq7adQY8WcdGl9eLydFhEt3xPFaVcvubZxBhByjdl+QKEzgEumR9e9ReiZoaRpdJ/dYyGAJZQCQDHH X-Received: by 2002:ac5:cde1:0:b0:523:dbd5:4e7f with SMTP id 71dfb90a1353d-52c44223bfbmr868034e0c.3.1746649325614; Wed, 07 May 2025 13:22:05 -0700 (PDT) Received: from postal.iol.unh.edu (postal.iol.unh.edu. [132.177.123.84]) by smtp-relay.gmail.com with ESMTPS id a1e0cc1a2514c-8780afe9d52sm895175241.1.2025.05.07.13.22.05 (version=TLS1_2 cipher=ECDHE-ECDSA-AES128-GCM-SHA256 bits=128/128); Wed, 07 May 2025 13:22:05 -0700 (PDT) X-Relaying-Domain: iol.unh.edu Date: Wed, 07 May 2025 13:22:05 -0700 (PDT) Message-ID: <681bc0ed.050a0220.1d752c.ff06SMTPIN_ADDED_MISSING@mx.google.com> Received: from [172.17.0.2] (unknown [172.18.0.74]) by postal.iol.unh.edu (Postfix) with ESMTP id 3AF806052471; Wed, 7 May 2025 16:22:05 -0400 (EDT) Subject: |SUCCESS| pw153323-153325 [PATCH] [v2,3/3] dts: add packet capture t From: dpdklab@iol.unh.edu To: Test Report Cc: dpdk-test-reports@iol.unh.edu In-Reply-To: <20250506132933.1580584-4-luca.vizzarro@arm.com> References: <20250506132933.1580584-4-luca.vizzarro@arm.com> Content-Type: text/plain X-BeenThere: test-report@dpdk.org X-Mailman-Version: 2.1.29 Precedence: list List-Id: automatic DPDK test reports List-Unsubscribe: , List-Archive: List-Post: List-Help: List-Subscribe: , Errors-To: test-report-bounces@dpdk.org Test-Label: iol-sample-apps-testing Test-Status: SUCCESS http://dpdk.org/patch/153325 _Testing PASS_ Submitter: Luca Vizzarro Date: Tuesday, May 06 2025 13:29:33 DPDK git baseline: Repo:dpdk Branch: master CommitID:1aef42bc97a31906486c9d66b792208948af06f3 153323-153325 --> testing pass Upstream job id: ACVP-FIPS-testing#9739 Test environment and result as below: +--------------------+----------------------+----------------------+ | Environment | compressdev_zlib_pmd | dpdk_fips_validation | +====================+======================+======================+ | Ubuntu 22.04 (ARM) | PASS | SKIPPED | +--------------------+----------------------+----------------------+ | Ubuntu 22.04 | PASS | SKIPPED | +--------------------+----------------------+----------------------+ | Ubuntu 20.04 | SKIPPED | PASS | +--------------------+----------------------+----------------------+ Ubuntu 22.04 (ARM) Kernel: 5.15.0-97-generic Compiler: gcc gcc (Ubuntu 11.4.0-1ubuntu1~22.04) 11.4.0 Ubuntu 22.04 Kernel: 5.15.0-100-generic Compiler: gcc gcc (Ubuntu 11.4.0-1ubuntu1~22.04) 11.4.0 Ubuntu 20.04 Kernel: Depends on container host Compiler: gcc (Ubuntu 9.4.0-1ubuntu1~20.04.2) 9.4.0 To view detailed results, visit: https://lab.dpdk.org/results/dashboard/patchsets/33123/ UNH-IOL DPDK Community Lab To manage your email subscriptions, visit: https://lab.dpdk.org/results/dashboard/preferences/subscriptions/