From mboxrd@z Thu Jan 1 00:00:00 1970 Return-Path: Received: from mails.dpdk.org (mails.dpdk.org [217.70.189.124]) by inbox.dpdk.org (Postfix) with ESMTP id 1A735466EC for ; Wed, 7 May 2025 22:31:46 +0200 (CEST) Received: from mails.dpdk.org (localhost [127.0.0.1]) by mails.dpdk.org (Postfix) with ESMTP id F16CD4025D; Wed, 7 May 2025 22:31:45 +0200 (CEST) Received: from mail-pl1-f226.google.com (mail-pl1-f226.google.com [209.85.214.226]) by mails.dpdk.org (Postfix) with ESMTP id 3223F4025A for ; Wed, 7 May 2025 22:31:45 +0200 (CEST) Received: by mail-pl1-f226.google.com with SMTP id d9443c01a7336-22423adf751so3466845ad.2 for ; Wed, 07 May 2025 13:31:45 -0700 (PDT) DKIM-Signature: v=1; a=rsa-sha256; c=relaxed/relaxed; d=iol.unh.edu; s=unh-iol; t=1746649904; x=1747254704; darn=dpdk.org; h=cc:to:from:subject:message-id:date:from:to:cc:subject:date :message-id:reply-to; bh=z5usFSViSP8ZwKOx6lh+uFkkd2sE3/VlAapowU9Qm5U=; b=ga4ohgmRCpmHmyiLz7sOBDzOeUInTUcJtJWAbqeDEDNV4GjRhSWNLA6bWsCkgDoFUQ fc1SxRzjyjMRHl47IWDZh12PQw71ZG+oyaNmCXIRgA9/bToLYf4/0Uy75bjeBjkJWDcS E/OIDtdFBpKGPw6FMbuxlZx8juScn0r+0xii4= X-Google-DKIM-Signature: v=1; a=rsa-sha256; c=relaxed/relaxed; d=1e100.net; s=20230601; t=1746649904; x=1747254704; h=cc:to:from:subject:message-id:date:x-gm-message-state:from:to:cc :subject:date:message-id:reply-to; bh=z5usFSViSP8ZwKOx6lh+uFkkd2sE3/VlAapowU9Qm5U=; b=Aea4V060BU4VLiDz0N7+F51SuUDMNEBVL+87QXM4fgpY2PVVjdOzaqfKdXUwkUojHW Th6fE7v/KcqyQqz0Ic8Z5xscd7po1I5mINhaDd8KEsZQPPq0hQVjaLhVrVQT63MJTvlh AVgWFaoswo6lLvxW+sNHNTv06mQxm07gbVf46vRlPFNY7bkYm7j9OXkEHUqv6EzCBa7U YkKl6iE7+tYwXhy2s1hFKL5cyDiOgyQMrV5PrIdySW3eWlCZaeDYkOfsu4pRK/Ibh5cl vFaLeT62P3TO8XRQzMCymyCjRYbnFJhXWczTKPjDmQ7T8v6A8G+x7icdZB77o2moEyb4 XbNg== X-Gm-Message-State: AOJu0YyAlL97wt5t+EoHJuJURqeE0bLg39kbr1s9m/J9Cu0cFR3Aj1j6 8yeOjv5UpFyUVtYKSHya9l359n5RiXObDK6zdlpVQLl9wuMwDVQKhbVUZP1/aSGTNtjTKIbhkrx 9xDhQOQIiejoMNuq7eswqoe0Gdb0PdMi6eCGNCLwUNgiY+ie0ucaXHX6F X-Gm-Gg: ASbGncsVtFcqtXinWRN/4pCluqkXtaBVjzrebb1klWF+lWA23hBjvPh87YIyOgNYhHJ 1D9bfCNTPPq4t+3f5tsToYO71wthRZeDhclwzl7/YrGsHSZQaCJLZx+rQJ8J8JsFvWIOWdmZF4W CFwDx3KX6RZs5ozfeBhoBdaTq5jKfFsQv4HHat0avh84FrGxYw5BNI0HFVzDtnuji6CdOA0KrW9 qVJ9E57ongZObyl7Lir2kQSeIBIfBV5fozlRSZILLvv3c5NNGv56j7Dbxuj+LQXQttgJpbkY2yF fzdH4JTl9rBk+Siv7Mxvh1k6qJzFVjMvYJoJ X-Google-Smtp-Source: AGHT+IGZUyGCgOXLwdecdNY+/S6787MurDlYF4WYXvcgH2tqP/PZMDgNNNJU6ojPNdqDAIoPCR17utvTpp+0 X-Received: by 2002:a17:903:990:b0:223:517c:bfa1 with SMTP id d9443c01a7336-22e5ece3fe1mr68461665ad.38.1746649904250; Wed, 07 May 2025 13:31:44 -0700 (PDT) Received: from postal.iol.unh.edu (postal.iol.unh.edu. [2606:4100:3880:1234::84]) by smtp-relay.gmail.com with ESMTPS id d9443c01a7336-22e3f1de307sm1878635ad.109.2025.05.07.13.31.44 (version=TLS1_2 cipher=ECDHE-ECDSA-AES128-GCM-SHA256 bits=128/128); Wed, 07 May 2025 13:31:44 -0700 (PDT) X-Relaying-Domain: iol.unh.edu Date: Wed, 07 May 2025 13:31:44 -0700 (PDT) Message-ID: <681bc330.170a0220.1f0111.a16dSMTPIN_ADDED_MISSING@mx.google.com> Received: from [172.17.0.2] (unknown [172.18.0.74]) by postal.iol.unh.edu (Postfix) with ESMTP id 776B66052471; Wed, 7 May 2025 16:31:43 -0400 (EDT) Subject: |SUCCESS| [GIT MASTER] 7cf0355db9fdab5648b05fd787356c391c510534 From: dpdklab@iol.unh.edu To: Test Report Cc: dpdk-test-reports@iol.unh.edu, Bruce Richardson Content-Type: text/plain X-BeenThere: test-report@dpdk.org X-Mailman-Version: 2.1.29 Precedence: list List-Id: automatic DPDK test reports List-Unsubscribe: , List-Archive: List-Post: List-Help: List-Subscribe: , Errors-To: test-report-bounces@dpdk.org _Testing PASS_ Branch: dpdk-next-net-intel 7cf0355db9fdab5648b05fd787356c391c510534 --> testing pass Upstream job id: Generic-VM-Unit-Test-DPDK#28394 Test environment and result as below: +---------------------+----------------+ | Environment | dpdk_unit_test | +=====================+================+ | CentOS Stream 9 | PASS | +---------------------+----------------+ | Debian 12 | PASS | +---------------------+----------------+ | CentOS Stream 10 | PASS | +---------------------+----------------+ | Fedora 41 | PASS | +---------------------+----------------+ | Fedora 40 (Clang) | PASS | +---------------------+----------------+ | Fedora 40 | PASS | +---------------------+----------------+ | RHEL8 | PASS | +---------------------+----------------+ | Fedora 41 (Clang) | PASS | +---------------------+----------------+ | RHEL9 | PASS | +---------------------+----------------+ | Ubuntu 20.04 | PASS | +---------------------+----------------+ | Ubuntu 22.04 | PASS | +---------------------+----------------+ | Ubuntu 24.04 | PASS | +---------------------+----------------+ | Windows Server 2022 | PASS | +---------------------+----------------+ CentOS Stream 9 Kernel: Depends on container host Compiler: gcc 11.5.0 20240719 (Red Hat 11.5.0-2) Debian 12 Kernel: Depends on container host Compiler: gcc (Debian 12.2.0-14) 12.2.0 CentOS Stream 10 Kernel: Depends on container host Compiler: gcc 14.2.1 20241104 (Red Hat 14.2.1-6) Fedora 41 Kernel: Depends on container host Compiler: gcc 14.2.1 20240912 (Red Hat 14.2.1-3) Fedora 40 (Clang) Kernel: Depends on container host Compiler: clang 18.1.8 (Fedora 18.1.8-1.fc40) Fedora 40 Kernel: Depends on container host Compiler: gcc 14.2.1 20240912 (Red Hat 14.2.1-3) RHEL8 Kernel: Depends on container host Compiler: gcc 8.5.0 20210514 (Red Hat 8.5.0-22) Fedora 41 (Clang) Kernel: Depends on container host Compiler: clang 19.1.5 (Fedora 19.1.5-1.fc41) RHEL9 Kernel: Depends on container host Compiler: gcc 11.5.0 20240719 (Red Hat 11.5.0-2) Ubuntu 20.04 Kernel: Depends on container host Compiler: gcc (Ubuntu 9.4.0-1ubuntu1~20.04.2) 9.4.0 Ubuntu 22.04 Kernel: Depends on container host Compiler: gcc (Ubuntu 11.4.0-1ubuntu1~22.04) 11.4.0 Ubuntu 24.04 Kernel: Depends on container host Compiler: gcc (Ubuntu 13.3.0-6ubuntu2~24.04) 13.3.0 Windows Server 2022 Kernel: 10.0.20348.2031 Compiler: clang 15.0.7, gcc 14.1.0 (MinGW), and MSVC VS 19.39.33521 To view detailed results, visit: https://lab.dpdk.org/results/dashboard/tarballs/33467/ UNH-IOL DPDK Community Lab To manage your email subscriptions, visit: https://lab.dpdk.org/results/dashboard/preferences/subscriptions/