From mboxrd@z Thu Jan 1 00:00:00 1970 Return-Path: Received: from mails.dpdk.org (mails.dpdk.org [217.70.189.124]) by inbox.dpdk.org (Postfix) with ESMTP id 847E8466EC for ; Wed, 7 May 2025 22:48:17 +0200 (CEST) Received: from mails.dpdk.org (localhost [127.0.0.1]) by mails.dpdk.org (Postfix) with ESMTP id 587634025D; Wed, 7 May 2025 22:48:17 +0200 (CEST) Received: from mail-qk1-f225.google.com (mail-qk1-f225.google.com [209.85.222.225]) by mails.dpdk.org (Postfix) with ESMTP id 2C1BD4025A for ; Wed, 7 May 2025 22:48:16 +0200 (CEST) Received: by mail-qk1-f225.google.com with SMTP id af79cd13be357-7c96759d9dfso34957985a.3 for ; Wed, 07 May 2025 13:48:16 -0700 (PDT) DKIM-Signature: v=1; a=rsa-sha256; c=relaxed/relaxed; d=iol.unh.edu; s=unh-iol; t=1746650895; x=1747255695; darn=dpdk.org; h=references:in-reply-to:cc:to:from:subject:message-id:date:from:to :cc:subject:date:message-id:reply-to; bh=NOvysa7xEpmI4VXJEvPTe56WT+RialoFEhbUzpUZ1rs=; b=idK1vaIFyHTqXPQDLuqRb2qJjgZ0Zrx0JyznuemxhahQdX92Od2k+djxlpm15r/G3e bgUrwzApvbu9e1owPpODxBVv+DyVzEQCgMIlite/R4Cz9wgDyK9hBLgXKUXGgdknKX1r oimtywF2xdVGRcWvGCm/t6aHtTNsld76RyaoE= X-Google-DKIM-Signature: v=1; a=rsa-sha256; c=relaxed/relaxed; d=1e100.net; s=20230601; t=1746650895; x=1747255695; h=references:in-reply-to:cc:to:from:subject:message-id:date :x-gm-message-state:from:to:cc:subject:date:message-id:reply-to; bh=NOvysa7xEpmI4VXJEvPTe56WT+RialoFEhbUzpUZ1rs=; b=q5gEtBtSCmjkTqdIvdI/q9V0wm29Xcg+xVXLqL36OTiIBLFqKRM6175ccbnv3G6bdo hmSzP6BeExbUMG/fYIwhgl89Gc3/iUszzAXm3kxhRQIbm4QmX1AvrbkSiU5f3qHNz5yw symvWtqqucrAR+HGH7CUZkhgyjJdxPGIrpqHEwebXxTXlGKqozB52OkAdyPbOwWn1AYz BtvLQv9tFb4mXvvLqsmH8/wf9EQpyyuF4OJlj3fv2gY+VCIt+p0SKnQJiHtpFRUExb3j 3+Y/A6w0++vC5B3PvAA4YCl9NUtKKb/q3tiq2w+GZoTSvEr5uaCqzgzcWQoi4yojcBfI X3OQ== X-Gm-Message-State: AOJu0YzpoNSTPesh60AUsPl5qDpvvUVQx9hldM1zbUDu+r0jvg0qfK8c rBcH0QVd+6xCAeWvAhJcj3EhQ0uj9B2x2kLrotj/WTZNg9iF9GuAsL0VNMMo/iPxGWq8stiRptZ J64XnnKxq28QlI1EQ+n7Z16k7XfQoKWgEapEDI95o X-Gm-Gg: ASbGnctYuPqpc93wwc0dnU+GSqIm0B2XSXRzvp39z0IXZeIjYHav43wJx1KEBDNLm4/ 45Tc7ZId3592FlxfhqAuMSlzIMKa4JlkkJdvvWXDKhmfStq3szdEzSl86nGuMjbtPSWyem7fgpf e1ea94Ntu6pn4yilBXgQwjG64Q9EmWg4Em5ALXVBwdmwKQ9jUS3ygj5VNW8EoxCFAqhGEPEl1AK 2uExvUOJ1QhWOlXH/+CHmT9Pgvh8uAFMVkPRTp4Ci98FZcvY+BvkSlNpqdQRmQOJscFDK/xG/P4 83j2OdXv350v4dKnqdcMYU0MihZu9pLLa8Ott4ZgA4nj8uOyW6JZTn+eU8c= X-Google-Smtp-Source: AGHT+IEOL6Tb5AojVVAQH9Tdozl6FG5ea57kiZ0/BxQAjAa0ye1Kag4OTrj/fEAxs2+Ugy37ethif0GmErY7 X-Received: by 2002:a05:620a:c52:b0:7c5:4cb7:ac97 with SMTP id af79cd13be357-7caf737b4d2mr784199985a.1.1746650895416; Wed, 07 May 2025 13:48:15 -0700 (PDT) Received: from postal.iol.unh.edu (postal.iol.unh.edu. [132.177.123.84]) by smtp-relay.gmail.com with ESMTPS id 6a1803df08f44-6f542620e62sm1446786d6.2.2025.05.07.13.48.15 (version=TLS1_2 cipher=ECDHE-ECDSA-AES128-GCM-SHA256 bits=128/128); Wed, 07 May 2025 13:48:15 -0700 (PDT) X-Relaying-Domain: iol.unh.edu Date: Wed, 07 May 2025 13:48:15 -0700 (PDT) Message-ID: <681bc70f.050a0220.3cecc1.7cb6SMTPIN_ADDED_MISSING@mx.google.com> Received: from [172.17.0.2] (unknown [172.18.0.74]) by postal.iol.unh.edu (Postfix) with ESMTP id 2ADF96052471; Wed, 7 May 2025 16:48:15 -0400 (EDT) Subject: |SUCCESS| pw153342 [PATCH] [v3,1/1] buildtools: avoid break due to f From: dpdklab@iol.unh.edu To: Test Report Cc: dpdk-test-reports@iol.unh.edu In-Reply-To: <1746627671-28659-2-git-send-email-andremue@linux.microsoft.com> References: <1746627671-28659-2-git-send-email-andremue@linux.microsoft.com> Content-Type: text/plain X-BeenThere: test-report@dpdk.org X-Mailman-Version: 2.1.29 Precedence: list List-Id: automatic DPDK test reports List-Unsubscribe: , List-Archive: List-Post: List-Help: List-Subscribe: , Errors-To: test-report-bounces@dpdk.org Test-Label: iol-unit-amd64-testing Test-Status: SUCCESS http://dpdk.org/patch/153342 _Testing PASS_ Submitter: Andre Muezerie Date: Wednesday, May 07 2025 14:21:11 DPDK git baseline: Repo:dpdk Branch: master CommitID:75f179ebe347b6098cf3af26d3d3b7168fe3fe24 153342 --> testing pass Upstream job id: Generic-VM-Unit-Test-DPDK#28396 Test environment and result as below: +---------------------+----------------+ | Environment | dpdk_unit_test | +=====================+================+ | CentOS Stream 9 | PASS | +---------------------+----------------+ | CentOS Stream 10 | PASS | +---------------------+----------------+ | RHEL8 | PASS | +---------------------+----------------+ | Debian 12 | PASS | +---------------------+----------------+ | Fedora 40 | PASS | +---------------------+----------------+ | RHEL9 | PASS | +---------------------+----------------+ | Fedora 40 (Clang) | PASS | +---------------------+----------------+ | Fedora 41 (Clang) | PASS | +---------------------+----------------+ | Fedora 41 | PASS | +---------------------+----------------+ | Ubuntu 20.04 | PASS | +---------------------+----------------+ | Ubuntu 22.04 | PASS | +---------------------+----------------+ | Ubuntu 24.04 | PASS | +---------------------+----------------+ | Windows Server 2022 | PASS | +---------------------+----------------+ CentOS Stream 9 Kernel: Depends on container host Compiler: gcc 11.5.0 20240719 (Red Hat 11.5.0-2) CentOS Stream 10 Kernel: Depends on container host Compiler: gcc 14.2.1 20241104 (Red Hat 14.2.1-6) RHEL8 Kernel: Depends on container host Compiler: gcc 8.5.0 20210514 (Red Hat 8.5.0-22) Debian 12 Kernel: Depends on container host Compiler: gcc (Debian 12.2.0-14) 12.2.0 Fedora 40 Kernel: Depends on container host Compiler: gcc 14.2.1 20240912 (Red Hat 14.2.1-3) RHEL9 Kernel: Depends on container host Compiler: gcc 11.5.0 20240719 (Red Hat 11.5.0-2) Fedora 40 (Clang) Kernel: Depends on container host Compiler: clang 18.1.8 (Fedora 18.1.8-1.fc40) Fedora 41 (Clang) Kernel: Depends on container host Compiler: clang 19.1.5 (Fedora 19.1.5-1.fc41) Fedora 41 Kernel: Depends on container host Compiler: gcc 14.2.1 20240912 (Red Hat 14.2.1-3) Ubuntu 20.04 Kernel: Depends on container host Compiler: gcc (Ubuntu 9.4.0-1ubuntu1~20.04.2) 9.4.0 Ubuntu 22.04 Kernel: Depends on container host Compiler: gcc (Ubuntu 11.4.0-1ubuntu1~22.04) 11.4.0 Ubuntu 24.04 Kernel: Depends on container host Compiler: gcc (Ubuntu 13.3.0-6ubuntu2~24.04) 13.3.0 Windows Server 2022 Kernel: 10.0.20348.2031 Compiler: clang 15.0.7, gcc 14.1.0 (MinGW), and MSVC VS 19.39.33521 To view detailed results, visit: https://lab.dpdk.org/results/dashboard/patchsets/33133/ UNH-IOL DPDK Community Lab To manage your email subscriptions, visit: https://lab.dpdk.org/results/dashboard/preferences/subscriptions/