From mboxrd@z Thu Jan 1 00:00:00 1970 Return-Path: Received: from mails.dpdk.org (mails.dpdk.org [217.70.189.124]) by inbox.dpdk.org (Postfix) with ESMTP id E4D68466EC for ; Wed, 7 May 2025 23:15:44 +0200 (CEST) Received: from mails.dpdk.org (localhost [127.0.0.1]) by mails.dpdk.org (Postfix) with ESMTP id C09F44025D; Wed, 7 May 2025 23:15:44 +0200 (CEST) Received: from mail-pl1-f228.google.com (mail-pl1-f228.google.com [209.85.214.228]) by mails.dpdk.org (Postfix) with ESMTP id A9FEB4025A for ; Wed, 7 May 2025 23:15:43 +0200 (CEST) Received: by mail-pl1-f228.google.com with SMTP id d9443c01a7336-2255003f4c6so3807185ad.0 for ; Wed, 07 May 2025 14:15:43 -0700 (PDT) DKIM-Signature: v=1; a=rsa-sha256; c=relaxed/relaxed; d=iol.unh.edu; s=unh-iol; t=1746652542; x=1747257342; darn=dpdk.org; h=cc:to:from:subject:message-id:date:from:to:cc:subject:date :message-id:reply-to; bh=STiCAqh7oRvgkPRaOD/p9K2UMC0GrxC8CaJMTPOh5GQ=; b=YdUqBuZfNU5rZqIlc8Knhq6n5GspbMEn8pnoZ7MiTFdXviWkDXHFRGlE3HqiAeK1ln IvSvIHZhbZjPZ7gjlrKmQl0sukfJ9Zz75L+aNndXEw2C6XnTK1ACNFdZQXLJcWrRkrMN dewToBFWVDjG5VmADHtsrkiK/v1FdgbQlGM34= X-Google-DKIM-Signature: v=1; a=rsa-sha256; c=relaxed/relaxed; d=1e100.net; s=20230601; t=1746652542; x=1747257342; h=cc:to:from:subject:message-id:date:x-gm-message-state:from:to:cc :subject:date:message-id:reply-to; bh=STiCAqh7oRvgkPRaOD/p9K2UMC0GrxC8CaJMTPOh5GQ=; b=eIZk1YXloMHw/d0vtI/IatmIVP2kuliov6ubNmxftV8PGgLOMSTG5FSQBcAB7nXWTK ymmGlZzE+d/Fm8WGMXx8gX0OCKpyfAKka53zs4HVQPLMeZDl3d/78fNynMDJ5qvft1V6 i7U9C1iH/spSgaUBz5SEWKrOgMdxTtZIBjueoHIRSG0CpYIMsq2npg5u+3p5HHvcNlt/ ELQLj13bHOfmwS4EXLttRTa1RIAFLwmD+RdVUtgXp5jn3q6WS58omKTi27MZ8aPzMnaB +FHdCnoAwiEAB+2/lohZY1Dugl8jvGhoShd5xdmtIwjPv50LMmixu55iZPKQkemTe3xB q15Q== X-Gm-Message-State: AOJu0YwzSo9zA16In2ixJGbodYRAd3lqO4KNoAzuJD8vToxGD1LsoMoP y1QnIe4ahixwh5kyR65fqmOK+9XZAFq8A7WHIdV93e/WGPG0SCQJsw7S+DqA7FfGoPA5llB8vDm PD0UXmLQtVwOPUWXciXgrbYoqoi7LTXkSO67osMR5+QhTQgwy X-Gm-Gg: ASbGncvNJN0WNwhiuKmk8aOlDDZPR2Y7r1o21h6ugRM+gvXUqxzvoE6Ak4K3f9EZzkP pij8Kx/zxsf3ROgYQv3sFx3QxkacqmabFbhCw4KPpcmhyTK5WEgnekk001QsUsCM/cKUSktahH8 jh6Y0yhYFrt69XGZ+9W0etsdbIUxhlvNpUv9IGoNKDgeyfb+ON4gStgHFPLEYjKLB14sZpFHJSP Ek5gHJIM/E3ffD91j+y+cnis8rl6KG2OuK7FfpGUxvQIwecZVY3fmRljFCq/4zceB1xPRC7Ivtp t/zlzFM55lIeTFXYEprQcyzO5pDWfZg26HB1 X-Google-Smtp-Source: AGHT+IHxhm6KlBut6HsDSfDbhqnF47xd0I/H1IIq6tJ9GSuJBtUvSJfkkxLFzF99h0TvKvVnOCuQ6QhDcA0v X-Received: by 2002:a17:902:ecd0:b0:220:ca39:d453 with SMTP id d9443c01a7336-22e5ea7b0d8mr69210665ad.17.1746652542583; Wed, 07 May 2025 14:15:42 -0700 (PDT) Received: from postal.iol.unh.edu (postal.iol.unh.edu. [2606:4100:3880:1234::84]) by smtp-relay.gmail.com with ESMTPS id d9443c01a7336-22fa14a53f6sm28555ad.59.2025.05.07.14.15.42 (version=TLS1_2 cipher=ECDHE-ECDSA-AES128-GCM-SHA256 bits=128/128); Wed, 07 May 2025 14:15:42 -0700 (PDT) X-Relaying-Domain: iol.unh.edu Date: Wed, 07 May 2025 14:15:42 -0700 (PDT) Message-ID: <681bcd7e.170a0220.297782.02cfSMTPIN_ADDED_MISSING@mx.google.com> Received: from [172.17.0.2] (unknown [172.18.0.74]) by postal.iol.unh.edu (Postfix) with ESMTP id C5E136052471; Wed, 7 May 2025 17:15:41 -0400 (EDT) Subject: |SUCCESS| [GIT MASTER] 4c5634de9f933555bab9c64a533d3dca999071cd From: dpdklab@iol.unh.edu To: Test Report Cc: dpdk-test-reports@iol.unh.edu, Xueming Li , Christian Ehrhardt , Kevin Traynor , Luca Boccassi Content-Type: text/plain X-BeenThere: test-report@dpdk.org X-Mailman-Version: 2.1.29 Precedence: list List-Id: automatic DPDK test reports List-Unsubscribe: , List-Archive: List-Post: List-Help: List-Subscribe: , Errors-To: test-report-bounces@dpdk.org _Testing PASS_ Branch: tags/v24.11 4c5634de9f933555bab9c64a533d3dca999071cd --> testing pass Upstream job id: ACVP-FIPS-testing#9741 Test environment and result as below: +--------------------+----------------------+----------------------+ | Environment | compressdev_zlib_pmd | dpdk_fips_validation | +====================+======================+======================+ | Ubuntu 22.04 (ARM) | PASS | SKIPPED | +--------------------+----------------------+----------------------+ | Ubuntu 22.04 | PASS | SKIPPED | +--------------------+----------------------+----------------------+ | Ubuntu 20.04 | SKIPPED | PASS | +--------------------+----------------------+----------------------+ Ubuntu 22.04 (ARM) Kernel: 5.15.0-97-generic Compiler: gcc gcc (Ubuntu 11.4.0-1ubuntu1~22.04) 11.4.0 Ubuntu 22.04 Kernel: 5.15.0-100-generic Compiler: gcc gcc (Ubuntu 11.4.0-1ubuntu1~22.04) 11.4.0 Ubuntu 20.04 Kernel: Depends on container host Compiler: gcc (Ubuntu 9.4.0-1ubuntu1~20.04.2) 9.4.0 To view detailed results, visit: https://lab.dpdk.org/results/dashboard/tarballs/33461/ UNH-IOL DPDK Community Lab To manage your email subscriptions, visit: https://lab.dpdk.org/results/dashboard/preferences/subscriptions/