From mboxrd@z Thu Jan 1 00:00:00 1970 Return-Path: Received: from mails.dpdk.org (mails.dpdk.org [217.70.189.124]) by inbox.dpdk.org (Postfix) with ESMTP id 48B77466EC for ; Wed, 7 May 2025 23:42:38 +0200 (CEST) Received: from mails.dpdk.org (localhost [127.0.0.1]) by mails.dpdk.org (Postfix) with ESMTP id 2BEDA4025D; Wed, 7 May 2025 23:42:38 +0200 (CEST) Received: from mail-pg1-f227.google.com (mail-pg1-f227.google.com [209.85.215.227]) by mails.dpdk.org (Postfix) with ESMTP id 80C3D4025A for ; Wed, 7 May 2025 23:42:36 +0200 (CEST) Received: by mail-pg1-f227.google.com with SMTP id 41be03b00d2f7-b1f7f239b31so1464231a12.0 for ; Wed, 07 May 2025 14:42:36 -0700 (PDT) DKIM-Signature: v=1; a=rsa-sha256; c=relaxed/relaxed; d=iol.unh.edu; s=unh-iol; t=1746654155; x=1747258955; darn=dpdk.org; h=cc:to:from:subject:message-id:date:from:to:cc:subject:date :message-id:reply-to; bh=5sTZQRVD359vekOhhU0LoQpoUTnakLqOI1A/NNEYo4o=; b=ZAcNkFj0R/Yjs/L6cu4hpmCOAsQZPoT4G13hUcMPmqWkUFxb7WivD4qlwDcVm9s8He gDhPUNrcaqXtTk/g8EpeEPiyeIEoq0mFKvNeG70FnmmxVhLBUgw74icO1QI/+pDGYYjn PAD/QWSpu50FBgOLWGYvRvt75MYDKgveyx4kU= X-Google-DKIM-Signature: v=1; a=rsa-sha256; c=relaxed/relaxed; d=1e100.net; s=20230601; t=1746654155; x=1747258955; h=cc:to:from:subject:message-id:date:x-gm-message-state:from:to:cc :subject:date:message-id:reply-to; bh=5sTZQRVD359vekOhhU0LoQpoUTnakLqOI1A/NNEYo4o=; b=RgaVYwjWDGMmlFsvarIT8UjYiQxus78BuiMDoJ2QWSCJ/vCVZalXWwwAqG4exqNsPp fHOt4+9Wkv+GAjn6e46VHI2hjac5kGq7G4gSw7HKIZnGXgr0HwU13e9MmClb6tQqUjl9 kDh7Ha6X7mtwts2Zz5UoSsFOOkR2obg/11Tsnn5Fp6PzVXdmIUAPOvuYKnKjyeaJMvP/ rbBbjrnnTCJ5IuM6nN6TwKuqQpyNmXs930btHy85qKAcq1SDu1ek3LSfRbLDvl/JFuG5 07T/sW7v3bna08ab0qTgJ0kbaKazRLJwM5Y99UsMeq/aCJn23i2zGm3ixp3ASh81rPt1 CP6g== X-Gm-Message-State: AOJu0Yw93bealxwypg2dfbx305tfT+eX+uxc9LyH5jbGEFjksEXMP2Is YnW6DZTQKrOIJ7d3re0v3LOeYn5AsmQyfNpAMPvc150qcqL9uiTk7aOch54VI/SyhU8NWWXgGDm HESmnWCeE0mQtPYyiRLp6x0O4jg9w7KBzrZlgw9l0yrp0/jN7 X-Gm-Gg: ASbGncuWMOXqMhVQyIqrCghE5emNZ9Kjto3z2kRSmEl+bU3pbemSabDphnuaCTxBHaG xixPpoqyculnbGlj/Zzq86IkDYU1KaNdxJJOwnBdHWlaj7VK2voqC+btYf7tSPMcwS7jRcMCAw8 4GhZe7nh4/mrAbzkg6oidblaGaxEW5di0Ltt+gZO6ZXLvV2XcFIWB3X+cqp1h4AsxfDaXkWqfjR sFAVfWS2DY0fIbmateGWOp+ZEAJw/nAkEYu4eV9TP+v62/cIR/2O29fy4JEMlJWEszo7RdSR2c0 mgwrvkkADur9nQZBMilF1Dtm5QQ9eaNnRPhY X-Google-Smtp-Source: AGHT+IEUAOTOkFuSMdkOD5WT2ZkOQPpiQfNdfO92q3BCGAryDcVg4gr9N5tfQj8bfiku5sr8G2Wv9O23QLAb X-Received: by 2002:a17:903:244b:b0:21f:98fc:8414 with SMTP id d9443c01a7336-22e847db5f5mr13798645ad.26.1746654155354; Wed, 07 May 2025 14:42:35 -0700 (PDT) Received: from postal.iol.unh.edu (postal.iol.unh.edu. [2606:4100:3880:1234::84]) by smtp-relay.gmail.com with ESMTPS id d9443c01a7336-22e15234c5esm18863375ad.119.2025.05.07.14.42.35 (version=TLS1_2 cipher=ECDHE-ECDSA-AES128-GCM-SHA256 bits=128/128); Wed, 07 May 2025 14:42:35 -0700 (PDT) X-Relaying-Domain: iol.unh.edu Date: Wed, 07 May 2025 14:42:35 -0700 (PDT) Message-ID: <681bd3cb.170a0220.3c7b8e.c8cfSMTPIN_ADDED_MISSING@mx.google.com> Received: from [172.17.0.2] (unknown [172.18.0.74]) by postal.iol.unh.edu (Postfix) with ESMTP id 743926052471; Wed, 7 May 2025 17:42:34 -0400 (EDT) Subject: |SUCCESS| [GIT MASTER] 4401486b5e30d43a134f80f9802f60b5f43e74a8 From: dpdklab@iol.unh.edu To: Test Report Cc: dpdk-test-reports@iol.unh.edu, Xueming Li , Christian Ehrhardt , Kevin Traynor , Luca Boccassi Content-Type: text/plain X-BeenThere: test-report@dpdk.org X-Mailman-Version: 2.1.29 Precedence: list List-Id: automatic DPDK test reports List-Unsubscribe: , List-Archive: List-Post: List-Help: List-Subscribe: , Errors-To: test-report-bounces@dpdk.org _Testing PASS_ Branch: tags/v22.11 4401486b5e30d43a134f80f9802f60b5f43e74a8 --> testing pass Upstream job id: ACVP-FIPS-testing#9742 Test environment and result as below: +--------------------+----------------------+----------------------+ | Environment | compressdev_zlib_pmd | dpdk_fips_validation | +====================+======================+======================+ | Ubuntu 22.04 (ARM) | PASS | SKIPPED | +--------------------+----------------------+----------------------+ | Ubuntu 22.04 | PASS | SKIPPED | +--------------------+----------------------+----------------------+ | Ubuntu 20.04 | SKIPPED | PASS | +--------------------+----------------------+----------------------+ Ubuntu 22.04 (ARM) Kernel: 5.15.0-97-generic Compiler: gcc gcc (Ubuntu 11.4.0-1ubuntu1~22.04) 11.4.0 Ubuntu 22.04 Kernel: 5.15.0-100-generic Compiler: gcc gcc (Ubuntu 11.4.0-1ubuntu1~22.04) 11.4.0 Ubuntu 20.04 Kernel: Depends on container host Compiler: gcc (Ubuntu 9.4.0-1ubuntu1~20.04.2) 9.4.0 To view detailed results, visit: https://lab.dpdk.org/results/dashboard/tarballs/33462/ UNH-IOL DPDK Community Lab To manage your email subscriptions, visit: https://lab.dpdk.org/results/dashboard/preferences/subscriptions/