From mboxrd@z Thu Jan 1 00:00:00 1970 Return-Path: Received: from mails.dpdk.org (mails.dpdk.org [217.70.189.124]) by inbox.dpdk.org (Postfix) with ESMTP id 3E208466EC for ; Thu, 8 May 2025 00:07:26 +0200 (CEST) Received: from mails.dpdk.org (localhost [127.0.0.1]) by mails.dpdk.org (Postfix) with ESMTP id 1E7224025A; Thu, 8 May 2025 00:07:26 +0200 (CEST) Received: from mail-pl1-f225.google.com (mail-pl1-f225.google.com [209.85.214.225]) by mails.dpdk.org (Postfix) with ESMTP id 8BC4F4014F for ; Thu, 8 May 2025 00:07:25 +0200 (CEST) Received: by mail-pl1-f225.google.com with SMTP id d9443c01a7336-22e4db05fe8so4606255ad.0 for ; Wed, 07 May 2025 15:07:25 -0700 (PDT) DKIM-Signature: v=1; a=rsa-sha256; c=relaxed/relaxed; d=iol.unh.edu; s=unh-iol; t=1746655644; x=1747260444; darn=dpdk.org; h=cc:to:from:subject:message-id:date:from:to:cc:subject:date :message-id:reply-to; bh=NALoCX6pF+6jM5Er8L/b//RDcdVh19alFDPx3cptPIk=; b=MPeag3yDgHTf1MkYuDJej2w21JvYrwAZvmmHsFHAICBaPWc16AKyNjsOIUOVB1dCkm w+EwYkrbWRqgiBVej+xGHpEg9leDzzFxHoP/i2yi8MNEUwtppM7PbOOrtl0LFRZTNSWT QxugmSwuf6pQ+rFP0vFk+ZU3E+N+L+WlxCj+8= X-Google-DKIM-Signature: v=1; a=rsa-sha256; c=relaxed/relaxed; d=1e100.net; s=20230601; t=1746655644; x=1747260444; h=cc:to:from:subject:message-id:date:x-gm-message-state:from:to:cc :subject:date:message-id:reply-to; bh=NALoCX6pF+6jM5Er8L/b//RDcdVh19alFDPx3cptPIk=; b=C3xl8h9rqlhhBSVNpGfpKtYKIuMKqrHxC/d24aaITtjfdFDKSCN6bOZcDfPog6gI/C dMs1NbtOjhRWuO9er2dLm6ssUh7m21ogUfGUfEFCgDRME7OU9KZz9JBzg59eTgCaign/ +BBjaRW5Sp7ZbkijUTH/rehSyv3eho/jCOFNy2FJlk+b/ckih+mMmnuN5j3UZzMiv9Kq 4LIwxwvVa5xw5MNHOVqCQRHIdPRAJxmffj20yo/o9vYslZzqQIr6hQ3kolzSxCiPUMJK aPexIr49jgL4ROoP77+pOBym0puGJ23redQW+opCV6JPZe6Zd/auL/Y7ZYGDLUdPlEVe QXxw== X-Gm-Message-State: AOJu0YwQubuN1agyOSxGzR2UI8UUQllj4iOKg8tJTvTmIDFF/W6Un79N x87JX0IlK+gTJPYwoBIBxtpmv02pQrIdMzOLkAa8+t5WRcezbG3DofTYBwHc3GB5tlMMF9tuafv LovEIMqT8vUFbI4b59WLSvwzxoiH4o/acG/owbQaMVJNlw8zm X-Gm-Gg: ASbGncsQm3guE9zM+EmuQ4JK7+YTcv+MCEobwLNkfvjDXHsJu4PSBxOUPaUowhabv8Y MwbMoQFdxXgYgRHZ2mUobeJZjjLpZCJJ8vvKKzAjb3J9WbvL7Ko6nmubTnhw/hwroJd2VpHbhM3 yCtTxIjhE9I+2py3Y3kqJLkC8u0dNNUBnSR0An0BGBuHPBNqRq28nJ6rFWYGQIGHe41kvxqFUGL 6+51wKyCuaGRYf+ymEjFvyznvXq8i77UP63cpQntJDYFAa9ZP4wx+iUHaujT07Hn/9W7K+4pi23 HkHEz5X06lEI8nDmaIuouyL5kjnlqV1VDbiU X-Google-Smtp-Source: AGHT+IE4ZJr7JctLi7vBhRxqr81/SciMpg5nDGET4WtjPl0ZJ8rvfeWcwpB/nSbWbfdGYz3HNpvkITYe8IBs X-Received: by 2002:a17:903:990:b0:22e:59cc:a44e with SMTP id d9443c01a7336-22e5ecdf3a6mr75373785ad.44.1746655644610; Wed, 07 May 2025 15:07:24 -0700 (PDT) Received: from postal.iol.unh.edu (postal.iol.unh.edu. [2606:4100:3880:1234::84]) by smtp-relay.gmail.com with ESMTPS id d9443c01a7336-22e5ee83200sm1149495ad.124.2025.05.07.15.07.24 (version=TLS1_2 cipher=ECDHE-ECDSA-AES128-GCM-SHA256 bits=128/128); Wed, 07 May 2025 15:07:24 -0700 (PDT) X-Relaying-Domain: iol.unh.edu Date: Wed, 07 May 2025 15:07:24 -0700 (PDT) Message-ID: <681bd99c.170a0220.3c9334.7183SMTPIN_ADDED_MISSING@mx.google.com> Received: from [172.17.0.2] (unknown [172.18.0.74]) by postal.iol.unh.edu (Postfix) with ESMTP id B86B26052471; Wed, 7 May 2025 18:07:23 -0400 (EDT) Subject: |SUCCESS| [GIT MASTER] 83a7a648344674c0269fcaeb71d8d16468421a0e From: dpdklab@iol.unh.edu To: Test Report Cc: dpdk-test-reports@iol.unh.edu, Xueming Li , Christian Ehrhardt , Kevin Traynor , Luca Boccassi Content-Type: text/plain X-BeenThere: test-report@dpdk.org X-Mailman-Version: 2.1.29 Precedence: list List-Id: automatic DPDK test reports List-Unsubscribe: , List-Archive: List-Post: List-Help: List-Subscribe: , Errors-To: test-report-bounces@dpdk.org _Testing PASS_ Branch: tags/v23.11 83a7a648344674c0269fcaeb71d8d16468421a0e --> testing pass Upstream job id: ACVP-FIPS-testing#9743 Test environment and result as below: +--------------------+----------------------+----------------------+ | Environment | compressdev_zlib_pmd | dpdk_fips_validation | +====================+======================+======================+ | Ubuntu 22.04 (ARM) | PASS | SKIPPED | +--------------------+----------------------+----------------------+ | Ubuntu 22.04 | PASS | SKIPPED | +--------------------+----------------------+----------------------+ | Ubuntu 20.04 | SKIPPED | PASS | +--------------------+----------------------+----------------------+ Ubuntu 22.04 (ARM) Kernel: 5.15.0-97-generic Compiler: gcc gcc (Ubuntu 11.4.0-1ubuntu1~22.04) 11.4.0 Ubuntu 22.04 Kernel: 5.15.0-100-generic Compiler: gcc gcc (Ubuntu 11.4.0-1ubuntu1~22.04) 11.4.0 Ubuntu 20.04 Kernel: Depends on container host Compiler: gcc (Ubuntu 9.4.0-1ubuntu1~20.04.2) 9.4.0 To view detailed results, visit: https://lab.dpdk.org/results/dashboard/tarballs/33463/ UNH-IOL DPDK Community Lab To manage your email subscriptions, visit: https://lab.dpdk.org/results/dashboard/preferences/subscriptions/