From mboxrd@z Thu Jan 1 00:00:00 1970 Return-Path: Received: from mails.dpdk.org (mails.dpdk.org [217.70.189.124]) by inbox.dpdk.org (Postfix) with ESMTP id 6B3BF466EC for ; Thu, 8 May 2025 00:30:49 +0200 (CEST) Received: from mails.dpdk.org (localhost [127.0.0.1]) by mails.dpdk.org (Postfix) with ESMTP id 3BF3E4025A; Thu, 8 May 2025 00:30:49 +0200 (CEST) Received: from mail-vs1-f98.google.com (mail-vs1-f98.google.com [209.85.217.98]) by mails.dpdk.org (Postfix) with ESMTP id CB5F14014F for ; Thu, 8 May 2025 00:30:47 +0200 (CEST) Received: by mail-vs1-f98.google.com with SMTP id ada2fe7eead31-4c30f11e79bso109519137.0 for ; Wed, 07 May 2025 15:30:47 -0700 (PDT) DKIM-Signature: v=1; a=rsa-sha256; c=relaxed/relaxed; d=iol.unh.edu; s=unh-iol; t=1746657047; x=1747261847; darn=dpdk.org; h=references:in-reply-to:cc:to:from:subject:message-id:date:from:to :cc:subject:date:message-id:reply-to; bh=czfo+lIrnz6RKmdVhIaq2CUwp98Vz1R7zCH9NuKFMdk=; b=gAN3t0ZdmYsNY47ZT1WnfFOLjfIlbHpq9y4sdL3j9eaX4v2ks2GgO+SFbNxb1Webxx WehRu8h1OdkXCqqlxCfU/Gxw2uIDABTJ/uNUZcdp47S8jQegAzJX3VgBdAC1iVvTHClk IACm0xmrTzpfUq+X05WoEEbNvrSXSYQQ9RRb8= X-Google-DKIM-Signature: v=1; a=rsa-sha256; c=relaxed/relaxed; d=1e100.net; s=20230601; t=1746657047; x=1747261847; h=references:in-reply-to:cc:to:from:subject:message-id:date :x-gm-message-state:from:to:cc:subject:date:message-id:reply-to; bh=czfo+lIrnz6RKmdVhIaq2CUwp98Vz1R7zCH9NuKFMdk=; b=ckoJ3uuNCgGnZ/E0o2vgkZ6EQxLgDxQPwRmHSEn0lFJpzJqNce1v7V2qM9DjIb98hq VL0nt+YNv7xHS52yNEPt3JW8I4G9VKo9fIbELB1gWmYgut+wxUNt8TR9FZl13YHdkn9k eCN+EbwF8WSjxJ3/St1HaFSx4PAraRwoDMoegibM4nHIk2r3LUYtnWB9GiMQFeaD/8B2 MEWJNxe1a17CXhZ1/gS7GenN1lMHJ7kVmFQc1co4LrZQ6VGdmbobmK4OE9K6UvuHtkT7 nV3W3ZmqK8sd/1Wm/ZElGTJp//Q3hvt2SmDOtEcb3ZEumiWD78P4wcP6CarMa12SKTv1 sahg== X-Gm-Message-State: AOJu0YwQQAX4torwApsz6aaKRSXYuDzOkv8bzH8kHIEvESV6v6Nd2y99 15qAiKi81M76zOWvHW0Q0Z9TF1qRiMOkYOwoRcn4lUdX8vlpNhhBi/i+H5ITl+jpJ69y2ZCa75S fDbVqaFomtDphZf7iIn07b2wWBFbF+zfUHcz2tmUX X-Gm-Gg: ASbGncstO6GT4y4DnUWixBlgNwDDn09wXYhgEg2k0elcg0qFpyHpSByK4r/fup9KHsW cF80U8YBTu5WWkRdvIXw+WZgPawK724biPiPlz9u/Y5WjEXVp+Lwtac4p9lzebwp359o5XlKLoc NGVIR8LbPgx1q562N9GeWlczXrTOQoofnnO/xFYH2pbblsEJTKgbsJ5mrBmcRtDZ1dVDjWoqJgC F+8C5p42T0g24d5NQXTs0het7IO56lfnBc478fg36sKX/MobQeAFXTcASs+0uIs8n/7362uYKSH KQwhAEmEv4u9r6ysX8PN6gHmvZPjNVDWtttozDs7YZPEaNjebIlL6WrYi3Q= X-Google-Smtp-Source: AGHT+IEIvFJmLuO9C5Nl0cnz+JSAz82h+1/dtM4R1Q8TSIkI9XFlD8j3qT6zwQIH552IQg6NM2rhNvW3mDDe X-Received: by 2002:a05:6102:14a4:b0:4bd:22d5:fbd7 with SMTP id ada2fe7eead31-4dc737fb072mr4311553137.11.1746657047089; Wed, 07 May 2025 15:30:47 -0700 (PDT) Received: from postal.iol.unh.edu (postal.iol.unh.edu. [132.177.123.84]) by smtp-relay.gmail.com with ESMTPS id a1e0cc1a2514c-8780b2996cdsm886528241.17.2025.05.07.15.30.47 (version=TLS1_2 cipher=ECDHE-ECDSA-AES128-GCM-SHA256 bits=128/128); Wed, 07 May 2025 15:30:47 -0700 (PDT) X-Relaying-Domain: iol.unh.edu Date: Wed, 07 May 2025 15:30:47 -0700 (PDT) Message-ID: <681bdf17.050a0220.205efe.eb8bSMTPIN_ADDED_MISSING@mx.google.com> Received: from [172.17.0.2] (unknown [172.18.0.74]) by postal.iol.unh.edu (Postfix) with ESMTP id AD5B36052471; Wed, 7 May 2025 18:30:46 -0400 (EDT) Subject: |SUCCESS| pw153309 [PATCH] dts: improve port handling From: dpdklab@iol.unh.edu To: Test Report Cc: dpdk-test-reports@iol.unh.edu In-Reply-To: <20250506131657.1576152-1-luca.vizzarro@arm.com> References: <20250506131657.1576152-1-luca.vizzarro@arm.com> Content-Type: text/plain X-BeenThere: test-report@dpdk.org X-Mailman-Version: 2.1.29 Precedence: list List-Id: automatic DPDK test reports List-Unsubscribe: , List-Archive: List-Post: List-Help: List-Subscribe: , Errors-To: test-report-bounces@dpdk.org Test-Label: iol-sample-apps-testing Test-Status: SUCCESS http://dpdk.org/patch/153309 _Testing PASS_ Submitter: Luca Vizzarro Date: Tuesday, May 06 2025 13:16:05 DPDK git baseline: Repo:dpdk Branch: master CommitID:1aef42bc97a31906486c9d66b792208948af06f3 153309 --> testing pass Upstream job id: ACVP-FIPS-testing#9744 Test environment and result as below: +--------------------+----------------------+----------------------+ | Environment | compressdev_zlib_pmd | dpdk_fips_validation | +====================+======================+======================+ | Ubuntu 22.04 (ARM) | PASS | SKIPPED | +--------------------+----------------------+----------------------+ | Ubuntu 22.04 | PASS | SKIPPED | +--------------------+----------------------+----------------------+ | Ubuntu 20.04 | SKIPPED | PASS | +--------------------+----------------------+----------------------+ Ubuntu 22.04 (ARM) Kernel: 5.15.0-97-generic Compiler: gcc gcc (Ubuntu 11.4.0-1ubuntu1~22.04) 11.4.0 Ubuntu 22.04 Kernel: 5.15.0-100-generic Compiler: gcc gcc (Ubuntu 11.4.0-1ubuntu1~22.04) 11.4.0 Ubuntu 20.04 Kernel: Depends on container host Compiler: gcc (Ubuntu 9.4.0-1ubuntu1~20.04.2) 9.4.0 To view detailed results, visit: https://lab.dpdk.org/results/dashboard/patchsets/33121/ UNH-IOL DPDK Community Lab To manage your email subscriptions, visit: https://lab.dpdk.org/results/dashboard/preferences/subscriptions/