From mboxrd@z Thu Jan 1 00:00:00 1970 Return-Path: Received: from mails.dpdk.org (mails.dpdk.org [217.70.189.124]) by inbox.dpdk.org (Postfix) with ESMTP id 63CA0466EC for ; Thu, 8 May 2025 01:54:09 +0200 (CEST) Received: from mails.dpdk.org (localhost [127.0.0.1]) by mails.dpdk.org (Postfix) with ESMTP id 40F9A4025A; Thu, 8 May 2025 01:54:09 +0200 (CEST) Received: from mail-pf1-f227.google.com (mail-pf1-f227.google.com [209.85.210.227]) by mails.dpdk.org (Postfix) with ESMTP id 925E34014F for ; Thu, 8 May 2025 01:54:07 +0200 (CEST) Received: by mail-pf1-f227.google.com with SMTP id d2e1a72fcca58-736b98acaadso478646b3a.1 for ; Wed, 07 May 2025 16:54:07 -0700 (PDT) DKIM-Signature: v=1; a=rsa-sha256; c=relaxed/relaxed; d=iol.unh.edu; s=unh-iol; t=1746662046; x=1747266846; darn=dpdk.org; h=references:in-reply-to:cc:to:from:subject:message-id:date:from:to :cc:subject:date:message-id:reply-to; bh=zCDebefHsZiyulUSwgI2L1jMo9jkkT8IHdCGo7bIIEU=; b=YjkFtiDLV4S1k/xb/EYBW+cXACh8wLAn508L4i6VhtR5MLZsgGrfoCBS9eyCBTTRsA ipk4IesmtI4Degkh/4kinJahFgIphV7yUVLYvA2l6Dn5qZRe/b2+hxzYhPxKYOBE3++m 9vycq2dVx7Uz+wyAAekQJFGQQQo8lBFQGwhbI= X-Google-DKIM-Signature: v=1; a=rsa-sha256; c=relaxed/relaxed; d=1e100.net; s=20230601; t=1746662046; x=1747266846; h=references:in-reply-to:cc:to:from:subject:message-id:date :x-gm-message-state:from:to:cc:subject:date:message-id:reply-to; bh=zCDebefHsZiyulUSwgI2L1jMo9jkkT8IHdCGo7bIIEU=; b=T2eu1723UhTXqS8AzDKwuHrubok6bUh2eg00ohE6c5K/qlamRqo37v8n8OSnY/Ka/4 WWT3fO2baSkQY7Q+vRJUMOYuMa+HQPtkApYuCRN+69ARS+AvHAxZEIFc8Px0ucDmdPDc 56oj4K7NOCeFmLZMLzZgzLKB9rLJxJSvhckhZl/vUluLYOFRIdvjJsEHksnp03wjus/2 BixUaAGqo1rX0Y3vaw8lMy2qkpcRQpF2Mlc26RhH3Rf3RoPxKQoiu15ltwGaqiSQmLVR daN7F9hE4pBEWAvgaJWtQ4uSoTJ6/KsldINM7NsLdYvhNzb7SvZpAHEbpiaR1yn6X2wV EwgQ== X-Gm-Message-State: AOJu0Yw3D9xHZJqVr6Smj2s0WrCZXKI7ETdnVk4p0RQimW9kKcZODlX3 LcODfJTF8bYRgFLA2qcOPRQYhHAG/vZwUMiYpjDNOAtdXRDIyhwKDKXx4/exCJbrj3R8M4r5vdR 8c2D62axBWgVDoa0d61v4l/zoGbtENwh7ARwoTiGx10Fog2Qhm06yG+Ay X-Gm-Gg: ASbGncvj/e/NQQYevvJ4Pf/znsTUmgq0lCAaz7HeHe3igL/FXwJP/1ReLKj5/C64LmJ 4VKso2df9nFREE8gmX+pDdIWd0rHOH0OgOfSccd0MlN90ptHqL2e+a9K5HcLqYNsot6sgx9oHpd v2Y8uH+vB6mFeeDSwsC4cKeSg0OjVIm/T5N9HkfBK+IvNb1tnX2G6FAv6i+IRyQQd+b3zjcFryI TrotF8gqEQsPYOCJ757jTRhrHXoK7/lZ7DMtMg1obPAshRdbhVzK7oGgxnWDtWY4MZFykLAdWwn HeYo2iLsz2LEMP2a8g1jLn90rPFgHVEqPn2t X-Google-Smtp-Source: AGHT+IEnnYpUXuAyC+WvD1EGaUGXG9j6B4PwakpvvKIRVciJwTitl7o12HwQJvzJjwXl9npPiHCBZwsZrEMV X-Received: by 2002:a05:6a00:410c:b0:736:a540:c9ad with SMTP id d2e1a72fcca58-7409cfdbdddmr7356398b3a.20.1746662046599; Wed, 07 May 2025 16:54:06 -0700 (PDT) Received: from postal.iol.unh.edu (postal.iol.unh.edu. [2606:4100:3880:1234::84]) by smtp-relay.gmail.com with ESMTPS id d2e1a72fcca58-74058dc711asm2267351b3a.10.2025.05.07.16.54.06 (version=TLS1_2 cipher=ECDHE-ECDSA-AES128-GCM-SHA256 bits=128/128); Wed, 07 May 2025 16:54:06 -0700 (PDT) X-Relaying-Domain: iol.unh.edu Date: Wed, 07 May 2025 16:54:06 -0700 (PDT) Message-ID: <681bf29e.050a0220.39936c.284fSMTPIN_ADDED_MISSING@mx.google.com> Received: from [172.17.0.2] (unknown [172.18.0.74]) by postal.iol.unh.edu (Postfix) with ESMTP id B91716052471; Wed, 7 May 2025 19:54:05 -0400 (EDT) Subject: |SUCCESS| pw153307-153308 [PATCH] [v2,2/2] app/testpmd: add sleep co From: dpdklab@iol.unh.edu To: Test Report Cc: dpdk-test-reports@iol.unh.edu In-Reply-To: References: Content-Type: text/plain X-BeenThere: test-report@dpdk.org X-Mailman-Version: 2.1.29 Precedence: list List-Id: automatic DPDK test reports List-Unsubscribe: , List-Archive: List-Post: List-Help: List-Subscribe: , Errors-To: test-report-bounces@dpdk.org Test-Label: iol-sample-apps-testing Test-Status: SUCCESS http://dpdk.org/patch/153308 _Testing PASS_ Submitter: Anatoly Burakov Date: Tuesday, May 06 2025 13:08:19 DPDK git baseline: Repo:dpdk Branch: master CommitID:ff05ee3e3f8fb4ce958a2ce6461e8141aea959c6 153307-153308 --> testing pass Upstream job id: ACVP-FIPS-testing#9746 Test environment and result as below: +--------------------+----------------------+----------------------+ | Environment | compressdev_zlib_pmd | dpdk_fips_validation | +====================+======================+======================+ | Ubuntu 22.04 (ARM) | PASS | SKIPPED | +--------------------+----------------------+----------------------+ | Ubuntu 22.04 | PASS | SKIPPED | +--------------------+----------------------+----------------------+ | Ubuntu 20.04 | SKIPPED | PASS | +--------------------+----------------------+----------------------+ Ubuntu 22.04 (ARM) Kernel: 5.15.0-97-generic Compiler: gcc gcc (Ubuntu 11.4.0-1ubuntu1~22.04) 11.4.0 Ubuntu 22.04 Kernel: 5.15.0-100-generic Compiler: gcc gcc (Ubuntu 11.4.0-1ubuntu1~22.04) 11.4.0 Ubuntu 20.04 Kernel: Depends on container host Compiler: gcc (Ubuntu 9.4.0-1ubuntu1~20.04.2) 9.4.0 To view detailed results, visit: https://lab.dpdk.org/results/dashboard/patchsets/33120/ UNH-IOL DPDK Community Lab To manage your email subscriptions, visit: https://lab.dpdk.org/results/dashboard/preferences/subscriptions/