From mboxrd@z Thu Jan 1 00:00:00 1970 Return-Path: Received: from mails.dpdk.org (mails.dpdk.org [217.70.189.124]) by inbox.dpdk.org (Postfix) with ESMTP id 6696D466ED for ; Thu, 8 May 2025 02:24:39 +0200 (CEST) Received: from mails.dpdk.org (localhost [127.0.0.1]) by mails.dpdk.org (Postfix) with ESMTP id 621164025D; Thu, 8 May 2025 02:24:39 +0200 (CEST) Received: from mail-io1-f97.google.com (mail-io1-f97.google.com [209.85.166.97]) by mails.dpdk.org (Postfix) with ESMTP id 98FB34014F for ; Thu, 8 May 2025 02:24:38 +0200 (CEST) Received: by mail-io1-f97.google.com with SMTP id ca18e2360f4ac-85b3f92c8dfso12002539f.2 for ; Wed, 07 May 2025 17:24:38 -0700 (PDT) DKIM-Signature: v=1; a=rsa-sha256; c=relaxed/relaxed; d=iol.unh.edu; s=unh-iol; t=1746663878; x=1747268678; darn=dpdk.org; h=cc:to:from:subject:message-id:date:from:to:cc:subject:date :message-id:reply-to; bh=wu5H+F+DcPip7f7sVLLBF2RC2xxq4ExUwXy7f7ZT1Gk=; b=O6lReNZQu2keQU7JFpanKTufJQ7xAXzauPgVMYivaY42doeX6ZLDxWbEwx+ehAkuYR 7bBrcWmSIfRHkmKnuNR4714zqZTrdh2YhaXOEoAOOONFBQYgCoPHTggmn5sWyzvMjcXs bpyQoiMdl0ZxJtKWMKIg2pYPffY6ramXoaKLo= X-Google-DKIM-Signature: v=1; a=rsa-sha256; c=relaxed/relaxed; d=1e100.net; s=20230601; t=1746663878; x=1747268678; h=cc:to:from:subject:message-id:date:x-gm-message-state:from:to:cc :subject:date:message-id:reply-to; bh=wu5H+F+DcPip7f7sVLLBF2RC2xxq4ExUwXy7f7ZT1Gk=; b=Kw7UsqOVlKXjky6J36mU6+RkGQDthNNPtxwPd1kYWXOPA+D9WQjTHZ9GKGw7ACMC26 /W3HO2mA4h5IQbwwIgos0cJt6VzzLjJyPmjMd3fRiDZJNXGPro9XYF+Ac0eCZHJxRWWv iZkXSLUtdl8YaPiG0nEGAxS4nCYoDxzR+3LKEHwxOp1hJUNSgCnNTkOQ2Majzw3dLcN/ uOMTbo9PD/vbJVgZZFC0hNQv1W45QxUcV5oqGRiUHlg4Ev5GwWBrYYRW5+ZGI2+MKz8Z DigVbSml0amhAALVjvHAxIO/QXonAwC+6j7lnRAqzE+DtpPr3hioDj2T4uxuC3o1+Da/ /q6w== X-Gm-Message-State: AOJu0YwSRXOoBgE7sDEmji1zW+PnFR/xiAhucxzqgOJBwRQDAdqhd4Oj g7Q81ze97ZXTvoIeXut/FIWTNeM/FlyPJYcT572Wg048mLf7DdcJBFPjc20nQMc6OSSJ9b6nuPs ic9H5HLhkc9rpX6yG8J8IUK438p6GCnXF7NeaHeDc4qjSs4nAJdF+QbCg X-Gm-Gg: ASbGncvwrvh3XZXZjkd+M+LYgFw7Vpo67G3R3z+VrGwHkuKvxxSl/pK/KckjYylJEKb Vt3+a4KdlKMpn1kcFXNwKw1aowL6KT+MqhNdfXX3tIPCbYvMed7/TvJmAH2sBtWf1yx0a9jJ1Tw i0fBrXu8fr0nDBySz5TCzvzEWKZQWnZ+EuEnfQ+pjMMlXBHTSBuIFX4tBnzY5fzi/36McUFyJFu JEQF/5f94p1YZJnfkUTp3J90kHp1rlqc6xCvuzM05A2GFj6GXR09xzMwhLNRqtO2vY1z/Fumoi9 CBjlDfhJtP+2ENHa5v+VOu/TV0hIjhbZ29t1 X-Google-Smtp-Source: AGHT+IGScDD4skwsFYxdRbfgWGbJdrxB6ruNx/oLm/zCZr0nRcfmx1xnoEwR0vCs9K8OdgRhO9WeAig6PN7e X-Received: by 2002:a05:6e02:32c6:b0:3d9:65b6:d4db with SMTP id e9e14a558f8ab-3da78566de0mr23212625ab.12.1746663877855; Wed, 07 May 2025 17:24:37 -0700 (PDT) Received: from postal.iol.unh.edu (postal.iol.unh.edu. [2606:4100:3880:1234::84]) by smtp-relay.gmail.com with ESMTPS id 8926c6da1cb9f-4f88a9149b8sm2199832173.25.2025.05.07.17.24.37 (version=TLS1_2 cipher=ECDHE-ECDSA-AES128-GCM-SHA256 bits=128/128); Wed, 07 May 2025 17:24:37 -0700 (PDT) X-Relaying-Domain: iol.unh.edu Date: Wed, 07 May 2025 17:24:37 -0700 (PDT) Message-ID: <681bf9c5.050a0220.131896.eda5SMTPIN_ADDED_MISSING@mx.google.com> Received: from [172.21.0.6] (unknown [172.18.0.240]) by postal.iol.unh.edu (Postfix) with ESMTP id 431F56052471; Wed, 7 May 2025 20:24:37 -0400 (EDT) Subject: |SUCCESS| [GIT MASTER] 7cf0355db9fdab5648b05fd787356c391c510534 From: dpdklab@iol.unh.edu To: Test Report Cc: dpdk-test-reports@iol.unh.edu, Bruce Richardson Content-Type: text/plain X-BeenThere: test-report@dpdk.org X-Mailman-Version: 2.1.29 Precedence: list List-Id: automatic DPDK test reports List-Unsubscribe: , List-Archive: List-Post: List-Help: List-Subscribe: , Errors-To: test-report-bounces@dpdk.org _Testing PASS_ Branch: dpdk-next-net-intel 7cf0355db9fdab5648b05fd787356c391c510534 --> testing pass Upstream job id: ACVP-FIPS-testing#9747 Test environment and result as below: +--------------------+----------------------+----------------------+ | Environment | compressdev_zlib_pmd | dpdk_fips_validation | +====================+======================+======================+ | Ubuntu 22.04 (ARM) | PASS | SKIPPED | +--------------------+----------------------+----------------------+ | Ubuntu 22.04 | PASS | SKIPPED | +--------------------+----------------------+----------------------+ | Ubuntu 20.04 | SKIPPED | PASS | +--------------------+----------------------+----------------------+ Ubuntu 22.04 (ARM) Kernel: 5.15.0-97-generic Compiler: gcc gcc (Ubuntu 11.4.0-1ubuntu1~22.04) 11.4.0 Ubuntu 22.04 Kernel: 5.15.0-100-generic Compiler: gcc gcc (Ubuntu 11.4.0-1ubuntu1~22.04) 11.4.0 Ubuntu 20.04 Kernel: Depends on container host Compiler: gcc (Ubuntu 9.4.0-1ubuntu1~20.04.2) 9.4.0 To view detailed results, visit: https://lab.dpdk.org/results/dashboard/tarballs/33467/ UNH-IOL DPDK Community Lab To manage your email subscriptions, visit: https://lab.dpdk.org/results/dashboard/preferences/subscriptions/